BEGIN:VCALENDAR
VERSION:2.0
PRODID:-//Theater Alte Feuerwache e. V. - ECPv6.15.19//NONSGML v1.0//EN
CALSCALE:GREGORIAN
METHOD:PUBLISH
X-ORIGINAL-URL:https://taf.theater
X-WR-CALDESC:Veranstaltungen für Theater Alte Feuerwache e. V.
REFRESH-INTERVAL;VALUE=DURATION:PT1H
X-Robots-Tag:noindex
X-PUBLISHED-TTL:PT1H
BEGIN:VTIMEZONE
TZID:Europe/Berlin
BEGIN:DAYLIGHT
TZOFFSETFROM:+0100
TZOFFSETTO:+0200
TZNAME:CEST
DTSTART:20220327T010000
END:DAYLIGHT
BEGIN:STANDARD
TZOFFSETFROM:+0200
TZOFFSETTO:+0100
TZNAME:CET
DTSTART:20221030T010000
END:STANDARD
BEGIN:DAYLIGHT
TZOFFSETFROM:+0100
TZOFFSETTO:+0200
TZNAME:CEST
DTSTART:20230326T010000
END:DAYLIGHT
BEGIN:STANDARD
TZOFFSETFROM:+0200
TZOFFSETTO:+0100
TZNAME:CET
DTSTART:20231029T010000
END:STANDARD
BEGIN:DAYLIGHT
TZOFFSETFROM:+0100
TZOFFSETTO:+0200
TZNAME:CEST
DTSTART:20240331T010000
END:DAYLIGHT
BEGIN:STANDARD
TZOFFSETFROM:+0200
TZOFFSETTO:+0100
TZNAME:CET
DTSTART:20241027T010000
END:STANDARD
BEGIN:DAYLIGHT
TZOFFSETFROM:+0100
TZOFFSETTO:+0200
TZNAME:CEST
DTSTART:20250330T010000
END:DAYLIGHT
BEGIN:STANDARD
TZOFFSETFROM:+0200
TZOFFSETTO:+0100
TZNAME:CET
DTSTART:20251026T010000
END:STANDARD
END:VTIMEZONE
BEGIN:VEVENT
DTSTART;TZID=Europe/Berlin:20240310T180000
DTEND;TZID=Europe/Berlin:20240310T203000
DTSTAMP:20260424T205328
CREATED:20240122T172823Z
LAST-MODIFIED:20240304T192601Z
UID:10001165-1710093600-1710102600@taf.theater
SUMMARY:Wunderland
DESCRIPTION:Wo kommen wir her\, wo gehen wir hin? Und wo kommen wir an\, wenn die Tradition uns leitet? Diesen Gretchenfragen rechter Identitätspolitik wollen wir uns in Wunderland neu nähern. Angesichts des Vormarschs rechter Erzählungen wenden wir den Blick von wöchentlichen Sonntagsfragen zurück in jene Vergangenheit\, der wir die Gegenwart verdanken. Welche Geschichten hätten wir lieber nicht hegen und pflegen sollen\, wenn unser gutdeutsches Bekenntnis zum „Nie Wieder“ Bestand haben soll? Und wie prägen diese Erzählungen unsere Selbst- und Weltbilder noch heute? \nUnter Regie von Pia Nußbaum und unterstützt von Live-Musik und Video-Projektionen pflügt sich ein 14-köpfiges Ensemble mit den Mitteln des modernen Regietheaters durch die Textwüsten\, die unsere Vorväter uns hinterlassen haben\, um darauf aufzubauen. Immer auf der Suche nach dem Fluchtpunkt auf den sich unsere abendländische Kulturgeschichte zuzubewegen scheint.
URL:https://taf.theater/termin/taf-wunderland-4/2024-03-10/
LOCATION:Großer Saal in der Trinkkuranlage\, Ernst-Ludwig-Ring 1\, Bad Nauheim\, Hessen\, 61231\, Deutschland
CATEGORIES:TAF-Veranstaltung
ATTACH;FMTTYPE=image/jpeg:https://taf.theater/wp-content/uploads/WUNDERLAND-Presse-55.jpg
ORGANIZER;CN="Theater Alte Feuerwache e. V.":MAILTO:info@taf.theater
END:VEVENT
BEGIN:VEVENT
DTSTART;TZID=Europe/Berlin:20240309T190000
DTEND;TZID=Europe/Berlin:20240309T213000
DTSTAMP:20260424T205328
CREATED:20240122T172823Z
LAST-MODIFIED:20240304T192601Z
UID:10001164-1710010800-1710019800@taf.theater
SUMMARY:Wunderland
DESCRIPTION:Wo kommen wir her\, wo gehen wir hin? Und wo kommen wir an\, wenn die Tradition uns leitet? Diesen Gretchenfragen rechter Identitätspolitik wollen wir uns in Wunderland neu nähern. Angesichts des Vormarschs rechter Erzählungen wenden wir den Blick von wöchentlichen Sonntagsfragen zurück in jene Vergangenheit\, der wir die Gegenwart verdanken. Welche Geschichten hätten wir lieber nicht hegen und pflegen sollen\, wenn unser gutdeutsches Bekenntnis zum „Nie Wieder“ Bestand haben soll? Und wie prägen diese Erzählungen unsere Selbst- und Weltbilder noch heute? \nUnter Regie von Pia Nußbaum und unterstützt von Live-Musik und Video-Projektionen pflügt sich ein 14-köpfiges Ensemble mit den Mitteln des modernen Regietheaters durch die Textwüsten\, die unsere Vorväter uns hinterlassen haben\, um darauf aufzubauen. Immer auf der Suche nach dem Fluchtpunkt auf den sich unsere abendländische Kulturgeschichte zuzubewegen scheint.
URL:https://taf.theater/termin/taf-wunderland-4/2024-03-09/
LOCATION:Großer Saal in der Trinkkuranlage\, Ernst-Ludwig-Ring 1\, Bad Nauheim\, Hessen\, 61231\, Deutschland
CATEGORIES:TAF-Veranstaltung
ATTACH;FMTTYPE=image/jpeg:https://taf.theater/wp-content/uploads/WUNDERLAND-Presse-55.jpg
ORGANIZER;CN="Theater Alte Feuerwache e. V.":MAILTO:info@taf.theater
END:VEVENT
BEGIN:VEVENT
DTSTART;TZID=Europe/Berlin:20231111T190000
DTEND;TZID=Europe/Berlin:20231111T213000
DTSTAMP:20260424T205328
CREATED:20231023T161847Z
LAST-MODIFIED:20231109T142206Z
UID:10001145-1699729200-1699738200@taf.theater
SUMMARY:Wunderland - VORSTELLUNG ENTFÄLLT
DESCRIPTION:Die Vorstellungen von “Wunderland” am 10. und 11.11. müssen leider krankheitsbedingt entfallen!\nEs sind Ersatzvorstellungen geplant und die Karten behalten ihre Gültigkeit. \nWeitere Informationen folgen in Kürze auf diese Seite und per E-Mail. \nDas TAF steht auch persönlich am Freitag\, den 10.11. von 19:30 Uhr bis 20:00 Uhr und am Samstag\, den 11.11. von 18:30 Uhr bis 19:00 Uhr im Foyer des Großen Saals der Trinkkuranlage in Bad Nauheim zur Verfügung. \n\nWo kommen wir her\, wo gehen wir hin? Und wo kommen wir an\, wenn die Tradition uns leitet? Diesen Gretchenfragen rechter Identitätspolitik wollen wir uns in Wunderland neu nähern. Angesichts des Vormarschs rechter Erzählungen wenden wir den Blick von wöchentlichen Sonntagsfragen zurück in jene Vergangenheit\, der wir die Gegenwart verdanken. Welche Geschichten hätten wir lieber nicht hegen und pflegen sollen\, wenn unser gutdeutsches Bekenntnis zum „Nie Wieder“ Bestand haben soll? Und wie prägen diese Erzählungen unsere Selbst- und Weltbilder noch heute? \nUnter Regie von Pia Nußbaum und unterstützt von Live-Musik und Video-Projektionen pflügt sich ein 14-köpfiges Ensemble mit den Mitteln des modernen Regietheaters durch die Textwüsten\, die unsere Vorväter uns hinterlassen haben\, um darauf aufzubauen. Immer auf der Suche nach dem Fluchtpunkt auf den sich unsere abendländische Kulturgeschichte zuzubewegen scheint.
URL:https://taf.theater/termin/taf-wunderland-3/2023-11-11/
LOCATION:Großer Saal in der Trinkkuranlage\, Ernst-Ludwig-Ring 1\, Bad Nauheim\, Hessen\, 61231\, Deutschland
CATEGORIES:TAF-Veranstaltung
ATTACH;FMTTYPE=image/jpeg:https://taf.theater/wp-content/uploads/WUNDERLAND-Presse-55.jpg
ORGANIZER;CN="Theater Alte Feuerwache e. V.":MAILTO:info@taf.theater
END:VEVENT
BEGIN:VEVENT
DTSTART;TZID=Europe/Berlin:20231110T200000
DTEND;TZID=Europe/Berlin:20231110T223000
DTSTAMP:20260424T205328
CREATED:20231023T161847Z
LAST-MODIFIED:20231109T142206Z
UID:10001146-1699646400-1699655400@taf.theater
SUMMARY:Wunderland - VORSTELLUNG ENTFÄLLT
DESCRIPTION:Die Vorstellungen von “Wunderland” am 10. und 11.11. müssen leider krankheitsbedingt entfallen!\nEs sind Ersatzvorstellungen geplant und die Karten behalten ihre Gültigkeit. \nWeitere Informationen folgen in Kürze auf diese Seite und per E-Mail. \nDas TAF steht auch persönlich am Freitag\, den 10.11. von 19:30 Uhr bis 20:00 Uhr und am Samstag\, den 11.11. von 18:30 Uhr bis 19:00 Uhr im Foyer des Großen Saals der Trinkkuranlage in Bad Nauheim zur Verfügung. \n\nWo kommen wir her\, wo gehen wir hin? Und wo kommen wir an\, wenn die Tradition uns leitet? Diesen Gretchenfragen rechter Identitätspolitik wollen wir uns in Wunderland neu nähern. Angesichts des Vormarschs rechter Erzählungen wenden wir den Blick von wöchentlichen Sonntagsfragen zurück in jene Vergangenheit\, der wir die Gegenwart verdanken. Welche Geschichten hätten wir lieber nicht hegen und pflegen sollen\, wenn unser gutdeutsches Bekenntnis zum „Nie Wieder“ Bestand haben soll? Und wie prägen diese Erzählungen unsere Selbst- und Weltbilder noch heute? \nUnter Regie von Pia Nußbaum und unterstützt von Live-Musik und Video-Projektionen pflügt sich ein 14-köpfiges Ensemble mit den Mitteln des modernen Regietheaters durch die Textwüsten\, die unsere Vorväter uns hinterlassen haben\, um darauf aufzubauen. Immer auf der Suche nach dem Fluchtpunkt auf den sich unsere abendländische Kulturgeschichte zuzubewegen scheint.
URL:https://taf.theater/termin/taf-wunderland-3/2023-11-10/
LOCATION:Großer Saal in der Trinkkuranlage\, Ernst-Ludwig-Ring 1\, Bad Nauheim\, Hessen\, 61231\, Deutschland
CATEGORIES:TAF-Veranstaltung
ATTACH;FMTTYPE=image/jpeg:https://taf.theater/wp-content/uploads/WUNDERLAND-Presse-55.jpg
ORGANIZER;CN="Theater Alte Feuerwache e. V.":MAILTO:info@taf.theater
END:VEVENT
BEGIN:VEVENT
DTSTART;TZID=Europe/Berlin:20231105T180000
DTEND;TZID=Europe/Berlin:20231105T203000
DTSTAMP:20260424T205328
CREATED:20231103T151507Z
LAST-MODIFIED:20231103T151537Z
UID:10001143-1699207200-1699216200@taf.theater
SUMMARY:Wunderland - VORSTELLUNG ENTFÄLLT
DESCRIPTION:Die Vorstellungen von “Wunderland” am 04. und 05.11.2023 müssen leider krankheitsbedingt entfallen. Eintrittskarten für den 04./05.11.2023 können für Vorstellungen von “Wunderland” am 10./11.11.2023 umgetauscht werden. Eine Rückerstattung des Kartenpreises ist ebenso möglich. Bitte wenden Sie sich dazu an vvk@taf.theater. Wir stehen auch persönlich am 04.11. von 18:30 Uhr bis 19:00 Uhr und am 05.11. von 17:30 Uhr bis 18:00 Uhr im Foyer des Großen Saals der Trinkkuranlage Bad Nauheim für den Umtausch der Karten oder der Rückerstattung des Kartenpreises zur Verfügung. \nWo kommen wir her\, wo gehen wir hin? Und wo kommen wir an\, wenn die Tradition uns leitet? Diesen Gretchenfragen rechter Identitätspolitik wollen wir uns in Wunderland neu nähern. Angesichts des Vormarschs rechter Erzählungen wenden wir den Blick von wöchentlichen Sonntagsfragen zurück in jene Vergangenheit\, der wir die Gegenwart verdanken. Welche Geschichten hätten wir lieber nicht hegen und pflegen sollen\, wenn unser gutdeutsches Bekenntnis zum „Nie Wieder“ Bestand haben soll? Und wie prägen diese Erzählungen unsere Selbst- und Weltbilder noch heute? \nUnter Regie von Pia Nußbaum und unterstützt von Live-Musik und Video-Projektionen pflügt sich ein 14-köpfiges Ensemble mit den Mitteln des modernen Regietheaters durch die Textwüsten\, die unsere Vorväter uns hinterlassen haben\, um darauf aufzubauen. Immer auf der Suche nach dem Fluchtpunkt auf den sich unsere abendländische Kulturgeschichte zuzubewegen scheint.
URL:https://taf.theater/termin/wunderland-2/
LOCATION:Großer Saal in der Trinkkuranlage\, Ernst-Ludwig-Ring 1\, Bad Nauheim\, Hessen\, 61231\, Deutschland
CATEGORIES:TAF-Veranstaltung
ATTACH;FMTTYPE=image/jpeg:https://taf.theater/wp-content/uploads/WUNDERLAND-Presse-55.jpg
ORGANIZER;CN="Theater Alte Feuerwache e. V.":MAILTO:info@taf.theater
END:VEVENT
BEGIN:VEVENT
DTSTART;TZID=Europe/Berlin:20231104T190000
DTEND;TZID=Europe/Berlin:20231104T213000
DTSTAMP:20260424T205328
CREATED:20231103T151420Z
LAST-MODIFIED:20231103T151457Z
UID:10001142-1699124400-1699133400@taf.theater
SUMMARY:Wunderland - VORSTELLUNG ENTFÄLLT
DESCRIPTION:Die Vorstellungen von “Wunderland” am 04. und 05.11.2023 müssen leider krankheitsbedingt entfallen. Eintrittskarten für den 04./05.11.2023 können für Vorstellungen von “Wunderland” am 10./11.11.2023 umgetauscht werden. Eine Rückerstattung des Kartenpreises ist ebenso möglich. Bitte wenden Sie sich dazu an vvk@taf.theater. Wir stehen auch persönlich am 04.11. von 18:30 Uhr bis 19:00 Uhr und am 05.11. von 17:30 Uhr bis 18:00 Uhr im Foyer des Großen Saals der Trinkkuranlage Bad Nauheim für den Umtausch der Karten oder der Rückerstattung des Kartenpreises zur Verfügung. \nWo kommen wir her\, wo gehen wir hin? Und wo kommen wir an\, wenn die Tradition uns leitet? Diesen Gretchenfragen rechter Identitätspolitik wollen wir uns in Wunderland neu nähern. Angesichts des Vormarschs rechter Erzählungen wenden wir den Blick von wöchentlichen Sonntagsfragen zurück in jene Vergangenheit\, der wir die Gegenwart verdanken. Welche Geschichten hätten wir lieber nicht hegen und pflegen sollen\, wenn unser gutdeutsches Bekenntnis zum „Nie Wieder“ Bestand haben soll? Und wie prägen diese Erzählungen unsere Selbst- und Weltbilder noch heute? \nUnter Regie von Pia Nußbaum und unterstützt von Live-Musik und Video-Projektionen pflügt sich ein 14-köpfiges Ensemble mit den Mitteln des modernen Regietheaters durch die Textwüsten\, die unsere Vorväter uns hinterlassen haben\, um darauf aufzubauen. Immer auf der Suche nach dem Fluchtpunkt auf den sich unsere abendländische Kulturgeschichte zuzubewegen scheint.
URL:https://taf.theater/termin/wunderland/
LOCATION:Großer Saal in der Trinkkuranlage\, Ernst-Ludwig-Ring 1\, Bad Nauheim\, Hessen\, 61231\, Deutschland
CATEGORIES:TAF-Veranstaltung
ATTACH;FMTTYPE=image/jpeg:https://taf.theater/wp-content/uploads/WUNDERLAND-Presse-55.jpg
ORGANIZER;CN="Theater Alte Feuerwache e. V.":MAILTO:info@taf.theater
END:VEVENT
BEGIN:VEVENT
DTSTART;TZID=Europe/Berlin:20231015T200000
DTEND;TZID=Europe/Berlin:20231015T223000
DTSTAMP:20260424T205328
CREATED:20230710T124911Z
LAST-MODIFIED:20240122T145528Z
UID:10001141-1697400000-1697409000@taf.theater
SUMMARY:Wunderland
DESCRIPTION:Wo kommen wir her\, wo gehen wir hin? Und wo kommen wir an\, wenn die Tradition uns leitet? Diesen Gretchenfragen rechter Identitätspolitik wollen wir uns in Wunderland neu nähern. Angesichts des Vormarschs rechter Erzählungen wenden wir den Blick von wöchentlichen Sonntagsfragen zurück in jene Vergangenheit\, der wir die Gegenwart verdanken. Welche Geschichten hätten wir lieber nicht hegen und pflegen sollen\, wenn unser gutdeutsches Bekenntnis zum „Nie Wieder“ Bestand haben soll? Und wie prägen diese Erzählungen unsere Selbst- und Weltbilder noch heute? \nUnter Regie von Pia Nußbaum und unterstützt von Live-Musik und Video-Projektionen pflügt sich ein 14-köpfiges Ensemble mit den Mitteln des modernen Regietheaters durch die Textwüsten\, die unsere Vorväter uns hinterlassen haben\, um darauf aufzubauen. Immer auf der Suche nach dem Fluchtpunkt auf den sich unsere abendländische Kulturgeschichte zuzubewegen scheint.
URL:https://taf.theater/termin/taf-wunderland/2023-10-15/
LOCATION:Großer Saal in der Trinkkuranlage\, Ernst-Ludwig-Ring 1\, Bad Nauheim\, Hessen\, 61231\, Deutschland
CATEGORIES:TAF-Veranstaltung
ATTACH;FMTTYPE=image/jpeg:https://taf.theater/wp-content/uploads/WUNDERLAND-Presse-55.jpg
ORGANIZER;CN="Theater Alte Feuerwache e. V.":MAILTO:info@taf.theater
END:VEVENT
BEGIN:VEVENT
DTSTART;TZID=Europe/Berlin:20231013T200000
DTEND;TZID=Europe/Berlin:20231013T223000
DTSTAMP:20260424T205328
CREATED:20230710T124911Z
LAST-MODIFIED:20240122T145528Z
UID:10001140-1697227200-1697236200@taf.theater
SUMMARY:Wunderland
DESCRIPTION:Wo kommen wir her\, wo gehen wir hin? Und wo kommen wir an\, wenn die Tradition uns leitet? Diesen Gretchenfragen rechter Identitätspolitik wollen wir uns in Wunderland neu nähern. Angesichts des Vormarschs rechter Erzählungen wenden wir den Blick von wöchentlichen Sonntagsfragen zurück in jene Vergangenheit\, der wir die Gegenwart verdanken. Welche Geschichten hätten wir lieber nicht hegen und pflegen sollen\, wenn unser gutdeutsches Bekenntnis zum „Nie Wieder“ Bestand haben soll? Und wie prägen diese Erzählungen unsere Selbst- und Weltbilder noch heute? \nUnter Regie von Pia Nußbaum und unterstützt von Live-Musik und Video-Projektionen pflügt sich ein 14-köpfiges Ensemble mit den Mitteln des modernen Regietheaters durch die Textwüsten\, die unsere Vorväter uns hinterlassen haben\, um darauf aufzubauen. Immer auf der Suche nach dem Fluchtpunkt auf den sich unsere abendländische Kulturgeschichte zuzubewegen scheint.
URL:https://taf.theater/termin/taf-wunderland/2023-10-13/
LOCATION:Großer Saal in der Trinkkuranlage\, Ernst-Ludwig-Ring 1\, Bad Nauheim\, Hessen\, 61231\, Deutschland
CATEGORIES:TAF-Veranstaltung
ATTACH;FMTTYPE=image/jpeg:https://taf.theater/wp-content/uploads/WUNDERLAND-Presse-55.jpg
ORGANIZER;CN="Theater Alte Feuerwache e. V.":MAILTO:info@taf.theater
END:VEVENT
BEGIN:VEVENT
DTSTART;TZID=Europe/Berlin:20231007T190000
DTEND;TZID=Europe/Berlin:20231007T220000
DTSTAMP:20260424T205328
CREATED:20230918T114011Z
LAST-MODIFIED:20230918T114426Z
UID:10001139-1696705200-1696716000@taf.theater
SUMMARY:Wunderland
DESCRIPTION:Wo kommen wir her\, wo gehen wir hin? Und wo kommen wir an\, wenn die Tradition uns leitet? Diesen Gretchenfragen rechter Identitätspolitik wollen wir uns in Wunderland neu nähern. Angesichts des Vormarschs rechter Erzählungen wenden wir den Blick von wöchentlichen Sonntagsfragen zurück in jene Vergangenheit\, der wir die Gegenwart verdanken. Welche Geschichten hätten wir lieber nicht hegen und pflegen sollen\, wenn unser gutdeutsches Bekenntnis zum „Nie Wieder“ Bestand haben soll? Und wie prägen diese Erzählungen unsere Selbst- und Weltbilder noch heute? \nUnter Regie von Pia Nußbaum und unterstützt von Live-Musik und Video-Projektionen pflügt sich ein 14-köpfiges Ensemble mit den Mitteln des modernen Regietheaters durch die Textwüsten\, die unsere Vorväter uns hinterlassen haben\, um darauf aufzubauen. Immer auf der Suche nach dem Fluchtpunkt auf den sich unsere abendländische Kulturgeschichte zuzubewegen scheint.
URL:https://taf.theater/termin/taf-wunderland-2/
LOCATION:Großer Saal in der Trinkkuranlage\, Ernst-Ludwig-Ring 1\, Bad Nauheim\, Hessen\, 61231\, Deutschland
CATEGORIES:TAF-Veranstaltung
ATTACH;FMTTYPE=image/jpeg:https://taf.theater/wp-content/uploads/WUNDERLAND-Presse-55.jpg
ORGANIZER;CN="Theater Alte Feuerwache e. V.":MAILTO:info@taf.theater
END:VEVENT
END:VCALENDAR