BEGIN:VCALENDAR
VERSION:2.0
PRODID:-//Theater Alte Feuerwache e. V. - ECPv6.15.19//NONSGML v1.0//EN
CALSCALE:GREGORIAN
METHOD:PUBLISH
X-WR-CALNAME:Theater Alte Feuerwache e. V.
X-ORIGINAL-URL:https://taf.theater
X-WR-CALDESC:Veranstaltungen für Theater Alte Feuerwache e. V.
REFRESH-INTERVAL;VALUE=DURATION:PT1H
X-Robots-Tag:noindex
X-PUBLISHED-TTL:PT1H
BEGIN:VTIMEZONE
TZID:Europe/Berlin
BEGIN:DAYLIGHT
TZOFFSETFROM:+0100
TZOFFSETTO:+0200
TZNAME:CEST
DTSTART:20240331T010000
END:DAYLIGHT
BEGIN:STANDARD
TZOFFSETFROM:+0200
TZOFFSETTO:+0100
TZNAME:CET
DTSTART:20241027T010000
END:STANDARD
BEGIN:DAYLIGHT
TZOFFSETFROM:+0100
TZOFFSETTO:+0200
TZNAME:CEST
DTSTART:20250330T010000
END:DAYLIGHT
BEGIN:STANDARD
TZOFFSETFROM:+0200
TZOFFSETTO:+0100
TZNAME:CET
DTSTART:20251026T010000
END:STANDARD
BEGIN:DAYLIGHT
TZOFFSETFROM:+0100
TZOFFSETTO:+0200
TZNAME:CEST
DTSTART:20260329T010000
END:DAYLIGHT
BEGIN:STANDARD
TZOFFSETFROM:+0200
TZOFFSETTO:+0100
TZNAME:CET
DTSTART:20261025T010000
END:STANDARD
END:VTIMEZONE
BEGIN:VEVENT
DTSTART;TZID=Europe/Berlin:20250929T193000
DTEND;TZID=Europe/Berlin:20250929T220000
DTSTAMP:20260424T121241
CREATED:20241205T065946Z
LAST-MODIFIED:20241205T065946Z
UID:10001278-1759174200-1759183200@taf.theater
SUMMARY:TAF Vorstandssitzung [intern]
DESCRIPTION:
URL:https://taf.theater/termin/taf-vorstandssitzung-intern-9/
LOCATION:Muschelsaal in der Trinkkuranlage\, Ernst-Ludwig-Ring 1\, Bad Nauheim\, 61231\, Deutschland
CATEGORIES:TAF-Veranstaltung
ORGANIZER;CN="Theater Alte Feuerwache e. V.":MAILTO:info@taf.theater
END:VEVENT
BEGIN:VEVENT
DTSTART;TZID=Europe/Berlin:20250930T193000
DTEND;TZID=Europe/Berlin:20250930T220000
DTSTAMP:20260424T121241
CREATED:20220614T125845Z
LAST-MODIFIED:20260221T085735Z
UID:10001292-1759260600-1759269600@taf.theater
SUMMARY:TAF-Plenum
DESCRIPTION:Interessierte und TAF-Mitglieder treffen sich zum Plaudern und Informationsaustausch in der Trinkkuranlage. \nAlle sind willkommen. Gerne vorab Bescheid geben unter info(ät)taf.theater
URL:https://taf.theater/termin/taf-plenum-8/2025-09-30/
LOCATION:Kleiner Saal in der Trinkkuranlage\, Ernst-Ludwig-Ring 1\, Bad Nauheim\, 61231
ORGANIZER;CN="Theater Alte Feuerwache e. V.":MAILTO:info@taf.theater
GEO:50.3629148;8.7410605
X-APPLE-STRUCTURED-LOCATION;VALUE=URI;X-ADDRESS=Kleiner Saal in der Trinkkuranlage Ernst-Ludwig-Ring 1 Bad Nauheim 61231;X-APPLE-RADIUS=500;X-TITLE=Ernst-Ludwig-Ring 1:geo:8.7410605,50.3629148
END:VEVENT
END:VCALENDAR