BEGIN:VCALENDAR
VERSION:2.0
PRODID:-//Theater Alte Feuerwache e. V. - ECPv6.15.19//NONSGML v1.0//EN
CALSCALE:GREGORIAN
METHOD:PUBLISH
X-WR-CALNAME:Theater Alte Feuerwache e. V.
X-ORIGINAL-URL:https://taf.theater
X-WR-CALDESC:Veranstaltungen für Theater Alte Feuerwache e. V.
REFRESH-INTERVAL;VALUE=DURATION:PT1H
X-Robots-Tag:noindex
X-PUBLISHED-TTL:PT1H
BEGIN:VTIMEZONE
TZID:Europe/Berlin
BEGIN:DAYLIGHT
TZOFFSETFROM:+0100
TZOFFSETTO:+0200
TZNAME:CEST
DTSTART:20250330T010000
END:DAYLIGHT
BEGIN:STANDARD
TZOFFSETFROM:+0200
TZOFFSETTO:+0100
TZNAME:CET
DTSTART:20251026T010000
END:STANDARD
BEGIN:DAYLIGHT
TZOFFSETFROM:+0100
TZOFFSETTO:+0200
TZNAME:CEST
DTSTART:20260329T010000
END:DAYLIGHT
BEGIN:STANDARD
TZOFFSETFROM:+0200
TZOFFSETTO:+0100
TZNAME:CET
DTSTART:20261025T010000
END:STANDARD
BEGIN:DAYLIGHT
TZOFFSETFROM:+0100
TZOFFSETTO:+0200
TZNAME:CEST
DTSTART:20270328T010000
END:DAYLIGHT
BEGIN:STANDARD
TZOFFSETFROM:+0200
TZOFFSETTO:+0100
TZNAME:CET
DTSTART:20271031T010000
END:STANDARD
END:VTIMEZONE
BEGIN:VEVENT
DTSTART;TZID=Europe/Berlin:20260224T193000
DTEND;TZID=Europe/Berlin:20260224T220000
DTSTAMP:20260424T134116
CREATED:20220614T125845Z
LAST-MODIFIED:20260221T085735Z
UID:10001329-1771961400-1771970400@taf.theater
SUMMARY:TAF-Plenum
DESCRIPTION:Interessierte und TAF-Mitglieder treffen sich zum Plaudern und Informationsaustausch in der Trinkkuranlage. \nAlle sind willkommen. Gerne vorab Bescheid geben unter info(ät)taf.theater
URL:https://taf.theater/termin/taf-plenum-8/2026-02-24/
LOCATION:Kleiner Saal in der Trinkkuranlage\, Ernst-Ludwig-Ring 1\, Bad Nauheim\, 61231
ORGANIZER;CN="Theater Alte Feuerwache e. V.":MAILTO:info@taf.theater
GEO:50.3629148;8.7410605
X-APPLE-STRUCTURED-LOCATION;VALUE=URI;X-ADDRESS=Kleiner Saal in der Trinkkuranlage Ernst-Ludwig-Ring 1 Bad Nauheim 61231;X-APPLE-RADIUS=500;X-TITLE=Ernst-Ludwig-Ring 1:geo:8.7410605,50.3629148
END:VEVENT
BEGIN:VEVENT
DTSTART;TZID=Europe/Berlin:20260227T193000
DTEND;TZID=Europe/Berlin:20260227T213000
DTSTAMP:20260424T134116
CREATED:20251016T185038Z
LAST-MODIFIED:20260121T202856Z
UID:10001314-1772220600-1772227800@taf.theater
SUMMARY:Emilia Galotti - Keine Zeit zu sterben
DESCRIPTION:Der Klassiker von Gotthold Ephraim Lessing – sprachlich modernisiert\, gekürzt und mit neuen Texten ergänzt – findet seinen Weg auf die Bühne des TAF. Das Ensemble des Theater Alte Feuerwache zeigt Emilia Galotti in einer feministischen und zugleich humorvollen Fassung: \nAm Hochzeitstag wird Emilia im Auftrag des eitlen Prinzen entführt\, ihr Bräutigam ermordet – und in Lessings Original endet sie durch die Hand ihres eigenen Vaters. Doch hier schreibt das TAF-Ensemble die Geschichte neu: Emilia muss nicht sterben. Sie trifft auf die Ex-Geliebte des Prinzen\, entdeckt neue Seiten an ihrer Mutter und beginnt\, sich zweifelnd und fragend gegen Macht\, Moral und Geschlechterklischees zu behaupten. \nTrotz des ernsten Hintergrunds – Femizid\, Machtmissbrauch und patriarchale Strukturen – lädt die Inszenierung zum Lachen\, Denken und Diskutieren ein. Situationskomik und Rollenspiel verdeutlichen die Absurdität klassischer Stereotype und lassen den Schullektüren-Schreck zum unterhaltsamen Kammerspiel werden. \nDauer: ca. 110 Minuten\nOrt: Jugendhaus Alte Feuerwache\, Bad Nauheim \nKartenvorverkauf ab dem 01.11.2025 hier\, bei der Bad Nauheim Tourist Info und in allen Reservix-Vorverkaufsstellen.
URL:https://taf.theater/termin/emilia-galotti/2026-02-27/
LOCATION:Jugendhaus Alte Feuerwache\, Johannisstraße 5\, Bad Nauheim\, 61231\, Germany
CATEGORIES:TAF-Veranstaltung
ATTACH;FMTTYPE=image/webp:https://taf.theater/wp-content/uploads/21-Damen-alle-scaled.webp
ORGANIZER;CN="Theater Alte Feuerwache e. V.":MAILTO:info@taf.theater
END:VEVENT
BEGIN:VEVENT
DTSTART;TZID=Europe/Berlin:20260301T180000
DTEND;TZID=Europe/Berlin:20260301T200000
DTSTAMP:20260424T134116
CREATED:20251016T185038Z
LAST-MODIFIED:20260121T202856Z
UID:10001315-1772388000-1772395200@taf.theater
SUMMARY:Emilia Galotti - Keine Zeit zu sterben
DESCRIPTION:Der Klassiker von Gotthold Ephraim Lessing – sprachlich modernisiert\, gekürzt und mit neuen Texten ergänzt – findet seinen Weg auf die Bühne des TAF. Das Ensemble des Theater Alte Feuerwache zeigt Emilia Galotti in einer feministischen und zugleich humorvollen Fassung: \nAm Hochzeitstag wird Emilia im Auftrag des eitlen Prinzen entführt\, ihr Bräutigam ermordet – und in Lessings Original endet sie durch die Hand ihres eigenen Vaters. Doch hier schreibt das TAF-Ensemble die Geschichte neu: Emilia muss nicht sterben. Sie trifft auf die Ex-Geliebte des Prinzen\, entdeckt neue Seiten an ihrer Mutter und beginnt\, sich zweifelnd und fragend gegen Macht\, Moral und Geschlechterklischees zu behaupten. \nTrotz des ernsten Hintergrunds – Femizid\, Machtmissbrauch und patriarchale Strukturen – lädt die Inszenierung zum Lachen\, Denken und Diskutieren ein. Situationskomik und Rollenspiel verdeutlichen die Absurdität klassischer Stereotype und lassen den Schullektüren-Schreck zum unterhaltsamen Kammerspiel werden. \nDauer: ca. 110 Minuten\nOrt: Jugendhaus Alte Feuerwache\, Bad Nauheim \nKartenvorverkauf ab dem 01.11.2025 hier\, bei der Bad Nauheim Tourist Info und in allen Reservix-Vorverkaufsstellen.
URL:https://taf.theater/termin/emilia-galotti/2026-03-01/
LOCATION:Jugendhaus Alte Feuerwache\, Johannisstraße 5\, Bad Nauheim\, 61231\, Germany
CATEGORIES:TAF-Veranstaltung
ATTACH;FMTTYPE=image/webp:https://taf.theater/wp-content/uploads/21-Damen-alle-scaled.webp
ORGANIZER;CN="Theater Alte Feuerwache e. V.":MAILTO:info@taf.theater
END:VEVENT
END:VCALENDAR