BEGIN:VCALENDAR
VERSION:2.0
PRODID:-//Theater Alte Feuerwache e. V. - ECPv6.15.19//NONSGML v1.0//EN
CALSCALE:GREGORIAN
METHOD:PUBLISH
X-WR-CALNAME:Theater Alte Feuerwache e. V.
X-ORIGINAL-URL:https://taf.theater
X-WR-CALDESC:Veranstaltungen für Theater Alte Feuerwache e. V.
REFRESH-INTERVAL;VALUE=DURATION:PT1H
X-Robots-Tag:noindex
X-PUBLISHED-TTL:PT1H
BEGIN:VTIMEZONE
TZID:Europe/Berlin
BEGIN:DAYLIGHT
TZOFFSETFROM:+0100
TZOFFSETTO:+0200
TZNAME:CEST
DTSTART:20230326T010000
END:DAYLIGHT
BEGIN:STANDARD
TZOFFSETFROM:+0200
TZOFFSETTO:+0100
TZNAME:CET
DTSTART:20231029T010000
END:STANDARD
BEGIN:DAYLIGHT
TZOFFSETFROM:+0100
TZOFFSETTO:+0200
TZNAME:CEST
DTSTART:20240331T010000
END:DAYLIGHT
BEGIN:STANDARD
TZOFFSETFROM:+0200
TZOFFSETTO:+0100
TZNAME:CET
DTSTART:20241027T010000
END:STANDARD
BEGIN:DAYLIGHT
TZOFFSETFROM:+0100
TZOFFSETTO:+0200
TZNAME:CEST
DTSTART:20250330T010000
END:DAYLIGHT
BEGIN:STANDARD
TZOFFSETFROM:+0200
TZOFFSETTO:+0100
TZNAME:CET
DTSTART:20251026T010000
END:STANDARD
END:VTIMEZONE
BEGIN:VEVENT
DTSTART;TZID=Europe/Berlin:20240124T200000
DTEND;TZID=Europe/Berlin:20240124T220000
DTSTAMP:20260424T173135
CREATED:20240123T114546Z
LAST-MODIFIED:20240123T114546Z
UID:4676-1706126400-1706133600@taf.theater
SUMMARY:Bernd Gieseking: Ab dafür!
DESCRIPTION:Eine rasante Achterbahnfahrt durch die letzten zwölf Monate präsentiert Kabarettist und Bestsellerautor Bernd Gieseking im Rahmen der städtischen Kleinkunst-Reihe am 24. Januar in der Trinkkuranlage Bad Nauheim. Für die Show „Ab dafür! – der satirische Jahresrückblick“ sind noch Tickets erhältlich. \nBernd Gieseking\, Kabarettist und Autor\, ist ein begnadeter Geschichtenerzähler\, ein Meister des Humors. Er entdeckt scheinbare Petitessen und macht sie unvergessen. Politik\, Gesellschaft und Kultur\, die elektronischen Medien und die Tagespresse liefern immer wieder Stichworte für Sprachwitz und Komik\, für groteske Logik und verspielten Unsinn. Giesekings Jahresrückblick ist ein „Magic Cleaning“ für die Seele\, ein witziger Trost im Wahn der Zeiten. \nEintrittskarten für die Veranstaltung am 24. Januar um 20:00 Uhr in der Trinkkuranlage gibt es ab 19 Euro\, ermäßigt 17 Euro im Vorverkauf unter www.bad-nauheim.de/kleinkunst oder in der Tourist Information\, In den Kolonnaden 1\, Tel. (06 032) 92 992-0.
URL:https://taf.theater/termin/bernd-gieseking-ab-dafuer/
LOCATION:Großer Saal in der Trinkkuranlage\, Ernst-Ludwig-Ring 1\, Bad Nauheim\, Hessen\, 61231\, Deutschland
CATEGORIES:Kleinkunst-Reihe
ORGANIZER;CN="Fachdienst Kultur und Sport":MAILTO:kulturamt@bad-nauheim.de
END:VEVENT
END:VCALENDAR