BEGIN:VCALENDAR
VERSION:2.0
PRODID:-//Theater Alte Feuerwache e. V. - ECPv6.15.19//NONSGML v1.0//EN
CALSCALE:GREGORIAN
METHOD:PUBLISH
X-WR-CALNAME:Theater Alte Feuerwache e. V.
X-ORIGINAL-URL:https://taf.theater
X-WR-CALDESC:Veranstaltungen für Theater Alte Feuerwache e. V.
REFRESH-INTERVAL;VALUE=DURATION:PT1H
X-Robots-Tag:noindex
X-PUBLISHED-TTL:PT1H
BEGIN:VTIMEZONE
TZID:Europe/Berlin
BEGIN:DAYLIGHT
TZOFFSETFROM:+0100
TZOFFSETTO:+0200
TZNAME:CEST
DTSTART:20210328T010000
END:DAYLIGHT
BEGIN:STANDARD
TZOFFSETFROM:+0200
TZOFFSETTO:+0100
TZNAME:CET
DTSTART:20211031T010000
END:STANDARD
BEGIN:DAYLIGHT
TZOFFSETFROM:+0100
TZOFFSETTO:+0200
TZNAME:CEST
DTSTART:20220327T010000
END:DAYLIGHT
BEGIN:STANDARD
TZOFFSETFROM:+0200
TZOFFSETTO:+0100
TZNAME:CET
DTSTART:20221030T010000
END:STANDARD
BEGIN:DAYLIGHT
TZOFFSETFROM:+0100
TZOFFSETTO:+0200
TZNAME:CEST
DTSTART:20230326T010000
END:DAYLIGHT
BEGIN:STANDARD
TZOFFSETFROM:+0200
TZOFFSETTO:+0100
TZNAME:CET
DTSTART:20231029T010000
END:STANDARD
END:VTIMEZONE
BEGIN:VEVENT
DTSTART;TZID=Europe/Berlin:20220916T193000
DTEND;TZID=Europe/Berlin:20220916T220000
DTSTAMP:20260425T211310
CREATED:20220718T182748Z
LAST-MODIFIED:20220905T113530Z
UID:3137-1663356600-1663365600@taf.theater
SUMMARY:Comedy im großen Saal
DESCRIPTION:Comedy Veranstaltung \nJeder hat sie\, die kleinen oder großen Laster. Sie haben oft den Reiz des Verbotenen und\nsind sexy. Es sei denn\, es handelt sich um Putzwahn oder Philatelie.\nIn ihrem Programm dreht sich für Sia Korthaus alles um die Verlockungen des\nLebens und dass wir ruhig zu unseren kleinen Sünden stehen sollten.\nJeder kennt es\, dass die Wohnung viel sauberer ist\, wenn die Steuererklärung ansteht.\nNicht umsonst ist in dem Wort „Konfektionsgröße“ „Konfekt“ enthalten.\nWer trinkt nicht gerne Cocktails mit exotischen Namen\, bis er seinen eigenen Namen\nvergessen hat?\nSchon die weise Oma Emmi sagte: „Bewusstsein kann man nur entwickeln\, wenn man\ndas zwischendurch schon mal verloren hat.“\nSelbstverständlich gibt die hemmungslose Oma wieder hilfreiche Tipps\, wie es sich\nausschweifend leben lässt. Ihre sexuellen Eskapaden sind legendär. \nSia Korthaus macht Lust auf Laster\, denn sie kann diesbezüglich aus dem Nähkästchen\nplaudern und ein Lied davon singen und zwar nicht nur für Fernfahrer. \nEintritt ist frei.  Anmeldung ist erforderlich\, Kontaktdaten siehe Plakat-  \nVeranstalterin : \nevangelische Frauen\, Dekanat Wetterau\nFrauenbeauftragte der Stadt Bad Nauheim – Patricia Mayer
URL:https://taf.theater/termin/comedy-im-grossen-saal/
LOCATION:Großer Saal in der Trinkkuranlage\, Ernst-Ludwig-Ring 1\, Bad Nauheim\, Hessen\, 61231\, Deutschland
CATEGORIES:Sonstiges
ATTACH;FMTTYPE=image/jpeg:https://taf.theater/wp-content/uploads/Plakat-Sia-Korthaus_digital-002.jpg
END:VEVENT
END:VCALENDAR