BEGIN:VCALENDAR
VERSION:2.0
PRODID:-//Theater Alte Feuerwache e. V. - ECPv6.15.19//NONSGML v1.0//EN
CALSCALE:GREGORIAN
METHOD:PUBLISH
X-WR-CALNAME:Theater Alte Feuerwache e. V.
X-ORIGINAL-URL:https://taf.theater
X-WR-CALDESC:Veranstaltungen für Theater Alte Feuerwache e. V.
REFRESH-INTERVAL;VALUE=DURATION:PT1H
X-Robots-Tag:noindex
X-PUBLISHED-TTL:PT1H
BEGIN:VTIMEZONE
TZID:Europe/Berlin
BEGIN:DAYLIGHT
TZOFFSETFROM:+0100
TZOFFSETTO:+0200
TZNAME:CEST
DTSTART:20230326T010000
END:DAYLIGHT
BEGIN:STANDARD
TZOFFSETFROM:+0200
TZOFFSETTO:+0100
TZNAME:CET
DTSTART:20231029T010000
END:STANDARD
BEGIN:DAYLIGHT
TZOFFSETFROM:+0100
TZOFFSETTO:+0200
TZNAME:CEST
DTSTART:20240331T010000
END:DAYLIGHT
BEGIN:STANDARD
TZOFFSETFROM:+0200
TZOFFSETTO:+0100
TZNAME:CET
DTSTART:20241027T010000
END:STANDARD
BEGIN:DAYLIGHT
TZOFFSETFROM:+0100
TZOFFSETTO:+0200
TZNAME:CEST
DTSTART:20250330T010000
END:DAYLIGHT
BEGIN:STANDARD
TZOFFSETFROM:+0200
TZOFFSETTO:+0100
TZNAME:CET
DTSTART:20251026T010000
END:STANDARD
END:VTIMEZONE
BEGIN:VEVENT
DTSTART;TZID=Europe/Berlin:20240225T160000
DTEND;TZID=Europe/Berlin:20240225T160000
DTSTAMP:20260424T154514
CREATED:20240129T114521Z
LAST-MODIFIED:20240129T114521Z
UID:4762-1708876800-1708876800@taf.theater
SUMMARY:Das Verne Quartett: Americana
DESCRIPTION:Das Verne Quartett kommt mit ihrem Programm Americana zur Kammerkonzert-Reihe nach Bad Nauheim. Das Programm feiert die Diversität der Vereinigten Staaten mit Musik von der Ost- bis zur Westküste\, sowie mit Antonin Dvoraks Eindrücken von seinem Aufenthalt im Land. Entdecken Sie den US-amerikanischen Klang mit “Appalachian Polaroids” und “American Mirror” sowie mit typischen Volksliedern von George Gershwin und Florence Price. \nGegründet von Mitgliedern des hr-Sinfonieorchesters Frankfurt\, lässt sich das Verne Quartett von der abenteuerlichen und innovativen Literatur von Jules Verne inspirieren\, die den Leser anregt\, die Vielfalt unseres Planeten zu erkunden. Das Quartett spielte bereits sein erstes Konzert im Sendesaal des Hessischen Rundfunks mit der deutschen Erstaufführung von “Appalachian Polaroids” von Steven Snowden. Sie vereinen der Wunsch\, einen einzigartigen Sound zu kreieren\, ihre diversen Hintergründe\, und ihre Verbindungen zu den USA. Ihr Schwerpunkt liegt darin\, durch kreative Programmgestaltung neues Publikum zu erreichen und traditionelle Konzertbesucher zu begeistern.
URL:https://taf.theater/termin/das-verne-quartett-americana/
LOCATION:Trinkkuranlage
CATEGORIES:Kammerkonzert-Reihe
ORGANIZER;CN="Fachdienst Kultur und Sport":MAILTO:kulturamt@bad-nauheim.de
END:VEVENT
END:VCALENDAR