BEGIN:VCALENDAR
VERSION:2.0
PRODID:-//Theater Alte Feuerwache e. V. - ECPv6.15.19//NONSGML v1.0//EN
CALSCALE:GREGORIAN
METHOD:PUBLISH
X-WR-CALNAME:Theater Alte Feuerwache e. V.
X-ORIGINAL-URL:https://taf.theater
X-WR-CALDESC:Veranstaltungen für Theater Alte Feuerwache e. V.
REFRESH-INTERVAL;VALUE=DURATION:PT1H
X-Robots-Tag:noindex
X-PUBLISHED-TTL:PT1H
BEGIN:VTIMEZONE
TZID:Europe/Berlin
BEGIN:DAYLIGHT
TZOFFSETFROM:+0100
TZOFFSETTO:+0200
TZNAME:CEST
DTSTART:20230326T010000
END:DAYLIGHT
BEGIN:STANDARD
TZOFFSETFROM:+0200
TZOFFSETTO:+0100
TZNAME:CET
DTSTART:20231029T010000
END:STANDARD
BEGIN:DAYLIGHT
TZOFFSETFROM:+0100
TZOFFSETTO:+0200
TZNAME:CEST
DTSTART:20240331T010000
END:DAYLIGHT
BEGIN:STANDARD
TZOFFSETFROM:+0200
TZOFFSETTO:+0100
TZNAME:CET
DTSTART:20241027T010000
END:STANDARD
BEGIN:DAYLIGHT
TZOFFSETFROM:+0100
TZOFFSETTO:+0200
TZNAME:CEST
DTSTART:20250330T010000
END:DAYLIGHT
BEGIN:STANDARD
TZOFFSETFROM:+0200
TZOFFSETTO:+0100
TZNAME:CET
DTSTART:20251026T010000
END:STANDARD
END:VTIMEZONE
BEGIN:VEVENT
DTSTART;TZID=Europe/Berlin:20240205T153000
DTEND;TZID=Europe/Berlin:20240205T170000
DTSTAMP:20260424T173256
CREATED:20240129T115545Z
LAST-MODIFIED:20240129T115545Z
UID:4710-1707147000-1707152400@taf.theater
SUMMARY:Der Froschkönig
DESCRIPTION:Die neue Theater GegenStand Produktion „Der Froschkönig“ zeigt die Geschichte einer eitlen Prinzessin die lernen muss\, ihre Angst zu überwinden und ihr Versprechen zu halten.\nDie Prinzessin verliert beim Spielen an einem Brunnen ihre goldene Kugel. Ausgerechnet ein glitschiger Frosch kommt Ihr zu Hilfe.\nEr will ihr das geliebte Spielzeug aus der Tiefe holen\, aber nur\, wenn sie zu einer Gegenleistung bereit ist: Er will ihr Geselle sein\, mit ihr essen und trinken und in ihrem Bettchen schlafen. Sie gibt ihm leichtsinnig das Versprechen. Nachdem sie den goldenen Ball bekommen hat\, läuft sie aber weg – und der Frosch ihr nach. Als der Frosch dann im Schloss erscheint\, um das Versprochene einzufordern\, bereut sie ihre Worte\, und die Erfüllung seiner Wünsche fällt ihr schwer….\nDas Stück für Kinder ab 4 Jahren hält sich eng an die Grimm’sche Vorlage ist spannend\, hält einiges zu Lachen bereit und macht Kindern und Erwachsenen gleichermaßen Spaß. \nMit einem Team aus: Joachim Becker\, Inga Berlin\, Tom Gerritz\, Peter Gerst\, Magdalena Kaim\, Sabine Kröning\nRegie: Magdalena Kaim
URL:https://taf.theater/termin/der-froschkoenig/
LOCATION:Trinkkuranlage
CATEGORIES:Kindertheater-Reihe
ORGANIZER;CN="Fachdienst Kultur und Sport":MAILTO:kulturamt@bad-nauheim.de
END:VEVENT
END:VCALENDAR