BEGIN:VCALENDAR
VERSION:2.0
PRODID:-//Theater Alte Feuerwache e. V. - ECPv6.15.19//NONSGML v1.0//EN
CALSCALE:GREGORIAN
METHOD:PUBLISH
X-WR-CALNAME:Theater Alte Feuerwache e. V.
X-ORIGINAL-URL:https://taf.theater
X-WR-CALDESC:Veranstaltungen für Theater Alte Feuerwache e. V.
REFRESH-INTERVAL;VALUE=DURATION:PT1H
X-Robots-Tag:noindex
X-PUBLISHED-TTL:PT1H
BEGIN:VTIMEZONE
TZID:Europe/Berlin
BEGIN:DAYLIGHT
TZOFFSETFROM:+0100
TZOFFSETTO:+0200
TZNAME:CEST
DTSTART:20230326T010000
END:DAYLIGHT
BEGIN:STANDARD
TZOFFSETFROM:+0200
TZOFFSETTO:+0100
TZNAME:CET
DTSTART:20231029T010000
END:STANDARD
BEGIN:DAYLIGHT
TZOFFSETFROM:+0100
TZOFFSETTO:+0200
TZNAME:CEST
DTSTART:20240331T010000
END:DAYLIGHT
BEGIN:STANDARD
TZOFFSETFROM:+0200
TZOFFSETTO:+0100
TZNAME:CET
DTSTART:20241027T010000
END:STANDARD
BEGIN:DAYLIGHT
TZOFFSETFROM:+0100
TZOFFSETTO:+0200
TZNAME:CEST
DTSTART:20250330T010000
END:DAYLIGHT
BEGIN:STANDARD
TZOFFSETFROM:+0200
TZOFFSETTO:+0100
TZNAME:CET
DTSTART:20251026T010000
END:STANDARD
END:VTIMEZONE
BEGIN:VEVENT
DTSTART;TZID=Europe/Berlin:20240327T200000
DTEND;TZID=Europe/Berlin:20240327T200000
DTSTAMP:20260424T140450
CREATED:20240129T114705Z
LAST-MODIFIED:20240129T114705Z
UID:4732-1711569600-1711569600@taf.theater
SUMMARY:Der Fuchs
DESCRIPTION:Das Profi-Ensemble für Improtheater in Frankfurt. Unsere Bühnenshows sind interaktiv\, intuitiv\, innovativ\, inbrünstig\, improvisiert. Wir denken anders\, sind einzigartig in unserem Teamwork und bereit\, mit verbundenen Augen über das Hochseil zu laufen. Metaphorisch. Erwarten Sie keine Seile! Und auch wenn wir abstürzen: wir sind immer ehrlich mit uns selbst und unserem Publikum. Das macht die Shows so lebendig\, unterhaltsam und spannend! \nAlle Füchse stehen schon seit vielen Jahren deutschlandweit auf der Bühne und haben zusammen über 2000 Shows gespielt. \nImprovisationstheater heißt\, die Darsteller*innen erfinden das Stück\, während das Publikum dabei zusieht. Alles entsteht aus dem Moment und im Miteinander. Jede Show ist dadurch einmalig\, denn jedes Mal begegnen sich neue Figuren auf der Bühne und erleben andere Geschichten miteinander – mal tragisch\, mal komisch\, mal herzerwärmend\, definitiv einzigartig und zu 100% improvisiert.
URL:https://taf.theater/termin/der-fuchs/
LOCATION:Trinkkuranlage
CATEGORIES:Kleinkunst-Reihe
ORGANIZER;CN="Fachdienst Kultur und Sport":MAILTO:kulturamt@bad-nauheim.de
END:VEVENT
END:VCALENDAR