BEGIN:VCALENDAR
VERSION:2.0
PRODID:-//Theater Alte Feuerwache e. V. - ECPv6.15.19//NONSGML v1.0//EN
CALSCALE:GREGORIAN
METHOD:PUBLISH
X-WR-CALNAME:Theater Alte Feuerwache e. V.
X-ORIGINAL-URL:https://taf.theater
X-WR-CALDESC:Veranstaltungen für Theater Alte Feuerwache e. V.
REFRESH-INTERVAL;VALUE=DURATION:PT1H
X-Robots-Tag:noindex
X-PUBLISHED-TTL:PT1H
BEGIN:VTIMEZONE
TZID:Europe/Berlin
BEGIN:DAYLIGHT
TZOFFSETFROM:+0100
TZOFFSETTO:+0200
TZNAME:CEST
DTSTART:20230326T010000
END:DAYLIGHT
BEGIN:STANDARD
TZOFFSETFROM:+0200
TZOFFSETTO:+0100
TZNAME:CET
DTSTART:20231029T010000
END:STANDARD
BEGIN:DAYLIGHT
TZOFFSETFROM:+0100
TZOFFSETTO:+0200
TZNAME:CEST
DTSTART:20240331T010000
END:DAYLIGHT
BEGIN:STANDARD
TZOFFSETFROM:+0200
TZOFFSETTO:+0100
TZNAME:CET
DTSTART:20241027T010000
END:STANDARD
BEGIN:DAYLIGHT
TZOFFSETFROM:+0100
TZOFFSETTO:+0200
TZNAME:CEST
DTSTART:20250330T010000
END:DAYLIGHT
BEGIN:STANDARD
TZOFFSETFROM:+0200
TZOFFSETTO:+0100
TZNAME:CET
DTSTART:20251026T010000
END:STANDARD
END:VTIMEZONE
BEGIN:VEVENT
DTSTART;TZID=Europe/Berlin:20240304T153000
DTEND;TZID=Europe/Berlin:20240304T170000
DTSTAMP:20260424T153836
CREATED:20240129T115511Z
LAST-MODIFIED:20240129T115511Z
UID:4712-1709566200-1709571600@taf.theater
SUMMARY:Die Abenteurer
DESCRIPTION:Die Freunde aus Mullewapp flitzen von Abenteuer zu Abenteuer – begleitet von mitreißender Musik und spannend bis zur letzten Speiche!\nJuchhu\, wir sehen Johnny Mauser\, den dicken Waldemar und Franz von Hahn wieder! Weil es auf dem Hof so laaangweilig ist\, schnappen sie sich ihr Freundschaftsrad.\nDer fiese Fuchs hat die Gänseprinzessin gefangen. Dann braucht Tante Milli dringend Hilfe\, Söhnchen Hugo hängt am Gipfelkreuz fest. Gibt es echte Piraten? Urgh\, die sind echt und echt nicht nett. Treten\, Freunde\, treten!\nDie Freunde müssen kurz verschnaufen. Aber wer ist das und hat er ein Kochbeil in der Hand? Zum Glück geht’s mit Jumbo rüsselschnell zurück nach Mullewapp. \nFür Kinder ab 4 Jahren.
URL:https://taf.theater/termin/die-abenteurer/
LOCATION:Trinkkuranlage
CATEGORIES:Kindertheater-Reihe
ORGANIZER;CN="Fachdienst Kultur und Sport":MAILTO:kulturamt@bad-nauheim.de
END:VEVENT
END:VCALENDAR