BEGIN:VCALENDAR
VERSION:2.0
PRODID:-//Theater Alte Feuerwache e. V. - ECPv6.15.19//NONSGML v1.0//EN
CALSCALE:GREGORIAN
METHOD:PUBLISH
X-WR-CALNAME:Theater Alte Feuerwache e. V.
X-ORIGINAL-URL:https://taf.theater
X-WR-CALDESC:Veranstaltungen für Theater Alte Feuerwache e. V.
REFRESH-INTERVAL;VALUE=DURATION:PT1H
X-Robots-Tag:noindex
X-PUBLISHED-TTL:PT1H
BEGIN:VTIMEZONE
TZID:Europe/Berlin
BEGIN:DAYLIGHT
TZOFFSETFROM:+0100
TZOFFSETTO:+0200
TZNAME:CEST
DTSTART:20230326T010000
END:DAYLIGHT
BEGIN:STANDARD
TZOFFSETFROM:+0200
TZOFFSETTO:+0100
TZNAME:CET
DTSTART:20231029T010000
END:STANDARD
BEGIN:DAYLIGHT
TZOFFSETFROM:+0100
TZOFFSETTO:+0200
TZNAME:CEST
DTSTART:20240331T010000
END:DAYLIGHT
BEGIN:STANDARD
TZOFFSETFROM:+0200
TZOFFSETTO:+0100
TZNAME:CET
DTSTART:20241027T010000
END:STANDARD
BEGIN:DAYLIGHT
TZOFFSETFROM:+0100
TZOFFSETTO:+0200
TZNAME:CEST
DTSTART:20250330T010000
END:DAYLIGHT
BEGIN:STANDARD
TZOFFSETFROM:+0200
TZOFFSETTO:+0100
TZNAME:CET
DTSTART:20251026T010000
END:STANDARD
END:VTIMEZONE
BEGIN:VEVENT
DTSTART;TZID=Europe/Berlin:20240610T153000
DTEND;TZID=Europe/Berlin:20240610T170000
DTSTAMP:20260424T122139
CREATED:20240129T115448Z
LAST-MODIFIED:20240129T115448Z
UID:4714-1718033400-1718038800@taf.theater
SUMMARY:Ein Mops will tanzen
DESCRIPTION:Ein Mops will tanzen !\n„Sensation! Runder Riesenmops tanzt im Staatsballett!“ Aber bis es tatsächlich so weit ist\, erlebt Paula mit ihrem Hund turbulente Abenteuer.\nDenn niemand will ihr glauben\, dass Piff\, der pummelige Mops\, tatsächlich tanzen und Musik spielen kann. Ihr Vater steckt nach der Arbeit immer nur hinter seiner\ngroßen Zeitung. Paulas Ballettlehrerin ist über einen Hund im Tanzsaal entsetzt. Nur Paula erkennt\, dass ihr Piff etwas Besonderes ist. Sein erreichtes Ziel ist auch\nihr Erfolg. Wie einem modernen Märchen entsprungen ist Piff eine anrührende Phantasiefigur – ein moppeliger Clown\, den man einfach liebhaben muss.Familientheater von theater mimikri mit Musik und Mopsballett empfohlen ab 6 Jahren
URL:https://taf.theater/termin/ein-mops-will-tanzen/
LOCATION:Trinkkuranlage
CATEGORIES:Kindertheater-Reihe
ORGANIZER;CN="Fachdienst Kultur und Sport":MAILTO:kulturamt@bad-nauheim.de
END:VEVENT
END:VCALENDAR