BEGIN:VCALENDAR
VERSION:2.0
PRODID:-//Theater Alte Feuerwache e. V. - ECPv6.15.19//NONSGML v1.0//EN
CALSCALE:GREGORIAN
METHOD:PUBLISH
X-WR-CALNAME:Theater Alte Feuerwache e. V.
X-ORIGINAL-URL:https://taf.theater
X-WR-CALDESC:Veranstaltungen für Theater Alte Feuerwache e. V.
REFRESH-INTERVAL;VALUE=DURATION:PT1H
X-Robots-Tag:noindex
X-PUBLISHED-TTL:PT1H
BEGIN:VTIMEZONE
TZID:Europe/Berlin
BEGIN:DAYLIGHT
TZOFFSETFROM:+0100
TZOFFSETTO:+0200
TZNAME:CEST
DTSTART:20220327T010000
END:DAYLIGHT
BEGIN:STANDARD
TZOFFSETFROM:+0200
TZOFFSETTO:+0100
TZNAME:CET
DTSTART:20221030T010000
END:STANDARD
BEGIN:DAYLIGHT
TZOFFSETFROM:+0100
TZOFFSETTO:+0200
TZNAME:CEST
DTSTART:20230326T010000
END:DAYLIGHT
BEGIN:STANDARD
TZOFFSETFROM:+0200
TZOFFSETTO:+0100
TZNAME:CET
DTSTART:20231029T010000
END:STANDARD
BEGIN:DAYLIGHT
TZOFFSETFROM:+0100
TZOFFSETTO:+0200
TZNAME:CEST
DTSTART:20240331T010000
END:DAYLIGHT
BEGIN:STANDARD
TZOFFSETFROM:+0200
TZOFFSETTO:+0100
TZNAME:CET
DTSTART:20241027T010000
END:STANDARD
END:VTIMEZONE
BEGIN:VEVENT
DTSTART;TZID=Europe/Berlin:20231220T190000
DTEND;TZID=Europe/Berlin:20231220T210000
DTSTAMP:20260424T172531
CREATED:20231119T062719Z
LAST-MODIFIED:20231121T171342Z
UID:10001159-1703098800-1703106000@taf.theater
SUMMARY:ELS Musical "Coco Superstar"
DESCRIPTION:Coco Superstar… \nund unsere Schule steht Kopf \nCoco\, der neueste Stern am Casting-Himmel\, gibt ein Konzert in der Stadt und ein Vertreter der Schüler darf vor der Show Coco hinter die Bühne („backstage“) – doch wer darf das begehrte Ticket haben\, wie sollen wir das entscheiden und vor allem wer? \nDie Chöre der Klasse 5-7 und die Orchesterklasse der Jahrgangsstufe 6 der Ernst-Ludwig-Schule\, sowie der Chor der Stadtschule an der Wilhelmskirche und mit Unterstützung des TAF präsentieren ein Schülermusical von Schülern für Schüler und Erwachsene. \n 
URL:https://taf.theater/termin/els-musical-coco-superstar/2023-12-20/
LOCATION:Großer Saal in der Trinkkuranlage\, Ernst-Ludwig-Ring 1\, Bad Nauheim\, Hessen\, 61231\, Deutschland
ATTACH;FMTTYPE=image/jpeg:https://taf.theater/wp-content/uploads/ELS-COCO-Superstar-Plakat-1-scaled.jpg
ORGANIZER;CN="Theater Alte Feuerwache e. V.":MAILTO:info@taf.theater
END:VEVENT
END:VCALENDAR