BEGIN:VCALENDAR
VERSION:2.0
PRODID:-//Theater Alte Feuerwache e. V. - ECPv6.15.19//NONSGML v1.0//EN
CALSCALE:GREGORIAN
METHOD:PUBLISH
X-WR-CALNAME:Theater Alte Feuerwache e. V.
X-ORIGINAL-URL:https://taf.theater
X-WR-CALDESC:Veranstaltungen für Theater Alte Feuerwache e. V.
REFRESH-INTERVAL;VALUE=DURATION:PT1H
X-Robots-Tag:noindex
X-PUBLISHED-TTL:PT1H
BEGIN:VTIMEZONE
TZID:Europe/Berlin
BEGIN:DAYLIGHT
TZOFFSETFROM:+0100
TZOFFSETTO:+0200
TZNAME:CEST
DTSTART:20230326T010000
END:DAYLIGHT
BEGIN:STANDARD
TZOFFSETFROM:+0200
TZOFFSETTO:+0100
TZNAME:CET
DTSTART:20231029T010000
END:STANDARD
BEGIN:DAYLIGHT
TZOFFSETFROM:+0100
TZOFFSETTO:+0200
TZNAME:CEST
DTSTART:20240331T010000
END:DAYLIGHT
BEGIN:STANDARD
TZOFFSETFROM:+0200
TZOFFSETTO:+0100
TZNAME:CET
DTSTART:20241027T010000
END:STANDARD
BEGIN:DAYLIGHT
TZOFFSETFROM:+0100
TZOFFSETTO:+0200
TZNAME:CEST
DTSTART:20250330T010000
END:DAYLIGHT
BEGIN:STANDARD
TZOFFSETFROM:+0200
TZOFFSETTO:+0100
TZNAME:CET
DTSTART:20251026T010000
END:STANDARD
END:VTIMEZONE
BEGIN:VEVENT
DTSTART;TZID=Europe/Berlin:20240630T160000
DTEND;TZID=Europe/Berlin:20240630T160000
DTSTAMP:20260424T122140
CREATED:20240129T114444Z
LAST-MODIFIED:20240129T114444Z
UID:4766-1719763200-1719763200@taf.theater
SUMMARY:Ensemble Noisten
DESCRIPTION:Vier Künstler\, eine musikalische Mission \nDas Quartett wurde 1998 gegründet und veröffentlichte mit Unterstützung des Kulturbüros Wuppertal seine erste CD-Produktion „Kolomeika“. Es folgten 2002 „Good Morning Ms. G“\nund vier Jahre später „Anständige Leute“\, in der unser Bassist erstmalig neben dem größten viersaitigen Instrument auch mal zum kleinsten\, der Ukulele\, wechselte.
URL:https://taf.theater/termin/ensemble-noisten/
LOCATION:Trinkkuranlage
CATEGORIES:Kammerkonzert-Reihe
ORGANIZER;CN="Fachdienst Kultur und Sport":MAILTO:kulturamt@bad-nauheim.de
END:VEVENT
END:VCALENDAR