BEGIN:VCALENDAR
VERSION:2.0
PRODID:-//Theater Alte Feuerwache e. V. - ECPv6.15.19//NONSGML v1.0//EN
CALSCALE:GREGORIAN
METHOD:PUBLISH
X-WR-CALNAME:Theater Alte Feuerwache e. V.
X-ORIGINAL-URL:https://taf.theater
X-WR-CALDESC:Veranstaltungen für Theater Alte Feuerwache e. V.
REFRESH-INTERVAL;VALUE=DURATION:PT1H
X-Robots-Tag:noindex
X-PUBLISHED-TTL:PT1H
BEGIN:VTIMEZONE
TZID:Europe/Berlin
BEGIN:DAYLIGHT
TZOFFSETFROM:+0100
TZOFFSETTO:+0200
TZNAME:CEST
DTSTART:20220327T010000
END:DAYLIGHT
BEGIN:STANDARD
TZOFFSETFROM:+0200
TZOFFSETTO:+0100
TZNAME:CET
DTSTART:20221030T010000
END:STANDARD
BEGIN:DAYLIGHT
TZOFFSETFROM:+0100
TZOFFSETTO:+0200
TZNAME:CEST
DTSTART:20230326T010000
END:DAYLIGHT
BEGIN:STANDARD
TZOFFSETFROM:+0200
TZOFFSETTO:+0100
TZNAME:CET
DTSTART:20231029T010000
END:STANDARD
BEGIN:DAYLIGHT
TZOFFSETFROM:+0100
TZOFFSETTO:+0200
TZNAME:CEST
DTSTART:20240331T010000
END:DAYLIGHT
BEGIN:STANDARD
TZOFFSETFROM:+0200
TZOFFSETTO:+0100
TZNAME:CET
DTSTART:20241027T010000
END:STANDARD
END:VTIMEZONE
BEGIN:VEVENT
DTSTART;TZID=Europe/Berlin:20230714T180000
DTEND;TZID=Europe/Berlin:20230714T193000
DTSTAMP:20260425T002153
CREATED:20230702T170508Z
LAST-MODIFIED:20230710T085931Z
UID:4107-1689357600-1689363000@taf.theater
SUMMARY:Gastspiel Stadtschule an der Wilhelmskirche / Musikschule Bad Nauheim - Abschlussprüfung in der Zauberschule
DESCRIPTION:Ach\, wer kennt es nicht: vor den Sommerferien ist immer so viel los! Konzerte\, Sportwettkämpfe\, Zeugnisse\, Abschiedsfeste…Aber davor gibt es natürlich noch Prüfungen! Das ist auch in der Zauberschule nicht anders. Und die Hexen\, Zauberinnen\, Feen\, Elben\, Engel und Skelette – ja\, auch die gibt es hier! – treffen sich zur großen Abschlussprüfung in der Zauberschule. \nUnd sie werden in vielen Fächern geprüft: Tanzen\, Hexeneinmaleins\, Zaubersprüche\, Kräuterkunde und Hexenküche… Und viiiiiieeel Musik!!! \nUnd dann müssen sie auch noch eine große Aufgabe lösen und der Königin der Schattenwelt ihr Gesicht zurückgeben! Wenn ihr sehen wollt\, wie sie das machen\, dann kommt und schaut euch unser Theaterstück an! \nDie Ideen der Geschichte kommen von den mitspielenden Kindern selbst und auch die Musik in unserem Stück wird von ihnen gesungen und gespielt! \nWir freuen uns auf euch! \nEinlass ab 17:45
URL:https://taf.theater/termin/gastspiel-stadtschule-an-der-wilhelmskirche-abschlusspruefung-in-der-zauberschule/
LOCATION:Großer Saal in der Trinkkuranlage\, Ernst-Ludwig-Ring 1\, Bad Nauheim\, Hessen\, 61231\, Deutschland
CATEGORIES:TAF Gastspiel
ORGANIZER;CN="Theater Alte Feuerwache e. V.":MAILTO:info@taf.theater
END:VEVENT
END:VCALENDAR