BEGIN:VCALENDAR
VERSION:2.0
PRODID:-//Theater Alte Feuerwache e. V. - ECPv6.15.19//NONSGML v1.0//EN
CALSCALE:GREGORIAN
METHOD:PUBLISH
X-WR-CALNAME:Theater Alte Feuerwache e. V.
X-ORIGINAL-URL:https://taf.theater
X-WR-CALDESC:Veranstaltungen für Theater Alte Feuerwache e. V.
REFRESH-INTERVAL;VALUE=DURATION:PT1H
X-Robots-Tag:noindex
X-PUBLISHED-TTL:PT1H
BEGIN:VTIMEZONE
TZID:Europe/Berlin
BEGIN:DAYLIGHT
TZOFFSETFROM:+0100
TZOFFSETTO:+0200
TZNAME:CEST
DTSTART:20220327T010000
END:DAYLIGHT
BEGIN:STANDARD
TZOFFSETFROM:+0200
TZOFFSETTO:+0100
TZNAME:CET
DTSTART:20221030T010000
END:STANDARD
BEGIN:DAYLIGHT
TZOFFSETFROM:+0100
TZOFFSETTO:+0200
TZNAME:CEST
DTSTART:20230326T010000
END:DAYLIGHT
BEGIN:STANDARD
TZOFFSETFROM:+0200
TZOFFSETTO:+0100
TZNAME:CET
DTSTART:20231029T010000
END:STANDARD
BEGIN:DAYLIGHT
TZOFFSETFROM:+0100
TZOFFSETTO:+0200
TZNAME:CEST
DTSTART:20240331T010000
END:DAYLIGHT
BEGIN:STANDARD
TZOFFSETFROM:+0200
TZOFFSETTO:+0100
TZNAME:CET
DTSTART:20241027T010000
END:STANDARD
END:VTIMEZONE
BEGIN:VEVENT
DTSTART;TZID=Europe/Berlin:20230205T140000
DTEND;TZID=Europe/Berlin:20230205T210000
DTSTAMP:20260425T121853
CREATED:20230201T104009Z
LAST-MODIFIED:20230201T104009Z
UID:3757-1675605600-1675630800@taf.theater
SUMMARY:[intern] TAF Probe Wunderland
DESCRIPTION:
URL:https://taf.theater/termin/intern-taf-probe-wunderland/
LOCATION:Kleiner Saal in der Trinkkuranlage\, Ernst-Ludwig-Ring 1\, Bad Nauheim\, 61231
CATEGORIES:TAF-Probe
GEO:50.3629148;8.7410605
X-APPLE-STRUCTURED-LOCATION;VALUE=URI;X-ADDRESS=Kleiner Saal in der Trinkkuranlage Ernst-Ludwig-Ring 1 Bad Nauheim 61231;X-APPLE-RADIUS=500;X-TITLE=Ernst-Ludwig-Ring 1:geo:8.7410605,50.3629148
END:VEVENT
END:VCALENDAR