BEGIN:VCALENDAR
VERSION:2.0
PRODID:-//Theater Alte Feuerwache e. V. - ECPv6.15.19//NONSGML v1.0//EN
CALSCALE:GREGORIAN
METHOD:PUBLISH
X-WR-CALNAME:Theater Alte Feuerwache e. V.
X-ORIGINAL-URL:https://taf.theater
X-WR-CALDESC:Veranstaltungen für Theater Alte Feuerwache e. V.
REFRESH-INTERVAL;VALUE=DURATION:PT1H
X-Robots-Tag:noindex
X-PUBLISHED-TTL:PT1H
BEGIN:VTIMEZONE
TZID:Europe/Berlin
BEGIN:DAYLIGHT
TZOFFSETFROM:+0100
TZOFFSETTO:+0200
TZNAME:CEST
DTSTART:20220327T010000
END:DAYLIGHT
BEGIN:STANDARD
TZOFFSETFROM:+0200
TZOFFSETTO:+0100
TZNAME:CET
DTSTART:20221030T010000
END:STANDARD
BEGIN:DAYLIGHT
TZOFFSETFROM:+0100
TZOFFSETTO:+0200
TZNAME:CEST
DTSTART:20230326T010000
END:DAYLIGHT
BEGIN:STANDARD
TZOFFSETFROM:+0200
TZOFFSETTO:+0100
TZNAME:CET
DTSTART:20231029T010000
END:STANDARD
BEGIN:DAYLIGHT
TZOFFSETFROM:+0100
TZOFFSETTO:+0200
TZNAME:CEST
DTSTART:20240331T010000
END:DAYLIGHT
BEGIN:STANDARD
TZOFFSETFROM:+0200
TZOFFSETTO:+0100
TZNAME:CET
DTSTART:20241027T010000
END:STANDARD
END:VTIMEZONE
BEGIN:VEVENT
DTSTART;TZID=Europe/Berlin:20231125T190000
DTEND;TZID=Europe/Berlin:20231125T210000
DTSTAMP:20260424T191830
CREATED:20230513T100332Z
LAST-MODIFIED:20230513T100332Z
UID:3991-1700938800-1700946000@taf.theater
SUMMARY:Julia Raab - Der schwarze Hund
DESCRIPTION:Das Theater Alte Feuerwache präsentiert ein Gastspiel von Julia Raab: Der Schwarze Hund \nEins\, Zwei\, Drei\, …. Du! Jede*r Vierte erlebt in seinem Leben Phasen\, in denen er/sie/div. ihr begegnet: einer diffusen Schwermut mit schmerzender Antriebslosigkeit oder dem Gefühl von fehlendem Lebenssinn – kurz\, einer Depression. Sie ist eine Krankheit\, mit der man lernen kann zu leben. Der Weg dahin ist lang – aber auch überraschend kreativ. Da ist zum Beispiel dieses Bild aus Literatur und Therapie: die Depression – ein schwarzer Hund. Immer da\, Verhältnis ungeklärt. Er weigert sich zu gehen\, knurrt\, schnappt zu\, beißt. Hin und wieder Anzeichen der friedvollen Absicht: Lässt er sich für einen Spaziergang an die Leine legen? \nIm Zusammenspiel von Maske\, Puppe und Objekt\, dokumentarischem Material\, Elementen der Choreographie und einer eigenen musikalischen Komposition von Alexander Hohaus übersetzen Figurenspielerin Julia Raab und Anja Schwede das Leben mit dem schwarzen Hund auf die Bühne. Halbsatirische Karikaturen\, Songs und vor allem die Erfahrungen von Betroffenen untersuchen das theatrale Bild auf seine Tauglichkeit\, um die Depression aus ihrer sprachlosen Ecke zu holen. \nJede*r Vierte muss mit ihr leben\, die Frage ist – wie. 
URL:https://taf.theater/termin/julia-raab-der-schwarze-hund/
LOCATION:Großer Saal in der Trinkkuranlage\, Ernst-Ludwig-Ring 1\, Bad Nauheim\, Hessen\, 61231\, Deutschland
CATEGORIES:TAF Gastspiel
ATTACH;FMTTYPE=image/jpeg:https://taf.theater/wp-content/uploads/200905_A6_derschwarzehund_x3.jpg
ORGANIZER;CN="Theater Alte Feuerwache e. V.":MAILTO:info@taf.theater
END:VEVENT
END:VCALENDAR