BEGIN:VCALENDAR
VERSION:2.0
PRODID:-//Theater Alte Feuerwache e. V. - ECPv6.15.19//NONSGML v1.0//EN
CALSCALE:GREGORIAN
METHOD:PUBLISH
X-WR-CALNAME:Theater Alte Feuerwache e. V.
X-ORIGINAL-URL:https://taf.theater
X-WR-CALDESC:Veranstaltungen für Theater Alte Feuerwache e. V.
REFRESH-INTERVAL;VALUE=DURATION:PT1H
X-Robots-Tag:noindex
X-PUBLISHED-TTL:PT1H
BEGIN:VTIMEZONE
TZID:Europe/Berlin
BEGIN:DAYLIGHT
TZOFFSETFROM:+0100
TZOFFSETTO:+0200
TZNAME:CEST
DTSTART:20220327T010000
END:DAYLIGHT
BEGIN:STANDARD
TZOFFSETFROM:+0200
TZOFFSETTO:+0100
TZNAME:CET
DTSTART:20221030T010000
END:STANDARD
BEGIN:DAYLIGHT
TZOFFSETFROM:+0100
TZOFFSETTO:+0200
TZNAME:CEST
DTSTART:20230326T010000
END:DAYLIGHT
BEGIN:STANDARD
TZOFFSETFROM:+0200
TZOFFSETTO:+0100
TZNAME:CET
DTSTART:20231029T010000
END:STANDARD
BEGIN:DAYLIGHT
TZOFFSETFROM:+0100
TZOFFSETTO:+0200
TZNAME:CEST
DTSTART:20240331T010000
END:DAYLIGHT
BEGIN:STANDARD
TZOFFSETFROM:+0200
TZOFFSETTO:+0100
TZNAME:CET
DTSTART:20241027T010000
END:STANDARD
END:VTIMEZONE
BEGIN:VEVENT
DTSTART;TZID=Europe/Berlin:20230521T160000
DTEND;TZID=Europe/Berlin:20230521T180000
DTSTAMP:20260425T035822
CREATED:20230120T130704Z
LAST-MODIFIED:20230120T130704Z
UID:3740-1684684800-1684692000@taf.theater
SUMMARY:KAMMERKONZERT-REIHE: CALMUS ENSEMBLE Eine der erfolgreichsten Vokalgruppen Deutschlands
DESCRIPTION:Homogenität\, Präzision\, Leichtigkeit und Witz – das zeichnet das Calmus Ensemble aus und macht das Quintett zu einer der erfolgreichsten Vokalgruppen Deutschlands. Die breite Palette an Klangfarben\, die leidenschaftliche Musizierfreude der Sänger*innen\, ihre Klangkultur und ihre abwechslungs- und einfallsreichen Programme begeistern seit mehr als 20 Jahren Presse und Publikum. Und so ist Calmus mit 50 bis 60 Konzerten im Jahr in Deutschland\, Europa und bis zu dreimal jährlich in den USA ein immer wieder gern gesehener Gast.\nDie Repertoirespanne des Ensembles ist schier unbegrenzt: Geprägt von der Tradition der Leipziger Meister sind die Sänger*innen in der Vokalmusik der Renaissance\, des Barock und der Romantik zu Hause\, aber auch Musik unserer Zeit ist ihnen ein großes Anliegen. Sie haben über die Jahre zahlreiche Kompositionsaufträge vergeben und uraufgeführt\, u.a. von Paul Moravec\, Mathew Rosenblum\, Wolfram Buchenberg\, Bill Dobbins\, Mia Makaroff\, Dan Dediu und Harald Banter. Außerdem singen und arrangieren sie gerne Pop\, Folk und Jazz\, wovon zahlreiche Notenveröffentlichungen zeugen. \nBisher hat das Ensemble mehr als 20 CDs auf den Markt gebracht\, solo oder gemeinsam mit Elke Heidenreich („Nachtgedanken”)\, amarcord („Disputation”\, OPUS KLASSIK 2019) oder der lautten compagney BERLIN („Mitten im Leben“ / „BachArkaden“). Einen Teil seiner Zeit widmet Calmus der Nachwuchsförderung in Workshops und Meisterkursen\, bei Jurytätigkeiten und Gesprächskonzerten.\nEinen Teil seiner Zeit widmet Calmus der Nachwuchsförderung: Unterricht\, Workshops und Jurytätigkeiten gehören zum Alltag der Sänger*innen\, zuhause in Leipzig und unterwegs\, u. a. als Artists in Residence beim STIMMEN Festival Lörrach oder bei der Bachwoche Stuttgart\, darüber hinaus häufig auch in den USA. Kein Wunder also\, dass das Ensemble überall auf der Welt immer mehr Fans hat. \nDas Jahr 2022 brachte einen großen Umbruch in der langen Ensemblegeschichte\, denn die prägenden Mitglieder der vergangenen Jahre Anja Pöche\, Ludwig Böhme und Manuel Helmeke gehen fortan andere Wege. In ihre Fußstapfen trat mit Elisabeth Mücksch\, Jonathan Saretz und Michael B. Gernert eine jüngere Generation\, die gemeinsam mit den verbliebenen Mitgliedern Maria Kalmbach und Friedrich Bracks das Quintett in eine neue Ära führt: für Calmus wie für seine vielen Fans ein spannender Neubeginn! \nBesetzung:\nElisabeth Mücksch\, Sopran\nMaria Kalmbach\, Alt\nFriedrich Bracks\, Tenor\nJonathan Saretz\, Bariton\nMichael B. Gernert\, Bass
URL:https://taf.theater/termin/kammerkonzert-reihe-calmus-ensemble-eine-der-erfolgreichsten-vokalgruppen-deutschlands/
LOCATION:Trinkkuranlage
CATEGORIES:Kammerkonzert-Reihe
ATTACH;FMTTYPE=image/jpeg:https://taf.theater/wp-content/uploads/2023_05_21_Kammerkonzert_Reihe_Calmus_Ensemble_calmusannehornemann-2536-0ca-scaled.jpg
ORGANIZER;CN="Fachdienst Kultur und Sport":MAILTO:kulturamt@bad-nauheim.de
END:VEVENT
END:VCALENDAR