BEGIN:VCALENDAR
VERSION:2.0
PRODID:-//Theater Alte Feuerwache e. V. - ECPv6.15.19//NONSGML v1.0//EN
CALSCALE:GREGORIAN
METHOD:PUBLISH
X-WR-CALNAME:Theater Alte Feuerwache e. V.
X-ORIGINAL-URL:https://taf.theater
X-WR-CALDESC:Veranstaltungen für Theater Alte Feuerwache e. V.
REFRESH-INTERVAL;VALUE=DURATION:PT1H
X-Robots-Tag:noindex
X-PUBLISHED-TTL:PT1H
BEGIN:VTIMEZONE
TZID:Europe/Berlin
BEGIN:DAYLIGHT
TZOFFSETFROM:+0100
TZOFFSETTO:+0200
TZNAME:CEST
DTSTART:20210328T010000
END:DAYLIGHT
BEGIN:STANDARD
TZOFFSETFROM:+0200
TZOFFSETTO:+0100
TZNAME:CET
DTSTART:20211031T010000
END:STANDARD
BEGIN:DAYLIGHT
TZOFFSETFROM:+0100
TZOFFSETTO:+0200
TZNAME:CEST
DTSTART:20220327T010000
END:DAYLIGHT
BEGIN:STANDARD
TZOFFSETFROM:+0200
TZOFFSETTO:+0100
TZNAME:CET
DTSTART:20221030T010000
END:STANDARD
BEGIN:DAYLIGHT
TZOFFSETFROM:+0100
TZOFFSETTO:+0200
TZNAME:CEST
DTSTART:20230326T010000
END:DAYLIGHT
BEGIN:STANDARD
TZOFFSETFROM:+0200
TZOFFSETTO:+0100
TZNAME:CET
DTSTART:20231029T010000
END:STANDARD
END:VTIMEZONE
BEGIN:VEVENT
DTSTART;TZID=Europe/Berlin:20220320T160000
DTEND;TZID=Europe/Berlin:20220320T183000
DTSTAMP:20260425T150355
CREATED:20220309T184759Z
LAST-MODIFIED:20220316T213457Z
UID:2273-1647792000-1647801000@taf.theater
SUMMARY:Kammerkonzert-Reihe: Ensemble Tre Colori
DESCRIPTION:Tanz und Tafel \nMit schwingendem Tanzbein servieren die Musikerinnen des Ensembles Tre Colori – Elisabeth Wieland\, Oboe\, Carelys Carreras Camporredondo\, Klarinette und Arlette Probst\, Fagott – in diesem Konzert musikalische Köstlichkeiten und Schmankerln rund um das Thema Tanz und Tafel. Auf dem Programm stehen die „Kaffeekantate“ von Johann Sebastian Bach\, die „Kleine Konditorei“ („Petite Pâtisserie“) von Jacques Leclair sowie die „Living Room Music“ von John Cage genauso wie „Kubanische Tänze“ von Ignacio Cervantes und Tangos von Astor Piazzolla. Tanz und Tafel – garantiert ein Ohrenschmaus!
URL:https://taf.theater/termin/kammerkonzert-reihe-ensemble-tre-colori/
LOCATION:Großer Saal in der Trinkkuranlage\, Ernst-Ludwig-Ring 1\, Bad Nauheim\, Hessen\, 61231\, Deutschland
CATEGORIES:Konzerte
ORGANIZER;CN="Fachdienst Kultur und Sport":MAILTO:kulturamt@bad-nauheim.de
END:VEVENT
END:VCALENDAR