BEGIN:VCALENDAR
VERSION:2.0
PRODID:-//Theater Alte Feuerwache e. V. - ECPv6.15.19//NONSGML v1.0//EN
CALSCALE:GREGORIAN
METHOD:PUBLISH
X-WR-CALNAME:Theater Alte Feuerwache e. V.
X-ORIGINAL-URL:https://taf.theater
X-WR-CALDESC:Veranstaltungen für Theater Alte Feuerwache e. V.
REFRESH-INTERVAL;VALUE=DURATION:PT1H
X-Robots-Tag:noindex
X-PUBLISHED-TTL:PT1H
BEGIN:VTIMEZONE
TZID:Europe/Berlin
BEGIN:DAYLIGHT
TZOFFSETFROM:+0100
TZOFFSETTO:+0200
TZNAME:CEST
DTSTART:20220327T010000
END:DAYLIGHT
BEGIN:STANDARD
TZOFFSETFROM:+0200
TZOFFSETTO:+0100
TZNAME:CET
DTSTART:20221030T010000
END:STANDARD
BEGIN:DAYLIGHT
TZOFFSETFROM:+0100
TZOFFSETTO:+0200
TZNAME:CEST
DTSTART:20230326T010000
END:DAYLIGHT
BEGIN:STANDARD
TZOFFSETFROM:+0200
TZOFFSETTO:+0100
TZNAME:CET
DTSTART:20231029T010000
END:STANDARD
BEGIN:DAYLIGHT
TZOFFSETFROM:+0100
TZOFFSETTO:+0200
TZNAME:CEST
DTSTART:20240331T010000
END:DAYLIGHT
BEGIN:STANDARD
TZOFFSETFROM:+0200
TZOFFSETTO:+0100
TZNAME:CET
DTSTART:20241027T010000
END:STANDARD
END:VTIMEZONE
BEGIN:VEVENT
DTSTART;TZID=Europe/Berlin:20231015T160000
DTEND;TZID=Europe/Berlin:20231015T180000
DTSTAMP:20260424T205442
CREATED:20230118T162119Z
LAST-MODIFIED:20230118T164353Z
UID:3703-1697385600-1697392800@taf.theater
SUMMARY:KAMMERKONZERT-REIHE: MINGUET QUARTETT György Ligeti 100 2023
DESCRIPTION:Das Minguet Quartett – gegründet 1988 – zählt heute zu den international gefragtesten Streichquartetten und gastiert in allen großen Konzertsälen der Welt\, wobei seine so leidenschaftlichen wie intelligenten Interpretationen für begeisternde Hörerfahrungen sorgen – „denn die Klang- und Ausdrucksfreude\, mit der das Ensemble die Werke zur Sprache bringt\, belebt noch das kleinste Detail“ (Frankfurter Allgemeine Zeitung). Namenspatron ist Pablo Minguet\, ein spanischer Philosoph des 18. Jahrhunderts\, der sich in seinen Schriften darum bemühte\, dem breiten Volk Zugang zu den Schönen Künsten zu verschaffen: Das Minguet Quartett fühlt sich dieser Idee mehr denn je verpflichtet. Das Minguet Quartett war Gast der Salzburger Festspiele 2020 & 2021 und ist erneut für das Jahr 2023 eingeladen. \nBesetzung:\nUlrich Isfort\, 1.Violine\nAnnette Reisinger\, 2.Violine\nAida-Carmen Soanea\, Viola\nMatthias Diener\, Violoncello
URL:https://taf.theater/termin/kammerkonzert-reihe-minguet-quartett-gyoergy-ligeti-100-2023/
LOCATION:Großer Saal in der Trinkkuranlage\, Ernst-Ludwig-Ring 1\, Bad Nauheim\, Hessen\, 61231\, Deutschland
CATEGORIES:Kammerkonzert-Reihe
ATTACH;FMTTYPE=image/webp:https://taf.theater/wp-content/uploads/15.10..webp
ORGANIZER;CN="Fachdienst Kultur und Sport":MAILTO:kulturamt@bad-nauheim.de
END:VEVENT
END:VCALENDAR