BEGIN:VCALENDAR
VERSION:2.0
PRODID:-//Theater Alte Feuerwache e. V. - ECPv6.15.19//NONSGML v1.0//EN
CALSCALE:GREGORIAN
METHOD:PUBLISH
X-WR-CALNAME:Theater Alte Feuerwache e. V.
X-ORIGINAL-URL:https://taf.theater
X-WR-CALDESC:Veranstaltungen für Theater Alte Feuerwache e. V.
REFRESH-INTERVAL;VALUE=DURATION:PT1H
X-Robots-Tag:noindex
X-PUBLISHED-TTL:PT1H
BEGIN:VTIMEZONE
TZID:Europe/Berlin
BEGIN:DAYLIGHT
TZOFFSETFROM:+0100
TZOFFSETTO:+0200
TZNAME:CEST
DTSTART:20220327T010000
END:DAYLIGHT
BEGIN:STANDARD
TZOFFSETFROM:+0200
TZOFFSETTO:+0100
TZNAME:CET
DTSTART:20221030T010000
END:STANDARD
BEGIN:DAYLIGHT
TZOFFSETFROM:+0100
TZOFFSETTO:+0200
TZNAME:CEST
DTSTART:20230326T010000
END:DAYLIGHT
BEGIN:STANDARD
TZOFFSETFROM:+0200
TZOFFSETTO:+0100
TZNAME:CET
DTSTART:20231029T010000
END:STANDARD
BEGIN:DAYLIGHT
TZOFFSETFROM:+0100
TZOFFSETTO:+0200
TZNAME:CEST
DTSTART:20240331T010000
END:DAYLIGHT
BEGIN:STANDARD
TZOFFSETFROM:+0200
TZOFFSETTO:+0100
TZNAME:CET
DTSTART:20241027T010000
END:STANDARD
END:VTIMEZONE
BEGIN:VEVENT
DTSTART;TZID=Europe/Berlin:20230319T160000
DTEND;TZID=Europe/Berlin:20230319T180000
DTSTAMP:20260425T035821
CREATED:20230120T112136Z
LAST-MODIFIED:20230120T112218Z
UID:3732-1679241600-1679248800@taf.theater
SUMMARY:KAMMERKONZERT-REIHE: TRIO LEZARD Le Tango des Fratelllini
DESCRIPTION:…Oktober 1922\, im „Le boeuf sur le toit“\, dem legendären Pariser Künstlerlokal.. die Fratellinis erscheinen\, sehen Darius Milhaud und Jean Cocteau mit einem Glas Champagner beisammen stehen\, setzen ihre Sarrusophone an und intonieren spontan eine Variation des „Tango des Fratellini“\, den Milhaud ihnen kurz zuvor in die Orchestersuite\, eben „Le boeuf sur le toit“\, geschrieben hatte. Tangos\, seriöse Kammermusik\, Swing\, Chansons… im „Boeuf“ klingt eines neben dem anderen völlig gleichberechtigt\, Django Reinhardt neben Mozart\, Wagner neben Cole Porter\, Bach neben Barbirolli. Gleichsam zum 100. Geburtstag dieser Ereignisse erscheint die gleichnamige CD des Trio Lezard: „Le Tango des Fratellini“ mit Musik aus dem Paris der 20er und 30er Jahre. Und wie im „Boeuf“ steht auch hier „klassische“ Kammermusik gleichberechtigt neben Tango und Chanson. Aber nicht nur die Musik dieser schillernden Zeit erwecken wir zu neuem Leben\, sondern auch die Instrumente: Sarrusophone\, die längst vergessen geglaubten Cousins der Saxophone\, lassen mit den Tangos der 20er Jahre diese Welt vor Ihren Augen und Ohren wieder auferstehen.
URL:https://taf.theater/termin/kammerkonzert-reihe-trio-lezard-le-tango-des-fratelllini/
LOCATION:Großer Saal in der Trinkkuranlage\, Ernst-Ludwig-Ring 1\, Bad Nauheim\, Hessen\, 61231\, Deutschland
CATEGORIES:Kammerkonzert-Reihe
ATTACH;FMTTYPE=image/jpeg:https://taf.theater/wp-content/uploads/2023_03_19_Trio-Lezard_Foto-Thomas-M.-Jauk-6-scaled.jpg
ORGANIZER;CN="Fachdienst Kultur und Sport":MAILTO:kulturamt@bad-nauheim.de
END:VEVENT
END:VCALENDAR