BEGIN:VCALENDAR
VERSION:2.0
PRODID:-//Theater Alte Feuerwache e. V. - ECPv6.15.19//NONSGML v1.0//EN
CALSCALE:GREGORIAN
METHOD:PUBLISH
X-WR-CALNAME:Theater Alte Feuerwache e. V.
X-ORIGINAL-URL:https://taf.theater
X-WR-CALDESC:Veranstaltungen für Theater Alte Feuerwache e. V.
REFRESH-INTERVAL;VALUE=DURATION:PT1H
X-Robots-Tag:noindex
X-PUBLISHED-TTL:PT1H
BEGIN:VTIMEZONE
TZID:Europe/Berlin
BEGIN:DAYLIGHT
TZOFFSETFROM:+0100
TZOFFSETTO:+0200
TZNAME:CEST
DTSTART:20210328T010000
END:DAYLIGHT
BEGIN:STANDARD
TZOFFSETFROM:+0200
TZOFFSETTO:+0100
TZNAME:CET
DTSTART:20211031T010000
END:STANDARD
BEGIN:DAYLIGHT
TZOFFSETFROM:+0100
TZOFFSETTO:+0200
TZNAME:CEST
DTSTART:20220327T010000
END:DAYLIGHT
BEGIN:STANDARD
TZOFFSETFROM:+0200
TZOFFSETTO:+0100
TZNAME:CET
DTSTART:20221030T010000
END:STANDARD
BEGIN:DAYLIGHT
TZOFFSETFROM:+0100
TZOFFSETTO:+0200
TZNAME:CEST
DTSTART:20230326T010000
END:DAYLIGHT
BEGIN:STANDARD
TZOFFSETFROM:+0200
TZOFFSETTO:+0100
TZNAME:CET
DTSTART:20231029T010000
END:STANDARD
END:VTIMEZONE
BEGIN:VEVENT
DTSTART;TZID=Europe/Berlin:20220912T153000
DTEND;TZID=Europe/Berlin:20220912T163000
DTSTAMP:20260425T133858
CREATED:20220614T130904Z
LAST-MODIFIED:20220622T100616Z
UID:2995-1662996600-1663000200@taf.theater
SUMMARY:Kindertheater-Reihe: Das Traumfresserchen
DESCRIPTION:Ein musikalisches Märchen für Kinder von 4 bis 10 Jahre nach Michael Ende.\nIn Schlummerland ist das Wichtigste für alle Leute\, gut zu schlafen. Derjenige\, der am Besten schlafen kann\, ist der König. Nur Prinzessin Schlafittchen freut sich abends nicht aufs Bett. Sie fürchtet sich vor dem Einschlafen\, weil sie nachts oft böse Träume hat. Ärzte und Doktoren aus dem ganzen Land können ihr nicht helfen. Bald weiß man es schon in ganz Schlummerland und man tuschelt hinter vorgehaltener Hand: „Es ist eine Schande! Die Prinzessin\, – des Königs Tochter! – schläft nicht mehr!“. Da schließlich macht sich der König selber auf eine Reise in die Welt hinaus\, um ein Mittel gegen böse Träume zu finden. Doch niemand weiß Rat. Als er schon fast aufgeben will\, trifft er das Traumfresserchen\, das liebend gerne alle bösen Träume auffrisst und nur die guten übrig lässt… \nEnsemble: Theater HERZeigen
URL:https://taf.theater/termin/kindertheater-reihe-2022-09-12/
LOCATION:Großer Saal in der Trinkkuranlage\, Ernst-Ludwig-Ring 1\, Bad Nauheim\, Hessen\, 61231\, Deutschland
CATEGORIES:Kindertheater-Reihe
ATTACH;FMTTYPE=image/jpeg:https://taf.theater/wp-content/uploads/banner.jpg
ORGANIZER;CN="Fachdienst Kultur und Sport":MAILTO:kulturamt@bad-nauheim.de
END:VEVENT
END:VCALENDAR