BEGIN:VCALENDAR
VERSION:2.0
PRODID:-//Theater Alte Feuerwache e. V. - ECPv6.15.19//NONSGML v1.0//EN
CALSCALE:GREGORIAN
METHOD:PUBLISH
X-WR-CALNAME:Theater Alte Feuerwache e. V.
X-ORIGINAL-URL:https://taf.theater
X-WR-CALDESC:Veranstaltungen für Theater Alte Feuerwache e. V.
REFRESH-INTERVAL;VALUE=DURATION:PT1H
X-Robots-Tag:noindex
X-PUBLISHED-TTL:PT1H
BEGIN:VTIMEZONE
TZID:Europe/Berlin
BEGIN:DAYLIGHT
TZOFFSETFROM:+0100
TZOFFSETTO:+0200
TZNAME:CEST
DTSTART:20210328T010000
END:DAYLIGHT
BEGIN:STANDARD
TZOFFSETFROM:+0200
TZOFFSETTO:+0100
TZNAME:CET
DTSTART:20211031T010000
END:STANDARD
BEGIN:DAYLIGHT
TZOFFSETFROM:+0100
TZOFFSETTO:+0200
TZNAME:CEST
DTSTART:20220327T010000
END:DAYLIGHT
BEGIN:STANDARD
TZOFFSETFROM:+0200
TZOFFSETTO:+0100
TZNAME:CET
DTSTART:20221030T010000
END:STANDARD
BEGIN:DAYLIGHT
TZOFFSETFROM:+0100
TZOFFSETTO:+0200
TZNAME:CEST
DTSTART:20230326T010000
END:DAYLIGHT
BEGIN:STANDARD
TZOFFSETFROM:+0200
TZOFFSETTO:+0100
TZNAME:CET
DTSTART:20231029T010000
END:STANDARD
END:VTIMEZONE
BEGIN:VEVENT
DTSTART;TZID=Europe/Berlin:20221017T153000
DTEND;TZID=Europe/Berlin:20221017T163000
DTSTAMP:20260425T052221
CREATED:20220614T130904Z
LAST-MODIFIED:20220622T100504Z
UID:2996-1666020600-1666024200@taf.theater
SUMMARY:Kindertheater-Reihe: Das kleine Blau und das kleine Gelb
DESCRIPTION:Das kleine Blau wohnt mit all seinen blauen Dingen in einem blauen Haus. Gegenüber wohnt das kleine Gelb. Bei ihm ist alles gelb – der Rasenmäher\, der Gartenschlauch\, der Regenmantel und der Mais in der Dose. Blau und Gelb sind beste Freunde. Sie lieben es\, miteinander zu spielen: Fangen\, Verwandeln\, Verstecken. Eines Tages ist das kleine Gelb verschwunden. Das kleine Blau sucht und sucht und sucht. Bis es das kleine Gelb endlich wiederfindet. Die beiden lachen und umarmen sich. Dabei entsteht ein kleines Grün. Schön\, so ein Grün! Aber\, wie passt das in die gelbe und blaue Welt? \nDas kleine Blau und das kleine Gelb ist ein Theaterstück für die jüngsten Zuschauer ab 2 Jahre rings um Dinge\, Farben und das Spielen. Es geht um das Gleich- und Anderssein\, um Freundschaft\, um das sich und die anderen Verlieren\, Suchen und Wiederfinden. \nEnsemble: Karo Acht
URL:https://taf.theater/termin/kindertheater-reihe-2022-10-17/
LOCATION:Großer Saal in der Trinkkuranlage\, Ernst-Ludwig-Ring 1\, Bad Nauheim\, Hessen\, 61231\, Deutschland
CATEGORIES:Kindertheater-Reihe
ATTACH;FMTTYPE=image/jpeg:https://taf.theater/wp-content/uploads/Blau-Gelb-196-scaled.jpg
ORGANIZER;CN="Fachdienst Kultur und Sport":MAILTO:kulturamt@bad-nauheim.de
END:VEVENT
END:VCALENDAR