BEGIN:VCALENDAR
VERSION:2.0
PRODID:-//Theater Alte Feuerwache e. V. - ECPv6.15.19//NONSGML v1.0//EN
CALSCALE:GREGORIAN
METHOD:PUBLISH
X-WR-CALNAME:Theater Alte Feuerwache e. V.
X-ORIGINAL-URL:https://taf.theater
X-WR-CALDESC:Veranstaltungen für Theater Alte Feuerwache e. V.
REFRESH-INTERVAL;VALUE=DURATION:PT1H
X-Robots-Tag:noindex
X-PUBLISHED-TTL:PT1H
BEGIN:VTIMEZONE
TZID:Europe/Berlin
BEGIN:DAYLIGHT
TZOFFSETFROM:+0100
TZOFFSETTO:+0200
TZNAME:CEST
DTSTART:20210328T010000
END:DAYLIGHT
BEGIN:STANDARD
TZOFFSETFROM:+0200
TZOFFSETTO:+0100
TZNAME:CET
DTSTART:20211031T010000
END:STANDARD
BEGIN:DAYLIGHT
TZOFFSETFROM:+0100
TZOFFSETTO:+0200
TZNAME:CEST
DTSTART:20220327T010000
END:DAYLIGHT
BEGIN:STANDARD
TZOFFSETFROM:+0200
TZOFFSETTO:+0100
TZNAME:CET
DTSTART:20221030T010000
END:STANDARD
BEGIN:DAYLIGHT
TZOFFSETFROM:+0100
TZOFFSETTO:+0200
TZNAME:CEST
DTSTART:20230326T010000
END:DAYLIGHT
BEGIN:STANDARD
TZOFFSETFROM:+0200
TZOFFSETTO:+0100
TZNAME:CET
DTSTART:20231029T010000
END:STANDARD
END:VTIMEZONE
BEGIN:VEVENT
DTSTART;TZID=Europe/Berlin:20221107T153000
DTEND;TZID=Europe/Berlin:20221107T163000
DTSTAMP:20260425T052220
CREATED:20220614T130904Z
LAST-MODIFIED:20220622T101117Z
UID:2997-1667835000-1667838600@taf.theater
SUMMARY:Kindertheater-Reihe: Hühner
DESCRIPTION:Puppenclownerei mit Ei!\nDas Leben ist kein Spaziergang. Schwierigkeiten stapeln sich – berghoch. Da hilft es auch nicht\, wenn die gutgelaunte Nachbarin früh um sieben fröhlich durch’s Haus gackert. Was tun? Decke über den Kopf\, Beine hoch und Ruhe. Doch … DING DONG!!! „Guten Morgen\, wollen wir zusammen einen Spaziergang machen?“\nClowneskes Puppentheater rund um die Schwierigkeiten des Miteinanders und wie man trotzdem gemeinsam den Berg erklimmt. Denn die Mithühner sind nicht so\, wie sie sein sollen\, sie sind\, wie sie sind. Und das ist gut so! \nFür Kinder und Erwachsene ab 3 Jahre. \nEnsemble: Die Exen
URL:https://taf.theater/termin/kindertheater-reihe-2022-11-07/
LOCATION:Großer Saal in der Trinkkuranlage\, Ernst-Ludwig-Ring 1\, Bad Nauheim\, Hessen\, 61231\, Deutschland
CATEGORIES:Kindertheater-Reihe
ATTACH;FMTTYPE=image/jpeg:https://taf.theater/wp-content/uploads/die-exen_huehner_foto_lutz_edelhoff_066-scaled.jpg
ORGANIZER;CN="Fachdienst Kultur und Sport":MAILTO:kulturamt@bad-nauheim.de
END:VEVENT
END:VCALENDAR