BEGIN:VCALENDAR
VERSION:2.0
PRODID:-//Theater Alte Feuerwache e. V. - ECPv6.15.19//NONSGML v1.0//EN
CALSCALE:GREGORIAN
METHOD:PUBLISH
X-WR-CALNAME:Theater Alte Feuerwache e. V.
X-ORIGINAL-URL:https://taf.theater
X-WR-CALDESC:Veranstaltungen für Theater Alte Feuerwache e. V.
REFRESH-INTERVAL;VALUE=DURATION:PT1H
X-Robots-Tag:noindex
X-PUBLISHED-TTL:PT1H
BEGIN:VTIMEZONE
TZID:Europe/Berlin
BEGIN:DAYLIGHT
TZOFFSETFROM:+0100
TZOFFSETTO:+0200
TZNAME:CEST
DTSTART:20220327T010000
END:DAYLIGHT
BEGIN:STANDARD
TZOFFSETFROM:+0200
TZOFFSETTO:+0100
TZNAME:CET
DTSTART:20221030T010000
END:STANDARD
BEGIN:DAYLIGHT
TZOFFSETFROM:+0100
TZOFFSETTO:+0200
TZNAME:CEST
DTSTART:20230326T010000
END:DAYLIGHT
BEGIN:STANDARD
TZOFFSETFROM:+0200
TZOFFSETTO:+0100
TZNAME:CET
DTSTART:20231029T010000
END:STANDARD
BEGIN:DAYLIGHT
TZOFFSETFROM:+0100
TZOFFSETTO:+0200
TZNAME:CEST
DTSTART:20240331T010000
END:DAYLIGHT
BEGIN:STANDARD
TZOFFSETFROM:+0200
TZOFFSETTO:+0100
TZNAME:CET
DTSTART:20241027T010000
END:STANDARD
END:VTIMEZONE
BEGIN:VEVENT
DTSTART;TZID=Europe/Berlin:20230911T153000
DTEND;TZID=Europe/Berlin:20230911T170000
DTSTAMP:20260424T235923
CREATED:20230201T105527Z
LAST-MODIFIED:20230201T105527Z
UID:3793-1694446200-1694451600@taf.theater
SUMMARY:KINDERTHEATER-REIHE: ACH DU SCHRECK - DAS EI IST WEG Eine Geschichte vom Hühnerhof
DESCRIPTION:In der Legekiste wohnen Feder und die dicke Käthe. Die junge Henne Pünktchen möchte den letzten freien Platz einnehmen. Aber sie darf nur mitmachen\, wenn sie schon mal ein Ei gelegt hat. Und dann kommt es\, Pünktchens erstes Ei: besonders schön\, groß und mit Punkten. Die Aufregung ist groß! Doch schon am nächsten Morgen ist das Wunderei weg! Es kann nur gestohlen worden sein. Hofhund Holmes geht als Detektiv auf die Suche. Verdächtige gibt es genug! Keiner will es gewesen sein! Die junge Katze Elisa spielt gerne mit Bällen – vielleicht auch mit dem Ei? Oder war Mutterschaf Shirley die Diebin\, um mit dem Ei das Fell ihrer kleinen Frida zu pflegen? Was tat Frosch Kalle\, als er heimlich vom Froschkonzert davonschlich? Oder kommt Sau Rosalinde in der Matschkuhle in Frage? Für alle ab 3 Jahren \nFigurentheater Marmelock (Hannover)
URL:https://taf.theater/termin/kindertheater-reihe-ach-du-schreck-das-ei-ist-weg-eine-geschichte-vom-huehnerhof/
LOCATION:Großer Saal in der Trinkkuranlage\, Ernst-Ludwig-Ring 1\, Bad Nauheim\, Hessen\, 61231\, Deutschland
CATEGORIES:Kindertheater-Reihe
ATTACH;FMTTYPE=image/jpeg:https://taf.theater/wp-content/uploads/2023_09_11_Foto©Mathias-Mueller-Wolfgramm_Ach-du-Schreck-das-Ei-ist-weg.jpg
ORGANIZER;CN="Fachdienst Kultur und Sport":MAILTO:kulturamt@bad-nauheim.de
END:VEVENT
END:VCALENDAR