BEGIN:VCALENDAR
VERSION:2.0
PRODID:-//Theater Alte Feuerwache e. V. - ECPv6.15.19//NONSGML v1.0//EN
CALSCALE:GREGORIAN
METHOD:PUBLISH
X-WR-CALNAME:Theater Alte Feuerwache e. V.
X-ORIGINAL-URL:https://taf.theater
X-WR-CALDESC:Veranstaltungen für Theater Alte Feuerwache e. V.
REFRESH-INTERVAL;VALUE=DURATION:PT1H
X-Robots-Tag:noindex
X-PUBLISHED-TTL:PT1H
BEGIN:VTIMEZONE
TZID:Europe/Berlin
BEGIN:DAYLIGHT
TZOFFSETFROM:+0100
TZOFFSETTO:+0200
TZNAME:CEST
DTSTART:20220327T010000
END:DAYLIGHT
BEGIN:STANDARD
TZOFFSETFROM:+0200
TZOFFSETTO:+0100
TZNAME:CET
DTSTART:20221030T010000
END:STANDARD
BEGIN:DAYLIGHT
TZOFFSETFROM:+0100
TZOFFSETTO:+0200
TZNAME:CEST
DTSTART:20230326T010000
END:DAYLIGHT
BEGIN:STANDARD
TZOFFSETFROM:+0200
TZOFFSETTO:+0100
TZNAME:CET
DTSTART:20231029T010000
END:STANDARD
BEGIN:DAYLIGHT
TZOFFSETFROM:+0100
TZOFFSETTO:+0200
TZNAME:CEST
DTSTART:20240331T010000
END:DAYLIGHT
BEGIN:STANDARD
TZOFFSETFROM:+0200
TZOFFSETTO:+0100
TZNAME:CET
DTSTART:20241027T010000
END:STANDARD
END:VTIMEZONE
BEGIN:VEVENT
DTSTART;TZID=Europe/Berlin:20231106T153000
DTEND;TZID=Europe/Berlin:20231106T170000
DTSTAMP:20260424T221057
CREATED:20230201T111154Z
LAST-MODIFIED:20230201T111154Z
UID:3827-1699284600-1699290000@taf.theater
SUMMARY:KINDERTHEATER-REIHE: ARNOLD – RETTER DER SCHAFHEIT Ein witziges Figuren- und Erzähltheater in der Welt der Wolle über ein schwarzes Schaf
DESCRIPTION:„Schafe brauchen Wolle“\, so Opapapa Schafbock Böcks Devise und daher arbeiten auch alle Schafe seiner Herde in seiner wunderbaren Wollfabrik „Zur schönen Socke“. Alle bis auf Arnold. Der hat keine Lust auf Wollknäule wickeln\, Fäden spinnen\, stricken\, weben. Arnold fühlt sich zu Höherem berufen. Berühmt will er werden. Er träumt von Olympia und Goldmedaille\, denn er ist ein Superschaf. Meint Arnold. Die anderen Schafe meinen das nicht. Unterstützung bekommt Arnold nur von einer Ratte. Die ist voll begeistert von Arnold und sein größter Fan. Eines Tages kommt der Wolf ins Schaftal. Große Aufregung: „Alle ab in den Stall“\, blökt Opapapa Schafbock Böck\, „sofort!“ Arnolds Stunde hat geschlagen. Zusammen mit seinem kleinen Freund tönt er laut: „Wir haben keine Angst!“ Schaf gegen Wolf? Jetzt zeigt sich\, was ein echtes Superschaf ist. \nFür Kinder ab 4 Jahren \nTheater PATATI-PATATA (Reutlingen)
URL:https://taf.theater/termin/kindertheater-reihe-arnold-retter-der-schafheit-ein-witziges-figuren-und-erzaehltheater-in-der-welt-der-wolle-ueber-ein-schwarzes-schaf/
LOCATION:Großer Saal in der Trinkkuranlage\, Ernst-Ludwig-Ring 1\, Bad Nauheim\, Hessen\, 61231\, Deutschland
CATEGORIES:Kindertheater-Reihe
ATTACH;FMTTYPE=image/jpeg:https://taf.theater/wp-content/uploads/Kindertheater_Reihe_2023_11_06_Arnold-Retter_der_Schafheit_12.jpg
ORGANIZER;CN="Fachdienst Kultur und Sport":MAILTO:kulturamt@bad-nauheim.de
END:VEVENT
END:VCALENDAR