BEGIN:VCALENDAR
VERSION:2.0
PRODID:-//Theater Alte Feuerwache e. V. - ECPv6.15.19//NONSGML v1.0//EN
CALSCALE:GREGORIAN
METHOD:PUBLISH
X-WR-CALNAME:Theater Alte Feuerwache e. V.
X-ORIGINAL-URL:https://taf.theater
X-WR-CALDESC:Veranstaltungen für Theater Alte Feuerwache e. V.
REFRESH-INTERVAL;VALUE=DURATION:PT1H
X-Robots-Tag:noindex
X-PUBLISHED-TTL:PT1H
BEGIN:VTIMEZONE
TZID:Europe/Berlin
BEGIN:DAYLIGHT
TZOFFSETFROM:+0100
TZOFFSETTO:+0200
TZNAME:CEST
DTSTART:20220327T010000
END:DAYLIGHT
BEGIN:STANDARD
TZOFFSETFROM:+0200
TZOFFSETTO:+0100
TZNAME:CET
DTSTART:20221030T010000
END:STANDARD
BEGIN:DAYLIGHT
TZOFFSETFROM:+0100
TZOFFSETTO:+0200
TZNAME:CEST
DTSTART:20230326T010000
END:DAYLIGHT
BEGIN:STANDARD
TZOFFSETFROM:+0200
TZOFFSETTO:+0100
TZNAME:CET
DTSTART:20231029T010000
END:STANDARD
BEGIN:DAYLIGHT
TZOFFSETFROM:+0100
TZOFFSETTO:+0200
TZNAME:CEST
DTSTART:20240331T010000
END:DAYLIGHT
BEGIN:STANDARD
TZOFFSETFROM:+0200
TZOFFSETTO:+0100
TZNAME:CET
DTSTART:20241027T010000
END:STANDARD
END:VTIMEZONE
BEGIN:VEVENT
DTSTART;TZID=Europe/Berlin:20230320T153000
DTEND;TZID=Europe/Berlin:20230320T170000
DTSTAMP:20260425T020846
CREATED:20230120T112802Z
LAST-MODIFIED:20230120T112802Z
UID:3735-1679326200-1679331600@taf.theater
SUMMARY:KINDERTHEATER-REIHE: EL DORADO Ein Sandkasten Western
DESCRIPTION:El Dorado – das ist das Versprechen auf grenzenlose Freiheit in den Weiten der Sandberge. Hier lohnt es sich\, nach einem Schatz zu graben. El Dorado. Das ist ein Ort fernab aller bekannten Regeln. Seine Helden und Heldinnen haben ihre eigenen Gesetze. Der Weg durch die Wüste ist weit und der Schatz liegt nicht da\, wo er vermutet wurde. Nach wilder Verfolgungsjagd reiten die mutigen Schatzsuchenden durch den reißenden Fluss\, trotzen endlosen Entfernungen und dem eisigen Gebirgspass. Und am Ende kommt es dann natürlich zum Showdown. Ganz ohne Männer mit Pistolen. Ein Spiel um Gerechtigkeit und Freundschaft.
URL:https://taf.theater/termin/kindertheater-reihe-el-dorado-ein-sandkasten-western/
LOCATION:Großer Saal in der Trinkkuranlage\, Ernst-Ludwig-Ring 1\, Bad Nauheim\, Hessen\, 61231\, Deutschland
CATEGORIES:Kindertheater-Reihe
ATTACH;FMTTYPE=image/jpeg:https://taf.theater/wp-content/uploads/2023_03_20_Kindertheater_Reihe_El_Dorado-3©JenniferRohrbacher-scaled.jpg
ORGANIZER;CN="Fachdienst Kultur und Sport":MAILTO:kulturamt@bad-nauheim.de
END:VEVENT
END:VCALENDAR