BEGIN:VCALENDAR
VERSION:2.0
PRODID:-//Theater Alte Feuerwache e. V. - ECPv6.15.19//NONSGML v1.0//EN
CALSCALE:GREGORIAN
METHOD:PUBLISH
X-WR-CALNAME:Theater Alte Feuerwache e. V.
X-ORIGINAL-URL:https://taf.theater
X-WR-CALDESC:Veranstaltungen für Theater Alte Feuerwache e. V.
REFRESH-INTERVAL;VALUE=DURATION:PT1H
X-Robots-Tag:noindex
X-PUBLISHED-TTL:PT1H
BEGIN:VTIMEZONE
TZID:Europe/Berlin
BEGIN:DAYLIGHT
TZOFFSETFROM:+0100
TZOFFSETTO:+0200
TZNAME:CEST
DTSTART:20220327T010000
END:DAYLIGHT
BEGIN:STANDARD
TZOFFSETFROM:+0200
TZOFFSETTO:+0100
TZNAME:CET
DTSTART:20221030T010000
END:STANDARD
BEGIN:DAYLIGHT
TZOFFSETFROM:+0100
TZOFFSETTO:+0200
TZNAME:CEST
DTSTART:20230326T010000
END:DAYLIGHT
BEGIN:STANDARD
TZOFFSETFROM:+0200
TZOFFSETTO:+0100
TZNAME:CET
DTSTART:20231029T010000
END:STANDARD
BEGIN:DAYLIGHT
TZOFFSETFROM:+0100
TZOFFSETTO:+0200
TZNAME:CEST
DTSTART:20240331T010000
END:DAYLIGHT
BEGIN:STANDARD
TZOFFSETFROM:+0200
TZOFFSETTO:+0100
TZNAME:CET
DTSTART:20241027T010000
END:STANDARD
END:VTIMEZONE
BEGIN:VEVENT
DTSTART;TZID=Europe/Berlin:20231204T153000
DTEND;TZID=Europe/Berlin:20231204T170000
DTSTAMP:20260424T191928
CREATED:20230201T113408Z
LAST-MODIFIED:20230201T113408Z
UID:3839-1701703800-1701709200@taf.theater
SUMMARY:KINDERTHEATER-REIHE: WILHELLMINE WEIHNACHTSSTERN - Ein himmlisches Schauspiel mit Musik und Figuren
DESCRIPTION:Die Milchstrassen-Bewohnerin Wilhellmine ist der mit Abstand kleinste Stern am Himmelszelt. Und das ist nicht das Einzige was sie von den anderen Sternen unterscheidet. Statt Zacken zu polieren\, erfindet sie lustige Geräusche. Statt zu schlafen\, lauscht sie „dem süßen Klang der Stille“. Kein Wunder\, dass die Sternenwelt Kopf steht\, als …\nDer Philosoph Sören Kierkegaard sagte schon: „Denn das Große ist nicht\, dass einer dies oder jenes ist\, sondern dass er es selbst ist.“ Unsere Heldin muss erst ihren ureigenen Weg finden\, bevor sie wirklich zu strahlen beginnt. \nFür Kinder von 4-10 Jahren. Präsentiert von zwei Darstellern. \nL’UNA Theater (Beulich)
URL:https://taf.theater/termin/kindertheater-reihe-wilhellmine-weihnachtsstern-ein-himmlisches-schauspiel-mit-musik-und-figuren/
LOCATION:Großer Saal in der Trinkkuranlage\, Ernst-Ludwig-Ring 1\, Bad Nauheim\, Hessen\, 61231\, Deutschland
CATEGORIES:Kindertheater-Reihe
ATTACH;FMTTYPE=image/jpeg:https://taf.theater/wp-content/uploads/Foto-Wilhellmine-quer@_Michael_Reuland.jpg
ORGANIZER;CN="Fachdienst Kultur und Sport":MAILTO:kulturamt@bad-nauheim.de
END:VEVENT
END:VCALENDAR