BEGIN:VCALENDAR
VERSION:2.0
PRODID:-//Theater Alte Feuerwache e. V. - ECPv6.15.19//NONSGML v1.0//EN
CALSCALE:GREGORIAN
METHOD:PUBLISH
X-WR-CALNAME:Theater Alte Feuerwache e. V.
X-ORIGINAL-URL:https://taf.theater
X-WR-CALDESC:Veranstaltungen für Theater Alte Feuerwache e. V.
REFRESH-INTERVAL;VALUE=DURATION:PT1H
X-Robots-Tag:noindex
X-PUBLISHED-TTL:PT1H
BEGIN:VTIMEZONE
TZID:Europe/Berlin
BEGIN:DAYLIGHT
TZOFFSETFROM:+0100
TZOFFSETTO:+0200
TZNAME:CEST
DTSTART:20210328T010000
END:DAYLIGHT
BEGIN:STANDARD
TZOFFSETFROM:+0200
TZOFFSETTO:+0100
TZNAME:CET
DTSTART:20211031T010000
END:STANDARD
BEGIN:DAYLIGHT
TZOFFSETFROM:+0100
TZOFFSETTO:+0200
TZNAME:CEST
DTSTART:20220327T010000
END:DAYLIGHT
BEGIN:STANDARD
TZOFFSETFROM:+0200
TZOFFSETTO:+0100
TZNAME:CET
DTSTART:20221030T010000
END:STANDARD
BEGIN:DAYLIGHT
TZOFFSETFROM:+0100
TZOFFSETTO:+0200
TZNAME:CEST
DTSTART:20230326T010000
END:DAYLIGHT
BEGIN:STANDARD
TZOFFSETFROM:+0200
TZOFFSETTO:+0100
TZNAME:CET
DTSTART:20231029T010000
END:STANDARD
END:VTIMEZONE
BEGIN:VEVENT
DTSTART;TZID=Europe/Berlin:20220711T153000
DTEND;TZID=Europe/Berlin:20220711T163000
DTSTAMP:20260425T035608
CREATED:20220614T130904Z
LAST-MODIFIED:20220622T100602Z
UID:2993-1657553400-1657557000@taf.theater
SUMMARY:Kindertheater-Reihe: DAS KLEINE ICH BIN ICH
DESCRIPTION:Kindertheater ab 3 Jahren\, nach dem gleichnamigen Kinderbuch von Mira Lobe.\n“Wer bist´n Du?” quakt da plötzlich der Frosch.\nDas ist die Frage\, die das unbekümmerte kleine Etwas in die große Krise stürzt: Ihm fällt einfach keine Antwort ein. Drum zieht es los\, sucht seine Artgenossen und trifft immer nur Tiere\, die anders sind. Pferd\, Kuh\, Fisch\, Vogel\, Nilpferd – das kleine ICH ist das alles nicht. Erschöpft und ratlos fühlt es sich plötzlich als Gar-Nichts\, bis ihm etwas Einzigartiges auffällt…\nEine schillernde Geschichte von Einem\, der auszog\, sich in Anderen zu suchen\, sich aber letztlich in sich selbst findet. Eine phantastische Reise zu Identität und Orientierung\, Toleranz und Bewusstsein. Erzählt und gesungen von einem seltsam großen bunten Wesen\, einer musizierenden Kiste auf 4 langen dünnen Beinen und einem frechen karierten Kistenbewohner\, der den grünen Faden der Geschichte erklimmt.\n“Spielend” finden alle Drei zusammen eine Antwort…. \nEnsemble: Theater Geist
URL:https://taf.theater/termin/kindertheater-reihe/
LOCATION:Großer Saal in der Trinkkuranlage\, Ernst-Ludwig-Ring 1\, Bad Nauheim\, Hessen\, 61231\, Deutschland
CATEGORIES:Kindertheater-Reihe
ATTACH;FMTTYPE=image/jpeg:https://taf.theater/wp-content/uploads/Theater-Geist_Das-kleine-ich-bin-ich.jpg
ORGANIZER;CN="Fachdienst Kultur und Sport":MAILTO:kulturamt@bad-nauheim.de
END:VEVENT
END:VCALENDAR