BEGIN:VCALENDAR
VERSION:2.0
PRODID:-//Theater Alte Feuerwache e. V. - ECPv6.15.19//NONSGML v1.0//EN
CALSCALE:GREGORIAN
METHOD:PUBLISH
X-WR-CALNAME:Theater Alte Feuerwache e. V.
X-ORIGINAL-URL:https://taf.theater
X-WR-CALDESC:Veranstaltungen für Theater Alte Feuerwache e. V.
REFRESH-INTERVAL;VALUE=DURATION:PT1H
X-Robots-Tag:noindex
X-PUBLISHED-TTL:PT1H
BEGIN:VTIMEZONE
TZID:Europe/Berlin
BEGIN:DAYLIGHT
TZOFFSETFROM:+0100
TZOFFSETTO:+0200
TZNAME:CEST
DTSTART:20220327T010000
END:DAYLIGHT
BEGIN:STANDARD
TZOFFSETFROM:+0200
TZOFFSETTO:+0100
TZNAME:CET
DTSTART:20221030T010000
END:STANDARD
BEGIN:DAYLIGHT
TZOFFSETFROM:+0100
TZOFFSETTO:+0200
TZNAME:CEST
DTSTART:20230326T010000
END:DAYLIGHT
BEGIN:STANDARD
TZOFFSETFROM:+0200
TZOFFSETTO:+0100
TZNAME:CET
DTSTART:20231029T010000
END:STANDARD
BEGIN:DAYLIGHT
TZOFFSETFROM:+0100
TZOFFSETTO:+0200
TZNAME:CEST
DTSTART:20240331T010000
END:DAYLIGHT
BEGIN:STANDARD
TZOFFSETFROM:+0200
TZOFFSETTO:+0100
TZNAME:CET
DTSTART:20241027T010000
END:STANDARD
END:VTIMEZONE
BEGIN:VEVENT
DTSTART;TZID=Europe/Berlin:20230712T203000
DTEND;TZID=Europe/Berlin:20230712T223000
DTSTAMP:20260425T002533
CREATED:20230117T184113Z
LAST-MODIFIED:20230621T154917Z
UID:3593-1689193800-1689201000@taf.theater
SUMMARY:Kleinkunst\, Martin O. ; O SOLO IO
DESCRIPTION:Martin O. ist wieder zurück. Solo wie immer\, aber vielschichtiger\, vielstimmiger und stimmungsvoller denn je. In seinem neuen Programm «o solo io» dreht der charmant spitzbübische Beatboxer\, Loop-Chorsänger\, Klangkünstler und poetische Geschichtenerzähler an seinem faszinierenden Stimmen- und Stimmungskaleidoskop\, das einem die Ohren und das Herz öffnet: Fette Beats fließen über in urchigen Jodel oder in ein Stammeslied\, das an ein afrikanisches Dorffest erinnert. Geschichten\, die der ganz normale Wahnsinn und die Schönheit des Alltags schreiben\, vermischen sich mit Liedern\, die zu schmunzeln\, lachen\, staunen und zu denken geben. «o solo io» ist voller Raum für Überraschungen und spontane Interaktionen mit dem Publikum und begeistert mit einer bunt schillernden One-Man-Show – von bodenständig über fein- und hintersinnig bis hin zu urkomisch. Hingehen\, hinhören\, hin und weg sein.
URL:https://taf.theater/termin/kleinkunst-martin-o-o-solo-io/
LOCATION:Großer Saal in der Trinkkuranlage\, Ernst-Ludwig-Ring 1\, Bad Nauheim\, Hessen\, 61231\, Deutschland
CATEGORIES:Kleinkunst-Reihe
ATTACH;FMTTYPE=image/webp:https://taf.theater/wp-content/uploads/12.07-Martiin-O..webp
ORGANIZER;CN="Fachdienst Kultur und Sport":MAILTO:kulturamt@bad-nauheim.de
END:VEVENT
END:VCALENDAR