BEGIN:VCALENDAR
VERSION:2.0
PRODID:-//Theater Alte Feuerwache e. V. - ECPv6.15.19//NONSGML v1.0//EN
CALSCALE:GREGORIAN
METHOD:PUBLISH
X-WR-CALNAME:Theater Alte Feuerwache e. V.
X-ORIGINAL-URL:https://taf.theater
X-WR-CALDESC:Veranstaltungen für Theater Alte Feuerwache e. V.
REFRESH-INTERVAL;VALUE=DURATION:PT1H
X-Robots-Tag:noindex
X-PUBLISHED-TTL:PT1H
BEGIN:VTIMEZONE
TZID:Europe/Berlin
BEGIN:DAYLIGHT
TZOFFSETFROM:+0100
TZOFFSETTO:+0200
TZNAME:CEST
DTSTART:20210328T010000
END:DAYLIGHT
BEGIN:STANDARD
TZOFFSETFROM:+0200
TZOFFSETTO:+0100
TZNAME:CET
DTSTART:20211031T010000
END:STANDARD
BEGIN:DAYLIGHT
TZOFFSETFROM:+0100
TZOFFSETTO:+0200
TZNAME:CEST
DTSTART:20220327T010000
END:DAYLIGHT
BEGIN:STANDARD
TZOFFSETFROM:+0200
TZOFFSETTO:+0100
TZNAME:CET
DTSTART:20221030T010000
END:STANDARD
BEGIN:DAYLIGHT
TZOFFSETFROM:+0100
TZOFFSETTO:+0200
TZNAME:CEST
DTSTART:20230326T010000
END:DAYLIGHT
BEGIN:STANDARD
TZOFFSETFROM:+0200
TZOFFSETTO:+0100
TZNAME:CET
DTSTART:20231029T010000
END:STANDARD
END:VTIMEZONE
BEGIN:VEVENT
DTSTART;TZID=Europe/Berlin:20221109T203000
DTEND;TZID=Europe/Berlin:20221109T223000
DTSTAMP:20260425T052920
CREATED:20220418T173221Z
LAST-MODIFIED:20220612T131659Z
UID:2753-1668025800-1668033000@taf.theater
SUMMARY:KLEINKUNST-REIHE: Die Geierwally
DESCRIPTION:Nach dem Roman von Wilhelmine von Hillern:\nDie seligen Fräuleins\, zwei verblichene\, zeitlose Alpensirenen\, singen und erzählen vom Kampf der Menschen mit der Natur\, – der rauen Bergwelt und der unberechenbaren Menschennatur. Dazu brauchen sie: Eine starke Frau\, einen wilden Jäger\, einen herrischen Vater\, einen intriganten Nebenbuhler – Liebe\, Leidenschaft\, ein Wirtshaus und die Berge von Tirol. Und als besondere Zutat: einen Geier\, der als Anwalt der Geierwally durch die Handlung führt.\nEs ist die Geschichte einer Emanzipation\, in der die Geierwally sich selbstbewusst und trotzig gegen eingefahrene familiäre und gesellschaftliche Strukturen stemmt. Freuen Sie sich auf einen Abend inmitten vergilbter Alpenromantik\, der tragikomisch\, bisweilen grotesk gerät\, weil die Handpuppen ernsthaft\nversuchen\, diesen gewaltigen Filmstoff weg zu schleppen.
URL:https://taf.theater/termin/kleinkunst-reihe-die-geierwally-die-exen/
LOCATION:Großer Saal in der Trinkkuranlage\, Ernst-Ludwig-Ring 1\, Bad Nauheim\, Hessen\, 61231\, Deutschland
CATEGORIES:Kleinkunst-Reihe
ATTACH;FMTTYPE=image/webp:https://taf.theater/wp-content/uploads/Kleinkunst20220911.webp
ORGANIZER;CN="Fachdienst Kultur und Sport":MAILTO:kulturamt@bad-nauheim.de
END:VEVENT
END:VCALENDAR