BEGIN:VCALENDAR
VERSION:2.0
PRODID:-//Theater Alte Feuerwache e. V. - ECPv6.15.19//NONSGML v1.0//EN
CALSCALE:GREGORIAN
METHOD:PUBLISH
X-WR-CALNAME:Theater Alte Feuerwache e. V.
X-ORIGINAL-URL:https://taf.theater
X-WR-CALDESC:Veranstaltungen für Theater Alte Feuerwache e. V.
REFRESH-INTERVAL;VALUE=DURATION:PT1H
X-Robots-Tag:noindex
X-PUBLISHED-TTL:PT1H
BEGIN:VTIMEZONE
TZID:Europe/Berlin
BEGIN:DAYLIGHT
TZOFFSETFROM:+0100
TZOFFSETTO:+0200
TZNAME:CEST
DTSTART:20210328T010000
END:DAYLIGHT
BEGIN:STANDARD
TZOFFSETFROM:+0200
TZOFFSETTO:+0100
TZNAME:CET
DTSTART:20211031T010000
END:STANDARD
BEGIN:DAYLIGHT
TZOFFSETFROM:+0100
TZOFFSETTO:+0200
TZNAME:CEST
DTSTART:20220327T010000
END:DAYLIGHT
BEGIN:STANDARD
TZOFFSETFROM:+0200
TZOFFSETTO:+0100
TZNAME:CET
DTSTART:20221030T010000
END:STANDARD
BEGIN:DAYLIGHT
TZOFFSETFROM:+0100
TZOFFSETTO:+0200
TZNAME:CEST
DTSTART:20230326T010000
END:DAYLIGHT
BEGIN:STANDARD
TZOFFSETFROM:+0200
TZOFFSETTO:+0100
TZNAME:CET
DTSTART:20231029T010000
END:STANDARD
END:VTIMEZONE
BEGIN:VEVENT
DTSTART;TZID=Europe/Berlin:20220413T203000
DTEND;TZID=Europe/Berlin:20220413T223000
DTSTAMP:20260425T154707
CREATED:20220406T083241Z
LAST-MODIFIED:20220612T131725Z
UID:2631-1649881800-1649889000@taf.theater
SUMMARY:KLEINKUNST-REIHE: EIN FALL FÜR PAUL TEMPLE hr2 - RadioLiveTheater
DESCRIPTION:Privatdetektiv Paul Temple ist zurück! Das letzte in Deutschland verschollene Hörspiel „Ein Fall für Paul Temple“ von Francis Durbridge feiert nach 70 Jahren Uraufführung als Live-Hörspiel-Inszenierung auf der Bühne.\nEine mysteriöse Selbstmordserie junger Frauen erschüttert London. Scotland Yard tappt im Dunkeln. Selbst Meisterdetektiv Paul Temple lehnt den Fall ab\, in dem er sich unfreiwillig längst befindet. Denn er kommt einer skrupellosen Bande auf die Schliche\, deren Boss „Valentine“ über Leichen geht; notfalls eine mehr als eine zu wenig. Die halsbrecherische Spurensuche gerät zur lebensgefährlichen Hetzjagd\, bei der „Valentine“ dem Detektiv immer einen Schritt voraus zu sein scheint – und Temples Tod beschlossene Sache ist … \nPreise: \nAbendkasse: 21 €\nAbendkasse ermässigt: 19 €\nVorverkauf: 18 €\nVorverkauf ermässigt: 16 €
URL:https://taf.theater/termin/kleinkunst-reihe-ein-fall-fuer-paul-temple-hr2-radiolivetheater/
CATEGORIES:Kleinkunst-Reihe
ATTACH;FMTTYPE=image/webp:https://taf.theater/wp-content/uploads/event-main-0.webp
END:VEVENT
END:VCALENDAR