BEGIN:VCALENDAR
VERSION:2.0
PRODID:-//Theater Alte Feuerwache e. V. - ECPv6.15.19//NONSGML v1.0//EN
CALSCALE:GREGORIAN
METHOD:PUBLISH
X-WR-CALNAME:Theater Alte Feuerwache e. V.
X-ORIGINAL-URL:https://taf.theater
X-WR-CALDESC:Veranstaltungen für Theater Alte Feuerwache e. V.
REFRESH-INTERVAL;VALUE=DURATION:PT1H
X-Robots-Tag:noindex
X-PUBLISHED-TTL:PT1H
BEGIN:VTIMEZONE
TZID:Europe/Berlin
BEGIN:DAYLIGHT
TZOFFSETFROM:+0100
TZOFFSETTO:+0200
TZNAME:CEST
DTSTART:20210328T010000
END:DAYLIGHT
BEGIN:STANDARD
TZOFFSETFROM:+0200
TZOFFSETTO:+0100
TZNAME:CET
DTSTART:20211031T010000
END:STANDARD
BEGIN:DAYLIGHT
TZOFFSETFROM:+0100
TZOFFSETTO:+0200
TZNAME:CEST
DTSTART:20220327T010000
END:DAYLIGHT
BEGIN:STANDARD
TZOFFSETFROM:+0200
TZOFFSETTO:+0100
TZNAME:CET
DTSTART:20221030T010000
END:STANDARD
BEGIN:DAYLIGHT
TZOFFSETFROM:+0100
TZOFFSETTO:+0200
TZNAME:CEST
DTSTART:20230326T010000
END:DAYLIGHT
BEGIN:STANDARD
TZOFFSETFROM:+0200
TZOFFSETTO:+0100
TZNAME:CET
DTSTART:20231029T010000
END:STANDARD
END:VTIMEZONE
BEGIN:VEVENT
DTSTART;TZID=Europe/Berlin:20220707T203000
DTEND;TZID=Europe/Berlin:20220707T223000
DTSTAMP:20260425T133853
CREATED:20220406T191036Z
LAST-MODIFIED:20220521T151821Z
UID:2681-1657225800-1657233000@taf.theater
SUMMARY:KLEINKUNST-REIHE: "ICH BIN GENAU MEIN HUMOR"
DESCRIPTION:Wenn Super Mario kein Italiener wäre\, sondern Deutscher: Hieße er dann „Toller Jochen“? Oder „Prima Klaus“? Was machen Putzerfische\, die im Aquarium immer an der Scheibe herumsaugen\, in der freien Natur? Schwimmen die ein Leben lang durch den Ozean auf der ewigen Suche nach einer Fensterscheibe und sterben dann total enttäuscht? Die SPD\, was ist da eigentlich schon wieder los? Und Einräder – warum fallen sie nicht um? Wer sich solche Fragen stellt\, der braucht keine Antworten\, sondern eine Bühne. Und auf eben diese stellt sich der sympathische Zwei-Meter-Mann Johannes Floehr mit seinen frechen\nScherzen nun schon seit einigen Jahren. Zum Beispiel mit seinem neuen Programm\, in dem es Stand-Up\, Texte\, Videos und Auszüge aus seinen beiden Büchern „Buch“ (2018) und „Dialoge“ (2019) geben wird. „Also mir gefällt das Programm richtig gut“\, lässt sich der Krefelder zitieren\,\n„aber ich habe es ja auch leicht\, schließlich bin ich genau mein Humor.“
URL:https://taf.theater/termin/kleinkunst-reihe-ich-bin-genau-mein-humor-johannes-floehr/
LOCATION:Großer Saal in der Trinkkuranlage\, Ernst-Ludwig-Ring 1\, Bad Nauheim\, Hessen\, 61231\, Deutschland
CATEGORIES:Kleinkunst-Reihe
ATTACH;FMTTYPE=image/webp:https://taf.theater/wp-content/uploads/220706-Kleinkunst.webp
ORGANIZER;CN="Fachdienst Kultur und Sport":MAILTO:kulturamt@bad-nauheim.de
END:VEVENT
END:VCALENDAR