BEGIN:VCALENDAR
VERSION:2.0
PRODID:-//Theater Alte Feuerwache e. V. - ECPv6.15.19//NONSGML v1.0//EN
CALSCALE:GREGORIAN
METHOD:PUBLISH
X-WR-CALNAME:Theater Alte Feuerwache e. V.
X-ORIGINAL-URL:https://taf.theater
X-WR-CALDESC:Veranstaltungen für Theater Alte Feuerwache e. V.
REFRESH-INTERVAL;VALUE=DURATION:PT1H
X-Robots-Tag:noindex
X-PUBLISHED-TTL:PT1H
BEGIN:VTIMEZONE
TZID:Europe/Berlin
BEGIN:DAYLIGHT
TZOFFSETFROM:+0100
TZOFFSETTO:+0200
TZNAME:CEST
DTSTART:20220327T010000
END:DAYLIGHT
BEGIN:STANDARD
TZOFFSETFROM:+0200
TZOFFSETTO:+0100
TZNAME:CET
DTSTART:20221030T010000
END:STANDARD
BEGIN:DAYLIGHT
TZOFFSETFROM:+0100
TZOFFSETTO:+0200
TZNAME:CEST
DTSTART:20230326T010000
END:DAYLIGHT
BEGIN:STANDARD
TZOFFSETFROM:+0200
TZOFFSETTO:+0100
TZNAME:CET
DTSTART:20231029T010000
END:STANDARD
BEGIN:DAYLIGHT
TZOFFSETFROM:+0100
TZOFFSETTO:+0200
TZNAME:CEST
DTSTART:20240331T010000
END:DAYLIGHT
BEGIN:STANDARD
TZOFFSETFROM:+0200
TZOFFSETTO:+0100
TZNAME:CET
DTSTART:20241027T010000
END:STANDARD
END:VTIMEZONE
BEGIN:VEVENT
DTSTART;TZID=Europe/Berlin:20230913T203000
DTEND;TZID=Europe/Berlin:20230913T223000
DTSTAMP:20260425T031341
CREATED:20230117T184401Z
LAST-MODIFIED:20230808T104412Z
UID:3596-1694637000-1694644200@taf.theater
SUMMARY:Kleinkunst\, Starbugs Comedy ; JUMP! RELOADED
DESCRIPTION:«JUMP!» begeistert seit dem Start die Fans auf der ganzen Welt. Zeit für ein Refresh! Ab Herbst 2022 sind Starbugs Comedy nun mit der überarbeiteten Show «JUMP! Reloaded» auf Tournee. Eine Show mit vielen Updates. Die Reloaded-Show ist noch schneller und überraschender. Ein Muss für alle ZuschauerInnen\, welche «JUMP!» schon einmal\, zweimal oder noch gar nie gesehen haben. \nVon New York bis Tokio haben die drei Comedians mit einer einzigartigen Mischung aus Tanz\, Akrobatik und Comedy in die Herzen des Publikums gespielt. Mit hinreissender\, verblüffender Dynamik verlassen Starbugs Comedy in ihrer Show die bekannten Sphären der Comedy. Die drei coolen Typen ziehen ihr Publikum so umwerfend fantasievoll\, witzig und listig herein\, dass es aus dem Staunen nicht mehr herausfindet. \nSie erzählen keine Witze\, und dennoch lacht das Publikum in einem durch. Drei Männer\, verblüffende Effekte und Requisiten genügen\, um das Publikum in einem begeisternden\, minutiös getakteten Spektakel mitzureissen. Die neue Komikdroge ist umwerfend stark – voller Timing\, Rhythmus\, Sound und Songs. Wie sich das anfühlt: schlicht phänomenal. Man ahnt\, wie’s funktioniert und kann’s nicht fassen. Pausenlos geht etwas in die Hose\, aber nie so\, wie man es erwartet. Wenn man glaubt\, der Schuss sei draussen\, erwischt einen hinterher kalt der Knall. \nIm sprunghaften Auf und Ab spult Starbugs Comedy das Leben virtuos rückwärts und vorwärts – mal in Zeitlupe\, mal im Zeitraffer. Sympathisch augenzwinkernd flirten sie mit dem Publikum\, während sie sich selbst überlisten. Die unerschöpfliche Imagination von Starbugs Comedy hat extreme Nebenwirkungen: Lachmuskelkater. Wenn also nach der Show die halbe Welt das Theater entfesselt verlässt\, dann weiss man: «Jump!» hat sie gepackt.
URL:https://taf.theater/termin/kleinkunst-starbugs-comedy-jump-reloaded/
LOCATION:Großer Saal in der Trinkkuranlage\, Ernst-Ludwig-Ring 1\, Bad Nauheim\, Hessen\, 61231\, Deutschland
CATEGORIES:Kleinkunst-Reihe
ATTACH;FMTTYPE=image/webp:https://taf.theater/wp-content/uploads/13.09.KK_.webp
ORGANIZER;CN="Fachdienst Kultur und Sport":MAILTO:kulturamt@bad-nauheim.de
END:VEVENT
END:VCALENDAR