BEGIN:VCALENDAR
VERSION:2.0
PRODID:-//Theater Alte Feuerwache e. V. - ECPv6.15.19//NONSGML v1.0//EN
CALSCALE:GREGORIAN
METHOD:PUBLISH
X-WR-CALNAME:Theater Alte Feuerwache e. V.
X-ORIGINAL-URL:https://taf.theater
X-WR-CALDESC:Veranstaltungen für Theater Alte Feuerwache e. V.
REFRESH-INTERVAL;VALUE=DURATION:PT1H
X-Robots-Tag:noindex
X-PUBLISHED-TTL:PT1H
BEGIN:VTIMEZONE
TZID:Europe/Berlin
BEGIN:DAYLIGHT
TZOFFSETFROM:+0100
TZOFFSETTO:+0200
TZNAME:CEST
DTSTART:20220327T010000
END:DAYLIGHT
BEGIN:STANDARD
TZOFFSETFROM:+0200
TZOFFSETTO:+0100
TZNAME:CET
DTSTART:20221030T010000
END:STANDARD
BEGIN:DAYLIGHT
TZOFFSETFROM:+0100
TZOFFSETTO:+0200
TZNAME:CEST
DTSTART:20230326T010000
END:DAYLIGHT
BEGIN:STANDARD
TZOFFSETFROM:+0200
TZOFFSETTO:+0100
TZNAME:CET
DTSTART:20231029T010000
END:STANDARD
BEGIN:DAYLIGHT
TZOFFSETFROM:+0100
TZOFFSETTO:+0200
TZNAME:CEST
DTSTART:20240331T010000
END:DAYLIGHT
BEGIN:STANDARD
TZOFFSETFROM:+0200
TZOFFSETTO:+0100
TZNAME:CET
DTSTART:20241027T010000
END:STANDARD
END:VTIMEZONE
BEGIN:VEVENT
DTSTART;TZID=Europe/Berlin:20230517T203000
DTEND;TZID=Europe/Berlin:20230517T223000
DTSTAMP:20260425T020830
CREATED:20230117T183626Z
LAST-MODIFIED:20230420T085400Z
UID:3589-1684355400-1684362600@taf.theater
SUMMARY:Kleinkunst Tobias Mann  ; MANN GEGEN MANN
DESCRIPTION:Tobias Mann\, seines Zeichens Satiriker und Musiker\, stellt sich im neuen Kabarettprogramm seinem ultimativen Endgegner und – Überraschung – es ist Tobias Mann selbst. Die härtesten\nDiskussionen führt er mittlerweile nicht mehr im Internet\, sondern in seinem tiefsten Inneren und dabei zeigt sich: Selbst bei Facebook und Twitter geht es gesitteter zu. Jedes Selbstgespräch eskaliert und mündet in wüsten Beschimpfungen und Hasskommentaren\, ohne Chance darauf\, dass der User gesperrt wird. Schlimm für ihn\, aber gut für sein Publikum\, das\nnun an diesem höchst unterhaltsamen\, kabarettistischen Kampf Mann gegen Mann teilhaben darf. \nIn Texten und Liedern schießt der vielfach ausgezeichnete Kabarettist (u.a. Deutscher Kleinkunstpreis\, Prix Pantheon\, Salzburger Stier\, Deutscher Comedypreis für die ZDF Show „Mann\, Sieber!“) auch in seinem 7. Bühnenprogramm gegen Alles und Jeden\, der es verdient hat. Und allzu oft ist das sogar er selber. Aber keine Angst: Beim Kampf gegen sich selbst gibt es zumindest zwei Gewinner: Tobias Mann und sein Publikum.
URL:https://taf.theater/termin/kleinkunst-tobias-mann-mann-gegen-mann/
LOCATION:Großer Saal in der Trinkkuranlage\, Ernst-Ludwig-Ring 1\, Bad Nauheim\, Hessen\, 61231\, Deutschland
CATEGORIES:Kleinkunst-Reihe
ATTACH;FMTTYPE=image/webp:https://taf.theater/wp-content/uploads/event-main-017.05..webp
ORGANIZER;CN="Fachdienst Kultur und Sport":MAILTO:kulturamt@bad-nauheim.de
END:VEVENT
END:VCALENDAR