BEGIN:VCALENDAR
VERSION:2.0
PRODID:-//Theater Alte Feuerwache e. V. - ECPv6.15.19//NONSGML v1.0//EN
CALSCALE:GREGORIAN
METHOD:PUBLISH
X-WR-CALNAME:Theater Alte Feuerwache e. V.
X-ORIGINAL-URL:https://taf.theater
X-WR-CALDESC:Veranstaltungen für Theater Alte Feuerwache e. V.
REFRESH-INTERVAL;VALUE=DURATION:PT1H
X-Robots-Tag:noindex
X-PUBLISHED-TTL:PT1H
BEGIN:VTIMEZONE
TZID:Europe/Berlin
BEGIN:DAYLIGHT
TZOFFSETFROM:+0100
TZOFFSETTO:+0200
TZNAME:CEST
DTSTART:20230326T010000
END:DAYLIGHT
BEGIN:STANDARD
TZOFFSETFROM:+0200
TZOFFSETTO:+0100
TZNAME:CET
DTSTART:20231029T010000
END:STANDARD
BEGIN:DAYLIGHT
TZOFFSETFROM:+0100
TZOFFSETTO:+0200
TZNAME:CEST
DTSTART:20240331T010000
END:DAYLIGHT
BEGIN:STANDARD
TZOFFSETFROM:+0200
TZOFFSETTO:+0100
TZNAME:CET
DTSTART:20241027T010000
END:STANDARD
BEGIN:DAYLIGHT
TZOFFSETFROM:+0100
TZOFFSETTO:+0200
TZNAME:CEST
DTSTART:20250330T010000
END:DAYLIGHT
BEGIN:STANDARD
TZOFFSETFROM:+0200
TZOFFSETTO:+0100
TZNAME:CET
DTSTART:20251026T010000
END:STANDARD
END:VTIMEZONE
BEGIN:VEVENT
DTSTART;TZID=Europe/Berlin:20240628T193000
DTEND;TZID=Europe/Berlin:20240628T193000
DTSTAMP:20260424T122238
CREATED:20240129T114344Z
LAST-MODIFIED:20240129T114344Z
UID:4780-1719603000-1719603000@taf.theater
SUMMARY:Lust und Unlust - Kant über die Bedeutung unserer Gefühle
DESCRIPTION:Kant ist ein Philosoph der reinen Vernunft und des Kategorischen Imperativs. Weniger bekannt ist\, dass er sich auch sehr ausführlich mit unseren Gefühlen beschäftigt hat. Gefühle sind immer Gefühle der Lust oder der Unlust und stellen neben dem Erkenntnisvermögen und dem Begehrungsvermögen das dritte Vermögen unseres Gemüts dar. So spricht Kant vom inneren und vom physischen Gefühl\, vom moralischen Gefühl und auch vom praktischen Gefühl. Besonders wichtig für Kant sind das Gefühl der Achtung vor dem Moralgesetz und die ästhetischen Gefühle des Schönen und Erhabenen. In dem Vortrag wird ein Überblick über Kants Lehre von den Gefühlen gegeben und die Frage diskutiert\, warum Kant bei aller Wertschätzung für ihre Bedeutung kein Philosoph der Gefühle\, sondern ein Vernunftphilosoph ist. \nReferent: Prof. Dr. Heiner F. Klemme\,\nUniversität Halle/Wittenberg
URL:https://taf.theater/termin/lust-und-unlust-kant-ueber-die-bedeutung-unserer-gefuehle/
LOCATION:Trinkkuranlage
CATEGORIES:Philosophische-Reihe
ORGANIZER;CN="Fachdienst Kultur und Sport":MAILTO:kulturamt@bad-nauheim.de
END:VEVENT
END:VCALENDAR