BEGIN:VCALENDAR
VERSION:2.0
PRODID:-//Theater Alte Feuerwache e. V. - ECPv6.15.19//NONSGML v1.0//EN
CALSCALE:GREGORIAN
METHOD:PUBLISH
X-WR-CALNAME:Theater Alte Feuerwache e. V.
X-ORIGINAL-URL:https://taf.theater
X-WR-CALDESC:Veranstaltungen für Theater Alte Feuerwache e. V.
REFRESH-INTERVAL;VALUE=DURATION:PT1H
X-Robots-Tag:noindex
X-PUBLISHED-TTL:PT1H
BEGIN:VTIMEZONE
TZID:Europe/Berlin
BEGIN:DAYLIGHT
TZOFFSETFROM:+0100
TZOFFSETTO:+0200
TZNAME:CEST
DTSTART:20220327T010000
END:DAYLIGHT
BEGIN:STANDARD
TZOFFSETFROM:+0200
TZOFFSETTO:+0100
TZNAME:CET
DTSTART:20221030T010000
END:STANDARD
BEGIN:DAYLIGHT
TZOFFSETFROM:+0100
TZOFFSETTO:+0200
TZNAME:CEST
DTSTART:20230326T010000
END:DAYLIGHT
BEGIN:STANDARD
TZOFFSETFROM:+0200
TZOFFSETTO:+0100
TZNAME:CET
DTSTART:20231029T010000
END:STANDARD
BEGIN:DAYLIGHT
TZOFFSETFROM:+0100
TZOFFSETTO:+0200
TZNAME:CEST
DTSTART:20240331T010000
END:DAYLIGHT
BEGIN:STANDARD
TZOFFSETFROM:+0200
TZOFFSETTO:+0100
TZNAME:CET
DTSTART:20241027T010000
END:STANDARD
END:VTIMEZONE
BEGIN:VEVENT
DTSTART;TZID=Europe/Berlin:20231218T190000
DTEND;TZID=Europe/Berlin:20231218T220000
DTSTAMP:20260424T173116
CREATED:20231031T104209Z
LAST-MODIFIED:20231209T065435Z
UID:4498-1702926000-1702936800@taf.theater
SUMMARY:ENTFÄLLT - PanneBierhorst
DESCRIPTION:Die Veranstaltung muss aufgrund von Erkrankung leider abgesagt werden. Sollten Sie keine Informationen per Mail erhalten wenden Sie sich bitte an vvk@taf.theater \n  \nWAS WÄRE WINNETOU OHNE OLD SHATTERHAND? \nPanneBierhorst können darauf keine Antwort geben\, denn auch sie sind unzertrennlich. Rüdiger Bierhorst\, vielen bekannt als Mitglied der „Monsters of Liedermaching“ und Sven Panne\, Liedermacher und Pianist mit Hand und Fuß aus Hamburg\, vollenden gemeinsam ihre Balladen über die Liebe und das Leben. \nBeide sind brillante und technisch versierte Unterhalter voller Wortwitz und Tragik. So gipfeln ihre Harmonien in Hymnen auf den Alltag und den Alkohol und münden in Oden von der Ostsee bis zum Bodensee. \nDer Übergang vom Drama zur Komödie erfolgt dabei so schnörkellos und aufrichtig\, dass das Publikum längst in gut gelaunter Melancholie mitsingt und mittrinkt.
URL:https://taf.theater/termin/pannebierhorst/
LOCATION:Kleiner Saal in der Trinkkuranlage\, Ernst-Ludwig-Ring 1\, Bad Nauheim\, 61231
CATEGORIES:Konzerte,TAF Gastspiel
ATTACH;FMTTYPE=image/png:https://taf.theater/wp-content/uploads/PanneBierHorst.png
ORGANIZER;CN="Theater Alte Feuerwache e. V.":MAILTO:info@taf.theater
GEO:50.3629148;8.7410605
X-APPLE-STRUCTURED-LOCATION;VALUE=URI;X-ADDRESS=Kleiner Saal in der Trinkkuranlage Ernst-Ludwig-Ring 1 Bad Nauheim 61231;X-APPLE-RADIUS=500;X-TITLE=Ernst-Ludwig-Ring 1:geo:8.7410605,50.3629148
END:VEVENT
END:VCALENDAR