BEGIN:VCALENDAR
VERSION:2.0
PRODID:-//Theater Alte Feuerwache e. V. - ECPv6.15.19//NONSGML v1.0//EN
CALSCALE:GREGORIAN
METHOD:PUBLISH
X-WR-CALNAME:Theater Alte Feuerwache e. V.
X-ORIGINAL-URL:https://taf.theater
X-WR-CALDESC:Veranstaltungen für Theater Alte Feuerwache e. V.
REFRESH-INTERVAL;VALUE=DURATION:PT1H
X-Robots-Tag:noindex
X-PUBLISHED-TTL:PT1H
BEGIN:VTIMEZONE
TZID:Europe/Berlin
BEGIN:DAYLIGHT
TZOFFSETFROM:+0100
TZOFFSETTO:+0200
TZNAME:CEST
DTSTART:20220327T010000
END:DAYLIGHT
BEGIN:STANDARD
TZOFFSETFROM:+0200
TZOFFSETTO:+0100
TZNAME:CET
DTSTART:20221030T010000
END:STANDARD
BEGIN:DAYLIGHT
TZOFFSETFROM:+0100
TZOFFSETTO:+0200
TZNAME:CEST
DTSTART:20230326T010000
END:DAYLIGHT
BEGIN:STANDARD
TZOFFSETFROM:+0200
TZOFFSETTO:+0100
TZNAME:CET
DTSTART:20231029T010000
END:STANDARD
BEGIN:DAYLIGHT
TZOFFSETFROM:+0100
TZOFFSETTO:+0200
TZNAME:CEST
DTSTART:20240331T010000
END:DAYLIGHT
BEGIN:STANDARD
TZOFFSETFROM:+0200
TZOFFSETTO:+0100
TZNAME:CET
DTSTART:20241027T010000
END:STANDARD
END:VTIMEZONE
BEGIN:VEVENT
DTSTART;TZID=Europe/Berlin:20230512T193000
DTEND;TZID=Europe/Berlin:20230512T210000
DTSTAMP:20260425T153559
CREATED:20230120T125647Z
LAST-MODIFIED:20230420T085314Z
UID:3739-1683919800-1683925200@taf.theater
SUMMARY:PHILOSOPHISCHE-REIHE: DIALEKTIK DER NATURVERHÄLTNISSE Zu Max Horkheimer und Theodor W. Adorno
DESCRIPTION:In ihrer „Dialektik der Aufklärung“ beschreiben Max Horkheimer und Theodor W. Adorno ein zweischneidiges Naturverhältnis\, das auch für unsere Gegenwart gilt. Einerseits verspricht die Aufklärung Freiheitszugewinne\, indem sich der Mensch von der Natur durch Herrschaft über sie befreit. Andererseits verkehrt sich diese Freiheit im Zeitalter der Erderwärmung\, Ressourcenerschöpfung\, Globalvermüllung und des Artensterbens in ihr Gegenteil. Die Emanzipation von einer schicksalhaften Natur schlägt um in einen ökologischen Kontrollverlust und lässt die Überlebensfrage aufs Neue wiederkehren. Zu fragen ist nach einem Ausweg aus dieser Dialektik der Naturverhältnisse. \nReferent: Prof. Dr. Tilo Wesche\, Universität Oldenburg
URL:https://taf.theater/termin/philosophische-reihe-dialektik-der-naturverhaeltnisse-zu-max-horkheimer-und-theodor-w-adorno/
LOCATION:Trinkkuranlage
CATEGORIES:Philosophische-Reihe
ATTACH;FMTTYPE=image/webp:https://taf.theater/wp-content/uploads/23-01-event-main-0@2x.webp
ORGANIZER;CN="Fachdienst Kultur und Sport":MAILTO:kulturamt@bad-nauheim.de
END:VEVENT
END:VCALENDAR