BEGIN:VCALENDAR
VERSION:2.0
PRODID:-//Theater Alte Feuerwache e. V. - ECPv6.15.19//NONSGML v1.0//EN
CALSCALE:GREGORIAN
METHOD:PUBLISH
X-WR-CALNAME:Theater Alte Feuerwache e. V.
X-ORIGINAL-URL:https://taf.theater
X-WR-CALDESC:Veranstaltungen für Theater Alte Feuerwache e. V.
REFRESH-INTERVAL;VALUE=DURATION:PT1H
X-Robots-Tag:noindex
X-PUBLISHED-TTL:PT1H
BEGIN:VTIMEZONE
TZID:Europe/Berlin
BEGIN:DAYLIGHT
TZOFFSETFROM:+0100
TZOFFSETTO:+0200
TZNAME:CEST
DTSTART:20220327T010000
END:DAYLIGHT
BEGIN:STANDARD
TZOFFSETFROM:+0200
TZOFFSETTO:+0100
TZNAME:CET
DTSTART:20221030T010000
END:STANDARD
BEGIN:DAYLIGHT
TZOFFSETFROM:+0100
TZOFFSETTO:+0200
TZNAME:CEST
DTSTART:20230326T010000
END:DAYLIGHT
BEGIN:STANDARD
TZOFFSETFROM:+0200
TZOFFSETTO:+0100
TZNAME:CET
DTSTART:20231029T010000
END:STANDARD
BEGIN:DAYLIGHT
TZOFFSETFROM:+0100
TZOFFSETTO:+0200
TZNAME:CEST
DTSTART:20240331T010000
END:DAYLIGHT
BEGIN:STANDARD
TZOFFSETFROM:+0200
TZOFFSETTO:+0100
TZNAME:CET
DTSTART:20241027T010000
END:STANDARD
END:VTIMEZONE
BEGIN:VEVENT
DTSTART;TZID=Europe/Berlin:20230623T193000
DTEND;TZID=Europe/Berlin:20230623T210000
DTSTAMP:20260425T035704
CREATED:20230118T153205Z
LAST-MODIFIED:20230118T153205Z
UID:3667-1687548600-1687554000@taf.theater
SUMMARY:PHILOSOPHISCHE-REIHE: DIE SUSPENSION DES ICHS
DESCRIPTION:Kaum ein Werk des 20. Jahrhunderts hat einen derart nachhaltigen Einfluss auf die Entwicklung der Geisteswissenschaften genommen wie Gadamers „Wahrheit und Methode“\, in dem er auseinanderlegte\, was für ihn Hermeneutik\, die Lehre vom Verstehen\, ausmachte. Aus der Denktradition Hegels\, Husserls und Heideggers kommend\, verdeutlichte er\, von welchen Voraussetzungen das Verstehen immer schon ausgeht und dass man sich dieser Voraussetzungen sehr bewusst sein muss\, wenn man sich nicht so im Wege stehen will\, dass an eine Akzeptanz des Anderen gar nicht mehr zu denken ist. \nReferent: Dr. Matthias Eigelsheimer\, Schmitten
URL:https://taf.theater/termin/philosophische-reihe-die-suspension-des-ichs/
LOCATION:Kleiner Saal in der Trinkkuranlage\, Ernst-Ludwig-Ring 1\, Bad Nauheim\, 61231
CATEGORIES:Philosophische-Reihe
ATTACH;FMTTYPE=image/webp:https://taf.theater/wp-content/uploads/23-01-event-main-0@2x.webp
ORGANIZER;CN="Fachdienst Kultur und Sport":MAILTO:kulturamt@bad-nauheim.de
GEO:50.3629148;8.7410605
X-APPLE-STRUCTURED-LOCATION;VALUE=URI;X-ADDRESS=Kleiner Saal in der Trinkkuranlage Ernst-Ludwig-Ring 1 Bad Nauheim 61231;X-APPLE-RADIUS=500;X-TITLE=Ernst-Ludwig-Ring 1:geo:8.7410605,50.3629148
END:VEVENT
END:VCALENDAR