BEGIN:VCALENDAR
VERSION:2.0
PRODID:-//Theater Alte Feuerwache e. V. - ECPv6.15.19//NONSGML v1.0//EN
CALSCALE:GREGORIAN
METHOD:PUBLISH
X-WR-CALNAME:Theater Alte Feuerwache e. V.
X-ORIGINAL-URL:https://taf.theater
X-WR-CALDESC:Veranstaltungen für Theater Alte Feuerwache e. V.
REFRESH-INTERVAL;VALUE=DURATION:PT1H
X-Robots-Tag:noindex
X-PUBLISHED-TTL:PT1H
BEGIN:VTIMEZONE
TZID:Europe/Berlin
BEGIN:DAYLIGHT
TZOFFSETFROM:+0100
TZOFFSETTO:+0200
TZNAME:CEST
DTSTART:20220327T010000
END:DAYLIGHT
BEGIN:STANDARD
TZOFFSETFROM:+0200
TZOFFSETTO:+0100
TZNAME:CET
DTSTART:20221030T010000
END:STANDARD
BEGIN:DAYLIGHT
TZOFFSETFROM:+0100
TZOFFSETTO:+0200
TZNAME:CEST
DTSTART:20230326T010000
END:DAYLIGHT
BEGIN:STANDARD
TZOFFSETFROM:+0200
TZOFFSETTO:+0100
TZNAME:CET
DTSTART:20231029T010000
END:STANDARD
BEGIN:DAYLIGHT
TZOFFSETFROM:+0100
TZOFFSETTO:+0200
TZNAME:CEST
DTSTART:20240331T010000
END:DAYLIGHT
BEGIN:STANDARD
TZOFFSETFROM:+0200
TZOFFSETTO:+0100
TZNAME:CET
DTSTART:20241027T010000
END:STANDARD
END:VTIMEZONE
BEGIN:VEVENT
DTSTART;TZID=Europe/Berlin:20230324T193000
DTEND;TZID=Europe/Berlin:20230324T210000
DTSTAMP:20260425T035820
CREATED:20230118T151429Z
LAST-MODIFIED:20230118T165306Z
UID:3647-1679686200-1679691600@taf.theater
SUMMARY:PHILOSOPHISCHE-REIHE: MICHEL FOUCAULT Michel Foucault und die Macht der Diskurse
DESCRIPTION:Michel Foucault ist einer der einflussreichsten Philosophen des 20. Jahrhunderts. In seinen wichtigsten Arbeiten zur Diskursanalyse untersucht er\, wie Wissen entsteht und wie dieses Wissen machtvolle Geltung erlangt. In diesem Prozess ist das Subjekt als Autor den Mechanismen der Diskurse untergeordnet. Foucaults Beschreibung der Macht der Diskurse untersucht Phänomene wie Wahnsinn oder Sexualität. Seine Fragestellungen haben seit den letzten Dekaden des 20. Jahrhunderts zahlreichen Wissenschaftsdisziplinen wie der Soziologie\, der Psychologie\, der Literaturwissenschaft u.a. neue richtungsweisende Denkanstöße gegeben. \nReferent: Prof. Dr. Michael Bernsen\, Universität Bonn
URL:https://taf.theater/termin/philosophische-reihe-michel-foucault-michel-foucault-und-die-macht-der-diskurse/
CATEGORIES:Philosophische-Reihe
ATTACH;FMTTYPE=image/webp:https://taf.theater/wp-content/uploads/23-01-event-main-0@2x.webp
END:VEVENT
END:VCALENDAR