BEGIN:VCALENDAR
VERSION:2.0
PRODID:-//Theater Alte Feuerwache e. V. - ECPv6.15.19//NONSGML v1.0//EN
CALSCALE:GREGORIAN
METHOD:PUBLISH
X-WR-CALNAME:Theater Alte Feuerwache e. V.
X-ORIGINAL-URL:https://taf.theater
X-WR-CALDESC:Veranstaltungen für Theater Alte Feuerwache e. V.
REFRESH-INTERVAL;VALUE=DURATION:PT1H
X-Robots-Tag:noindex
X-PUBLISHED-TTL:PT1H
BEGIN:VTIMEZONE
TZID:Europe/Berlin
BEGIN:DAYLIGHT
TZOFFSETFROM:+0100
TZOFFSETTO:+0200
TZNAME:CEST
DTSTART:20220327T010000
END:DAYLIGHT
BEGIN:STANDARD
TZOFFSETFROM:+0200
TZOFFSETTO:+0100
TZNAME:CET
DTSTART:20221030T010000
END:STANDARD
BEGIN:DAYLIGHT
TZOFFSETFROM:+0100
TZOFFSETTO:+0200
TZNAME:CEST
DTSTART:20230326T010000
END:DAYLIGHT
BEGIN:STANDARD
TZOFFSETFROM:+0200
TZOFFSETTO:+0100
TZNAME:CET
DTSTART:20231029T010000
END:STANDARD
BEGIN:DAYLIGHT
TZOFFSETFROM:+0100
TZOFFSETTO:+0200
TZNAME:CEST
DTSTART:20240331T010000
END:DAYLIGHT
BEGIN:STANDARD
TZOFFSETFROM:+0200
TZOFFSETTO:+0100
TZNAME:CET
DTSTART:20241027T010000
END:STANDARD
END:VTIMEZONE
BEGIN:VEVENT
DTSTART;TZID=Europe/Berlin:20230922T193000
DTEND;TZID=Europe/Berlin:20230922T210000
DTSTAMP:20260424T222754
CREATED:20230201T110220Z
LAST-MODIFIED:20230808T103715Z
UID:3797-1695411000-1695416400@taf.theater
SUMMARY:PHILOSOPHISCHE-REIHE: POLITISCHE PHILOSOPHIE  - Einführung in die Politische Philosophie von John Rawls
DESCRIPTION:Die Grundidee der Politischen Philosophie von John Rawls ist\, dass Prinzipien der Gerechtigkeit zur Regulierung der Grundstruktur einer Gesellschaft in einer fairen Ausgangssituation gewählt werden müssen. Diese beschreibt Rawls durch das Gedankenexperiment des Urzustandes\, in dem wir uns als freie und gleiche begegnen\, da alle intellektuellen und sozialen Unterschiede hinter einem Schleier des Nichtwissens versteckt werden. Unter solchen Bedingungen würden wir zwei Gerechtigkeitsprinzipien wählen: das Prinzip der gleichen Grundfreiheiten und der fairen Chancengleichheit. Diese Theorie wird anschließend mit Einwänden konfrontiert. \nReferentin: Prof. Dr. Corinna Mieth\, Universität Bochum
URL:https://taf.theater/termin/philosophische-reihe-politische-philosophie-einfuehrung-in-die-politische-philosophie-von-john-rawls/
LOCATION:Trinkkuranlage
CATEGORIES:Philosophische-Reihe
ATTACH;FMTTYPE=image/webp:https://taf.theater/wp-content/uploads/23-01-event-main-0@2x.webp
ORGANIZER;CN="Fachdienst Kultur und Sport":MAILTO:kulturamt@bad-nauheim.de
END:VEVENT
END:VCALENDAR