BEGIN:VCALENDAR
VERSION:2.0
PRODID:-//Theater Alte Feuerwache e. V. - ECPv6.15.19//NONSGML v1.0//EN
CALSCALE:GREGORIAN
METHOD:PUBLISH
X-WR-CALNAME:Theater Alte Feuerwache e. V.
X-ORIGINAL-URL:https://taf.theater
X-WR-CALDESC:Veranstaltungen für Theater Alte Feuerwache e. V.
REFRESH-INTERVAL;VALUE=DURATION:PT1H
X-Robots-Tag:noindex
X-PUBLISHED-TTL:PT1H
BEGIN:VTIMEZONE
TZID:Europe/Berlin
BEGIN:DAYLIGHT
TZOFFSETFROM:+0100
TZOFFSETTO:+0200
TZNAME:CEST
DTSTART:20230326T010000
END:DAYLIGHT
BEGIN:STANDARD
TZOFFSETFROM:+0200
TZOFFSETTO:+0100
TZNAME:CET
DTSTART:20231029T010000
END:STANDARD
BEGIN:DAYLIGHT
TZOFFSETFROM:+0100
TZOFFSETTO:+0200
TZNAME:CEST
DTSTART:20240331T010000
END:DAYLIGHT
BEGIN:STANDARD
TZOFFSETFROM:+0200
TZOFFSETTO:+0100
TZNAME:CET
DTSTART:20241027T010000
END:STANDARD
BEGIN:DAYLIGHT
TZOFFSETFROM:+0100
TZOFFSETTO:+0200
TZNAME:CEST
DTSTART:20250330T010000
END:DAYLIGHT
BEGIN:STANDARD
TZOFFSETFROM:+0200
TZOFFSETTO:+0100
TZNAME:CET
DTSTART:20251026T010000
END:STANDARD
END:VTIMEZONE
BEGIN:VEVENT
DTSTART;TZID=Europe/Berlin:20240701T193000
DTEND;TZID=Europe/Berlin:20240701T193000
DTSTAMP:20260424T123335
CREATED:20240129T115007Z
LAST-MODIFIED:20240129T115007Z
UID:4752-1719862200-1719862200@taf.theater
SUMMARY:Schwedische Großmachtzeit
DESCRIPTION:Der Vortrag findet im Rahmen der Vortragsreihe Geschichte 2024 statt zum Thema „Europas Norden – Der Ostseeraum – Schauplatz europäischer Geschichte”. \nDer Vortrag wird zum einen auf Definitionsprobleme der Begriffe „Großmacht“ und „Großmachtzeit“\, zum anderen auf Periodisierungsprobleme eingehen\, bevor er sich den einzelnen Entwicklungsstationen der Großmacht Schweden zuwendet. Mit den Periodisierungsproblemen eng zusammen hängt die Frage\, wie sich der schwedische Großmachtstatus herausgebildet hat und ab welchem Zeitpunkt und mit welchen Beschreibungskriterien man überhaupt von Großmacht sprechen kann. Dabei sind insbesondere zwei Schlüsselereignisse zu diskutieren: die Unterstellung Estlands unter schwedische Oberhoheit ab 1561 und der Eintritt Schwedens in den Dreißigjährigen Krieg 1630. \nReferent: Prof. Dr. Ralph Tuchtenhagen\, Humbold-Universität (Nordeuropa-Institut)
URL:https://taf.theater/termin/schwedische-grossmachtzeit/
LOCATION:Trinkkuranlage
CATEGORIES:Vortragsreihe Geschichte
ORGANIZER;CN="Fachdienst Kultur und Sport":MAILTO:kulturamt@bad-nauheim.de
END:VEVENT
END:VCALENDAR