BEGIN:VCALENDAR
VERSION:2.0
PRODID:-//Theater Alte Feuerwache e. V. - ECPv6.15.19//NONSGML v1.0//EN
CALSCALE:GREGORIAN
METHOD:PUBLISH
X-WR-CALNAME:Theater Alte Feuerwache e. V.
X-ORIGINAL-URL:https://taf.theater
X-WR-CALDESC:Veranstaltungen für Theater Alte Feuerwache e. V.
REFRESH-INTERVAL;VALUE=DURATION:PT1H
X-Robots-Tag:noindex
X-PUBLISHED-TTL:PT1H
BEGIN:VTIMEZONE
TZID:Europe/Berlin
BEGIN:DAYLIGHT
TZOFFSETFROM:+0100
TZOFFSETTO:+0200
TZNAME:CEST
DTSTART:20220327T010000
END:DAYLIGHT
BEGIN:STANDARD
TZOFFSETFROM:+0200
TZOFFSETTO:+0100
TZNAME:CET
DTSTART:20221030T010000
END:STANDARD
BEGIN:DAYLIGHT
TZOFFSETFROM:+0100
TZOFFSETTO:+0200
TZNAME:CEST
DTSTART:20230326T010000
END:DAYLIGHT
BEGIN:STANDARD
TZOFFSETFROM:+0200
TZOFFSETTO:+0100
TZNAME:CET
DTSTART:20231029T010000
END:STANDARD
BEGIN:DAYLIGHT
TZOFFSETFROM:+0100
TZOFFSETTO:+0200
TZNAME:CEST
DTSTART:20240331T010000
END:DAYLIGHT
BEGIN:STANDARD
TZOFFSETFROM:+0200
TZOFFSETTO:+0100
TZNAME:CET
DTSTART:20241027T010000
END:STANDARD
END:VTIMEZONE
BEGIN:VEVENT
DTSTART;TZID=Europe/Berlin:20230727T200000
DTEND;TZID=Europe/Berlin:20230727T223000
DTSTAMP:20260425T032343
CREATED:20230118T154622Z
LAST-MODIFIED:20230727T043401Z
UID:3682-1690488000-1690497000@taf.theater
SUMMARY:SOMMER-REIHE: BILLY COBHAM BAND
DESCRIPTION:Achtung: Wurde verlegt in das Jugendstil Theater im Dolce \nSeit seinem Durchbruch in den frühen 1970er Jahren als Gründungsmitglied des Mahavishnu Orchestra und als Drummer / Leader ist Billy Cobham stets der unermüdliche\, musikalische Entdecker und Forscher geblieben\, der er war. Mit seinem kraftvollen und komplexen Schlagzeug-Spiel hat er enormen Einfluss auf die Entwicklung der Jazz- und Fusion-Jazz-Szene genommen\, wie man beispielsweise auf seinem Nummer-Eins-Album Spectrum hören kann. Sein spielerisches Niveau zeigt sich unter anderem bei der Doublebassdrum – eine Technik\, die er beherrscht wie kein anderer. Doch Billy Cobham weit mehr als ein grandioser Schlagzeuger und Percussionist. Er hat sich auch als Komponist und Produzent einen Namen gemacht.
URL:https://taf.theater/termin/sommer-reihe-billy-cobham-band-konzerte-2000/
LOCATION:Jugendstil-Theater im Dolce\, Elvis-Presley-Platz 1\, Bad Nauheim\, 61231
CATEGORIES:Sommer-Reihe (open-air)
ATTACH;FMTTYPE=image/webp:https://taf.theater/wp-content/uploads/27.07.SR_.webp
ORGANIZER;CN="Fachdienst Kultur und Sport":MAILTO:kulturamt@bad-nauheim.de
END:VEVENT
END:VCALENDAR