BEGIN:VCALENDAR
VERSION:2.0
PRODID:-//Theater Alte Feuerwache e. V. - ECPv6.15.19//NONSGML v1.0//EN
CALSCALE:GREGORIAN
METHOD:PUBLISH
X-WR-CALNAME:Theater Alte Feuerwache e. V.
X-ORIGINAL-URL:https://taf.theater
X-WR-CALDESC:Veranstaltungen für Theater Alte Feuerwache e. V.
REFRESH-INTERVAL;VALUE=DURATION:PT1H
X-Robots-Tag:noindex
X-PUBLISHED-TTL:PT1H
BEGIN:VTIMEZONE
TZID:Europe/Berlin
BEGIN:DAYLIGHT
TZOFFSETFROM:+0100
TZOFFSETTO:+0200
TZNAME:CEST
DTSTART:20220327T010000
END:DAYLIGHT
BEGIN:STANDARD
TZOFFSETFROM:+0200
TZOFFSETTO:+0100
TZNAME:CET
DTSTART:20221030T010000
END:STANDARD
BEGIN:DAYLIGHT
TZOFFSETFROM:+0100
TZOFFSETTO:+0200
TZNAME:CEST
DTSTART:20230326T010000
END:DAYLIGHT
BEGIN:STANDARD
TZOFFSETFROM:+0200
TZOFFSETTO:+0100
TZNAME:CET
DTSTART:20231029T010000
END:STANDARD
BEGIN:DAYLIGHT
TZOFFSETFROM:+0100
TZOFFSETTO:+0200
TZNAME:CEST
DTSTART:20240331T010000
END:DAYLIGHT
BEGIN:STANDARD
TZOFFSETFROM:+0200
TZOFFSETTO:+0100
TZNAME:CET
DTSTART:20241027T010000
END:STANDARD
END:VTIMEZONE
BEGIN:VEVENT
DTSTART;TZID=Europe/Berlin:20230817T200000
DTEND;TZID=Europe/Berlin:20230817T223000
DTSTAMP:20260425T001313
CREATED:20230117T194037Z
LAST-MODIFIED:20230724T144032Z
UID:3632-1692302400-1692311400@taf.theater
SUMMARY:Sommerreihe 2023\,  BOPPIN´B ; Saxbomb
DESCRIPTION:Boppin’B sind schlicht und ergreifend der Inbegriff D E R Hard-Working-Band. Nach 37 bewegten Jahren und über 6000 gespielten Konzerten\, nach Chartplatzierungen\, großen und kleinen Fernsehshows\, nach Tourneen in ganz Europa auf den größten (und nicht selten auch auf den kleinsten) Bühnen\, versprüht diese Bande von Rock’n’Roll-Enthusiasten immer noch jeden neuen Tag eine unglaubliche Energie\, sobald sie die Bühne entert.
URL:https://taf.theater/termin/sommerreihe-2023-boppinb-saxbomb/
LOCATION:Konzertmuschel der Trinkkuranlage
CATEGORIES:Sommer-Reihe (open-air)
ATTACH;FMTTYPE=image/webp:https://taf.theater/wp-content/uploads/17.08.-SR.webp
ORGANIZER;CN="Theater Alte Feuerwache e. V.":MAILTO:info@taf.theater
END:VEVENT
END:VCALENDAR