BEGIN:VCALENDAR
VERSION:2.0
PRODID:-//Theater Alte Feuerwache e. V. - ECPv6.15.19//NONSGML v1.0//EN
CALSCALE:GREGORIAN
METHOD:PUBLISH
X-WR-CALNAME:Theater Alte Feuerwache e. V.
X-ORIGINAL-URL:https://taf.theater
X-WR-CALDESC:Veranstaltungen für Theater Alte Feuerwache e. V.
REFRESH-INTERVAL;VALUE=DURATION:PT1H
X-Robots-Tag:noindex
X-PUBLISHED-TTL:PT1H
BEGIN:VTIMEZONE
TZID:Europe/Berlin
BEGIN:DAYLIGHT
TZOFFSETFROM:+0100
TZOFFSETTO:+0200
TZNAME:CEST
DTSTART:20220327T010000
END:DAYLIGHT
BEGIN:STANDARD
TZOFFSETFROM:+0200
TZOFFSETTO:+0100
TZNAME:CET
DTSTART:20221030T010000
END:STANDARD
BEGIN:DAYLIGHT
TZOFFSETFROM:+0100
TZOFFSETTO:+0200
TZNAME:CEST
DTSTART:20230326T010000
END:DAYLIGHT
BEGIN:STANDARD
TZOFFSETFROM:+0200
TZOFFSETTO:+0100
TZNAME:CET
DTSTART:20231029T010000
END:STANDARD
BEGIN:DAYLIGHT
TZOFFSETFROM:+0100
TZOFFSETTO:+0200
TZNAME:CEST
DTSTART:20240331T010000
END:DAYLIGHT
BEGIN:STANDARD
TZOFFSETFROM:+0200
TZOFFSETTO:+0100
TZNAME:CET
DTSTART:20241027T010000
END:STANDARD
END:VTIMEZONE
BEGIN:VEVENT
DTSTART;TZID=Europe/Berlin:20230803T200000
DTEND;TZID=Europe/Berlin:20230803T223000
DTSTAMP:20260425T013131
CREATED:20230117T193325Z
LAST-MODIFIED:20230724T144006Z
UID:3628-1691092800-1691101800@taf.theater
SUMMARY:Sommerreihe 2023\, ONAIR\, A Capella Pop Show  Vocal Legends
DESCRIPTION:Was für Stimmen\, was für eine Show: Mit zum Teil phänomenalen Arrangements und exquisitem Gesang hat sich ONAIR im Laufe der vergangenen drei Jahre längst in die obersten Sphären der Vokalkunst geschossen – und legt jetzt mit dem neuen Programm “Illuminate” noch einen drauf. Die Berliner brennen ein Feuerwerk auf höchstem Niveau ab\, verzaubern mit Covers und Eigenkompositionen gleichermaßen und sorgen so für einen Jubelsturm nach dem anderen.
URL:https://taf.theater/termin/sommerreihe-2023-onair-a-capella-pop-show-vocal-legends/
LOCATION:Konzertmuschel der Trinkkuranlage
CATEGORIES:Sommer-Reihe (open-air)
ATTACH;FMTTYPE=image/webp:https://taf.theater/wp-content/uploads/03.08.SR_.webp
ORGANIZER;CN="Fachdienst Kultur und Sport":MAILTO:kulturamt@bad-nauheim.de
END:VEVENT
END:VCALENDAR