BEGIN:VCALENDAR
VERSION:2.0
PRODID:-//Theater Alte Feuerwache e. V. - ECPv6.15.19//NONSGML v1.0//EN
CALSCALE:GREGORIAN
METHOD:PUBLISH
X-WR-CALNAME:Theater Alte Feuerwache e. V.
X-ORIGINAL-URL:https://taf.theater
X-WR-CALDESC:Veranstaltungen für Theater Alte Feuerwache e. V.
REFRESH-INTERVAL;VALUE=DURATION:PT1H
X-Robots-Tag:noindex
X-PUBLISHED-TTL:PT1H
BEGIN:VTIMEZONE
TZID:Europe/Berlin
BEGIN:DAYLIGHT
TZOFFSETFROM:+0100
TZOFFSETTO:+0200
TZNAME:CEST
DTSTART:20220327T010000
END:DAYLIGHT
BEGIN:STANDARD
TZOFFSETFROM:+0200
TZOFFSETTO:+0100
TZNAME:CET
DTSTART:20221030T010000
END:STANDARD
BEGIN:DAYLIGHT
TZOFFSETFROM:+0100
TZOFFSETTO:+0200
TZNAME:CEST
DTSTART:20230326T010000
END:DAYLIGHT
BEGIN:STANDARD
TZOFFSETFROM:+0200
TZOFFSETTO:+0100
TZNAME:CET
DTSTART:20231029T010000
END:STANDARD
BEGIN:DAYLIGHT
TZOFFSETFROM:+0100
TZOFFSETTO:+0200
TZNAME:CEST
DTSTART:20240331T010000
END:DAYLIGHT
BEGIN:STANDARD
TZOFFSETFROM:+0200
TZOFFSETTO:+0100
TZNAME:CET
DTSTART:20241027T010000
END:STANDARD
END:VTIMEZONE
BEGIN:VEVENT
DTSTART;TZID=Europe/Berlin:20230824T193000
DTEND;TZID=Europe/Berlin:20230824T223000
DTSTAMP:20260425T013109
CREATED:20230117T194444Z
LAST-MODIFIED:20230724T144154Z
UID:3634-1692905400-1692916200@taf.theater
SUMMARY:SOMMER-REIHE: WOLFGANG NIEDECKEN NIEDECKEN liest & singt BOB DYLAN - Am Piano: Mike Herting
DESCRIPTION:Es gibt sicher keinen anderen deutschen Musiker\, der eine solche Nähe zu Bob Dylan\nhat\, wie Wolfgang Niedecken. Seit Jahrzehnten prägt er mit seiner Band BAP und als\nSolomusiker die deutschsprachige Rockmusik und setzt sich dabei immer wieder mit\ndem Werk Bob Dylans auseinander.\nIm Jahr 2017 ist Niedecken im Auftrag des TV Senders ARTE zu einer Reise auf den\nSpuren von Bob Dylan aufgebrochen. Kreuz und quer durch die USA\, wo er mit vielen\nehemaligen Weggefährten\, Fotografen\, Journalisten und Musikern gesprochen hat\, die\nkompetent über „Bob Dylan`s Amerika“ (so der Arbeitstitel) Auskunft geben konnten.\nSein Buch handelt von dieser Reise. Er schreibt über Querverbindungen zu seiner\neigenen Biographie und die Berührungspunkte mit der Geschichte seiner mittlerweile\nseit 45 Jahren existierenden Band BAP. Vor allen Dingen erzählt er von dem großen\nEinfluss\, den Bob Dylan auf sein eigenes Werk als Songwriter hatte und weiterhin hat.\nAus seinem\, im Plauderton geschriebenen roadmovieartigen Buch\, liest Niedecken\nausgewählte Passagen und spielt die in Frage kommenden Lieder dazu. Man darf\ngespannt sein\, ob die jeweiligen Geschichten auf einen Dylan oder einen BAP Song\nrauslaufen. Manchmal wechselt er auch mitten im Song\, vom Englischen ins Kölsche\,\nweil es von vielen Liedern eigene Cover-Versionen gibt.
URL:https://taf.theater/termin/sommerreihe-2023-wolfgang-niedecken-niedeckens-dylanreise/
LOCATION:Konzertmuschel der Trinkkuranlage
CATEGORIES:Sommer-Reihe (open-air)
ATTACH;FMTTYPE=image/webp:https://taf.theater/wp-content/uploads/17.08SR.webp
ORGANIZER;CN="Fachdienst Kultur und Sport":MAILTO:kulturamt@bad-nauheim.de
END:VEVENT
END:VCALENDAR