BEGIN:VCALENDAR
VERSION:2.0
PRODID:-//Theater Alte Feuerwache e. V. - ECPv6.15.19//NONSGML v1.0//EN
CALSCALE:GREGORIAN
METHOD:PUBLISH
X-WR-CALNAME:Theater Alte Feuerwache e. V.
X-ORIGINAL-URL:https://taf.theater
X-WR-CALDESC:Veranstaltungen für Theater Alte Feuerwache e. V.
REFRESH-INTERVAL;VALUE=DURATION:PT1H
X-Robots-Tag:noindex
X-PUBLISHED-TTL:PT1H
BEGIN:VTIMEZONE
TZID:Europe/Berlin
BEGIN:DAYLIGHT
TZOFFSETFROM:+0100
TZOFFSETTO:+0200
TZNAME:CEST
DTSTART:20230326T010000
END:DAYLIGHT
BEGIN:STANDARD
TZOFFSETFROM:+0200
TZOFFSETTO:+0100
TZNAME:CET
DTSTART:20231029T010000
END:STANDARD
BEGIN:DAYLIGHT
TZOFFSETFROM:+0100
TZOFFSETTO:+0200
TZNAME:CEST
DTSTART:20240331T010000
END:DAYLIGHT
BEGIN:STANDARD
TZOFFSETFROM:+0200
TZOFFSETTO:+0100
TZNAME:CET
DTSTART:20241027T010000
END:STANDARD
BEGIN:DAYLIGHT
TZOFFSETFROM:+0100
TZOFFSETTO:+0200
TZNAME:CEST
DTSTART:20250330T010000
END:DAYLIGHT
BEGIN:STANDARD
TZOFFSETFROM:+0200
TZOFFSETTO:+0100
TZNAME:CET
DTSTART:20251026T010000
END:STANDARD
END:VTIMEZONE
BEGIN:VEVENT
DTSTART;TZID=Europe/Berlin:20240822T200000
DTEND;TZID=Europe/Berlin:20240822T200000
DTSTAMP:20260424T103206
CREATED:20240129T115649Z
LAST-MODIFIED:20240129T115649Z
UID:4708-1724356800-1724356800@taf.theater
SUMMARY:Stoppok - Teufelsküche
DESCRIPTION:Energiekrise. Welche Energiekrise? Stoppok war\, ist und bleibt eine Ausnahmeerscheinung auf der Bühne – ein Meister des magischen Moments. Der Hamburger mit der Ruhrpott-Prägung liebt die Energie des authentischen Augenblicks\, er mag’s live und lebendig\, er ist ein hinreißender Entertainer und einmaliger Singersongwriter\, wie es ihn in diesem Lande kein zweites Mal gibt. Risiko und Spontanität zeichnen ihn aus\, aus Konzertsälen werden Intensivstationen voller Überraschungen und Improvisation. \nMit seinem 20. Studioalbum gerät Stoppok nun in „Teufelsküche“ (Glitterhouse). Es ist angerichtet:\nNach seinem jüngsten Chart-Erfolg „Jubel“ (das Album stieg zu Beginn der Pandemie 2020 auf Platz 4 der deutschen Charts ein) präsentiert Stoppok mit seiner souveränen Band die neuen Songs jetzt auf Tournee. „Teufelsküche“ ist ein kraftvolles Statement geworden\, oszillierend\nzwischen Reverenzen an Dylan und Solomon Burke\, analog und direkt eingespielt. Stoppoks\nmusikalische Antwort auf die allgegenwärtige Seuche des digitalen Überschminkens. Der Sänger weiß\, dass sich Denken und Glückssachen nicht im Wege stehen. Besonders\, wenn Mensch und Natur zu erhöhten Temperaturen neigen. Der Weg zur Hölle ist bekanntlich mit guten Vorsätzen gepflastert. Oder mit guten Songs. \nMit seinem 20. Studioalbum gerät er nun in „Teufelsküche“ (Glitterhouse). Es ist angerichtet: Nach seinem jüngsten Chart-Erfolg „Jubel“ (das Album stieg zu Beginn der Pandemie 2020 auf Platz 4 der deutschen Charts ein) präsentiert Stoppok mit seiner souveränen Band die neuen Songs nun auf Tournee. „Teufelsküche“ ist ein kraftvolles Statement geworden\, oszillierend zwischen Reverenzen an Dylan und Solomon Burke\, analog und direkt eingespielt. Stoppoks musikalische Antwort auf die allgegenwärtige Seuche des digitalen Überschminkens. Der Sänger weiß\, dass sich Denken und Glückssachen nicht im Wege stehen. Besonders\, wenn Mensch und Natur zu erhöhten Temperaturen neigen. Der Weg zur Hölle ist bekanntlich mit guten Vorsätzen gepflastert. Oder mit guten Songs. \nDas Open Air-Konzert ist Teil der Bad Nauheimer Sommer-Reihe\, die während der Sommerferien in Hessen jeden Donnerstag stattfindet. Dann treten Weltklassekünstler/innen und Newcomer auf der Freilichtbühne in der Trinkkuranlage auf und sorgen für Urlaubsgefühl im Rhein-Main-Gebiet.
URL:https://taf.theater/termin/stoppok-teufelskueche/
LOCATION:Trinkkuranlage
CATEGORIES:Sommer-Reihe (open-air)
ORGANIZER;CN="Fachdienst Kultur und Sport":MAILTO:kulturamt@bad-nauheim.de
END:VEVENT
END:VCALENDAR