BEGIN:VCALENDAR
VERSION:2.0
PRODID:-//Theater Alte Feuerwache e. V. - ECPv6.15.19//NONSGML v1.0//EN
CALSCALE:GREGORIAN
METHOD:PUBLISH
X-WR-CALNAME:Theater Alte Feuerwache e. V.
X-ORIGINAL-URL:https://taf.theater
X-WR-CALDESC:Veranstaltungen für Theater Alte Feuerwache e. V.
REFRESH-INTERVAL;VALUE=DURATION:PT1H
X-Robots-Tag:noindex
X-PUBLISHED-TTL:PT1H
BEGIN:VTIMEZONE
TZID:Europe/Berlin
BEGIN:DAYLIGHT
TZOFFSETFROM:+0100
TZOFFSETTO:+0200
TZNAME:CEST
DTSTART:20210328T010000
END:DAYLIGHT
BEGIN:STANDARD
TZOFFSETFROM:+0200
TZOFFSETTO:+0100
TZNAME:CET
DTSTART:20211031T010000
END:STANDARD
BEGIN:DAYLIGHT
TZOFFSETFROM:+0100
TZOFFSETTO:+0200
TZNAME:CEST
DTSTART:20220327T010000
END:DAYLIGHT
BEGIN:STANDARD
TZOFFSETFROM:+0200
TZOFFSETTO:+0100
TZNAME:CET
DTSTART:20221030T010000
END:STANDARD
BEGIN:DAYLIGHT
TZOFFSETFROM:+0100
TZOFFSETTO:+0200
TZNAME:CEST
DTSTART:20230326T010000
END:DAYLIGHT
BEGIN:STANDARD
TZOFFSETFROM:+0200
TZOFFSETTO:+0100
TZNAME:CET
DTSTART:20231029T010000
END:STANDARD
END:VTIMEZONE
BEGIN:VEVENT
DTSTART;TZID=Europe/Berlin:20220627T193000
DTEND;TZID=Europe/Berlin:20220627T210000
DTSTAMP:20260425T131640
CREATED:20220406T173949Z
LAST-MODIFIED:20220521T151727Z
UID:2671-1656358200-1656363600@taf.theater
SUMMARY:Vortragsreihe GESCHICHTE: China - Reich der Mitte
DESCRIPTION:Dr. Thomas Weyrauch referiert über das Thema: Zwischen zwei Revolutionen (1911 und 1949): Suche nach einem neuen China. \nNicht nur Kaishek oder Mao Zedong bestimmten die Geschichte des Landes\, sondern auch Wirtschaftslenker\, Philosophen\, Juristen und Künstler. Selbst Modegeschichte wurde geschrieben! Die Kehrseite dieses Zeitraums eines Modernisierungsschubs und hoher Erwartungen waren Unruhen\, die Zersplitterung des Landes. Bürgerkriege und die Invasion Japans. War die Republik China nach dem Zweiten Weltkrieg schließlich auf einem guten Weg zu voller Souveränität\, Wohlstand\, sozialer Gerechtigkeit und Demokratie\, so machte Maos Revolution im Jahr 1949 alle Etappenziele zunichte…..
URL:https://taf.theater/termin/vortragsreihe-geschichte-china-reich-der-mitte-zwischen-zwei-revolutionen-1911-und-1949-suche-nach-einem-neuen-china/
LOCATION:Großer Saal in der Trinkkuranlage\, Ernst-Ludwig-Ring 1\, Bad Nauheim\, Hessen\, 61231\, Deutschland
CATEGORIES:Vortragsreihe Geschichte
ATTACH;FMTTYPE=image/webp:https://taf.theater/wp-content/uploads/Gwesc-hicjte-Weihrauch.webp
ORGANIZER;CN="Fachdienst Kultur und Sport":MAILTO:kulturamt@bad-nauheim.de
END:VEVENT
END:VCALENDAR