BEGIN:VCALENDAR
VERSION:2.0
PRODID:-//Theater Alte Feuerwache e. V. - ECPv6.15.19//NONSGML v1.0//EN
CALSCALE:GREGORIAN
METHOD:PUBLISH
X-WR-CALNAME:Theater Alte Feuerwache e. V.
X-ORIGINAL-URL:https://taf.theater
X-WR-CALDESC:Veranstaltungen für Theater Alte Feuerwache e. V.
REFRESH-INTERVAL;VALUE=DURATION:PT1H
X-Robots-Tag:noindex
X-PUBLISHED-TTL:PT1H
BEGIN:VTIMEZONE
TZID:Europe/Berlin
BEGIN:DAYLIGHT
TZOFFSETFROM:+0100
TZOFFSETTO:+0200
TZNAME:CEST
DTSTART:20210328T010000
END:DAYLIGHT
BEGIN:STANDARD
TZOFFSETFROM:+0200
TZOFFSETTO:+0100
TZNAME:CET
DTSTART:20211031T010000
END:STANDARD
BEGIN:DAYLIGHT
TZOFFSETFROM:+0100
TZOFFSETTO:+0200
TZNAME:CEST
DTSTART:20220327T010000
END:DAYLIGHT
BEGIN:STANDARD
TZOFFSETFROM:+0200
TZOFFSETTO:+0100
TZNAME:CET
DTSTART:20221030T010000
END:STANDARD
BEGIN:DAYLIGHT
TZOFFSETFROM:+0100
TZOFFSETTO:+0200
TZNAME:CEST
DTSTART:20230326T010000
END:DAYLIGHT
BEGIN:STANDARD
TZOFFSETFROM:+0200
TZOFFSETTO:+0100
TZNAME:CET
DTSTART:20231029T010000
END:STANDARD
END:VTIMEZONE
BEGIN:VEVENT
DTSTART;TZID=Europe/Berlin:20220321T193000
DTEND;TZID=Europe/Berlin:20220321T210000
DTSTAMP:20260425T183052
CREATED:20220316T214804Z
LAST-MODIFIED:20220318T083940Z
UID:2498-1647891000-1647896400@taf.theater
SUMMARY:Vortragsreihe Geschichte: China - Reich der Mitte
DESCRIPTION:Referent: Herr Professor Dr. Cord Eberspächer \nWer das China von heute verstehen will\, muss auf Chinas Geschichte zurückblicken. Das moderne China\, das über viele schmerzhafte Umwälzungen zu dem Land – ob Republik oder Volksrepublik – geworden ist\, mit dem wir es heute zu tun haben\, ist aber nicht denkbar ohne das Kaiserreich\, das in der Revolution 1911 sein Ende fand. Das China des 20. und 21. Jahrhunderts kann nicht verleugnen\, dass es auf den Voraussetzungen geschaffen wurde\, die in den Jahrhunderten zuvor entstanden sind. Die Ming standen für eine Renaissance des chinesischen Reichs und sorgten für Stabilität nach der Mongolenherrschaft. Sie schufen und reaktivierten die Institutionen\, auf denen das Kaiserreich ruhte und blickten mit den Expeditionen unter Zheng He weit über den eigenen Tellerrand hinaus. Die Qing wiederum sind wohl eine der faszinierendsten Dynastien der chinesischen Geschichte. Sie brachten erst das China der Ming unter ihre Herrschaft\, expandierten im 18. Jahrhundert nach Zentralasien und schufen damit das Imperium\, das bis heute den Bezugsrahmen für das chinesische Staatsgebiet bildet. Dabei waren die Qing bemerkenswert flexibel\, in Austausch und Konfrontation mit Europa suchte China nach der richtigen Balance zwischen Lernprozess und Abgrenzung. Vor den Katastrophen des 19. Jahrhunderts war China eine Weltmacht\, die Europa gehörigen Respekt einflösste\, so wusste schon der Zedler\, das erste deutsche Universallexikon\, dass man es im Osten mit einem Reich von einer „ganz entsetzlichen Größe“ zu tun hatte. \nDas Porträt des Kangxi-Kaisers ist in den 1690er Jahren entstanden und zeigt den Herrscher als Gelehrten inmitten von Büchern. Kangxi regierte China über 60 Jahre\, er etablierte die Herrschaft der Qing über ganz China und begann\, über die Grenzen des Reiches der Ming hinaus zu expandieren. Er war aufgeschlossen für den Wissensaustausch mit Europa und ließ die erste Geographie Chinas nach den neuesten Methoden der Zeit erstellen. Als der Papst den Jesuiten am chinesischen Kaiserhof die Rücksicht auf chinesische Riten 1715 untersagte\, verbot Kangxi sämtliche christlichen Missionen in seinem Reich.
URL:https://taf.theater/termin/vortragsreihe-geschichte-china-reich-der-mitte/
LOCATION:Großer Saal in der Trinkkuranlage\, Ernst-Ludwig-Ring 1\, Bad Nauheim\, Hessen\, 61231\, Deutschland
CATEGORIES:Vortragsreihe Geschichte
ORGANIZER;CN="Fachdienst Kultur und Sport":MAILTO:kulturamt@bad-nauheim.de
END:VEVENT
END:VCALENDAR