BEGIN:VCALENDAR
VERSION:2.0
PRODID:-//Theater Alte Feuerwache e. V. - ECPv6.15.19//NONSGML v1.0//EN
CALSCALE:GREGORIAN
METHOD:PUBLISH
X-WR-CALNAME:Theater Alte Feuerwache e. V.
X-ORIGINAL-URL:https://taf.theater
X-WR-CALDESC:Veranstaltungen für Theater Alte Feuerwache e. V.
REFRESH-INTERVAL;VALUE=DURATION:PT1H
X-Robots-Tag:noindex
X-PUBLISHED-TTL:PT1H
BEGIN:VTIMEZONE
TZID:Europe/Berlin
BEGIN:DAYLIGHT
TZOFFSETFROM:+0100
TZOFFSETTO:+0200
TZNAME:CEST
DTSTART:20220327T010000
END:DAYLIGHT
BEGIN:STANDARD
TZOFFSETFROM:+0200
TZOFFSETTO:+0100
TZNAME:CET
DTSTART:20221030T010000
END:STANDARD
BEGIN:DAYLIGHT
TZOFFSETFROM:+0100
TZOFFSETTO:+0200
TZNAME:CEST
DTSTART:20230326T010000
END:DAYLIGHT
BEGIN:STANDARD
TZOFFSETFROM:+0200
TZOFFSETTO:+0100
TZNAME:CET
DTSTART:20231029T010000
END:STANDARD
BEGIN:DAYLIGHT
TZOFFSETFROM:+0100
TZOFFSETTO:+0200
TZNAME:CEST
DTSTART:20240331T010000
END:DAYLIGHT
BEGIN:STANDARD
TZOFFSETFROM:+0200
TZOFFSETTO:+0100
TZNAME:CET
DTSTART:20241027T010000
END:STANDARD
END:VTIMEZONE
BEGIN:VEVENT
DTSTART;TZID=Europe/Berlin:20230424T193000
DTEND;TZID=Europe/Berlin:20230424T210000
DTSTAMP:20260425T153712
CREATED:20230117T190619Z
LAST-MODIFIED:20230118T151709Z
UID:3609-1682364600-1682370000@taf.theater
SUMMARY:Vortragsreihe Geschichte\, Das mittelalterliche Italien zwischen Kaiser\, Papst und Kommunen
DESCRIPTION:Vortrag im Rahmen der historischen Vortragsreihe 2023 „Italien – Schlaglichter seiner Geschichte“. \nReferent: Prof. Dr. Stefan Tebruck\, Justus-Liebig-Universität Gießen
URL:https://taf.theater/termin/vortragsreihe-geschichte-das-mittelalterliche-italien-zwischen-kaiser-papst-und-kommunen/
LOCATION:Kleiner Saal in der Trinkkuranlage\, Ernst-Ludwig-Ring 1\, Bad Nauheim\, 61231
CATEGORIES:Vortragsreihe Geschichte
ATTACH;FMTTYPE=image/webp:https://taf.theater/wp-content/uploads/23.01.webp
ORGANIZER;CN="Fachdienst Kultur und Sport":MAILTO:kulturamt@bad-nauheim.de
GEO:50.3629148;8.7410605
X-APPLE-STRUCTURED-LOCATION;VALUE=URI;X-ADDRESS=Kleiner Saal in der Trinkkuranlage Ernst-Ludwig-Ring 1 Bad Nauheim 61231;X-APPLE-RADIUS=500;X-TITLE=Ernst-Ludwig-Ring 1:geo:8.7410605,50.3629148
END:VEVENT
END:VCALENDAR