BEGIN:VCALENDAR
VERSION:2.0
PRODID:-//Theater Alte Feuerwache e. V. - ECPv6.15.19//NONSGML v1.0//EN
CALSCALE:GREGORIAN
METHOD:PUBLISH
X-WR-CALNAME:Theater Alte Feuerwache e. V.
X-ORIGINAL-URL:https://taf.theater
X-WR-CALDESC:Veranstaltungen für Theater Alte Feuerwache e. V.
REFRESH-INTERVAL;VALUE=DURATION:PT1H
X-Robots-Tag:noindex
X-PUBLISHED-TTL:PT1H
BEGIN:VTIMEZONE
TZID:Europe/Berlin
BEGIN:DAYLIGHT
TZOFFSETFROM:+0100
TZOFFSETTO:+0200
TZNAME:CEST
DTSTART:20230326T010000
END:DAYLIGHT
BEGIN:STANDARD
TZOFFSETFROM:+0200
TZOFFSETTO:+0100
TZNAME:CET
DTSTART:20231029T010000
END:STANDARD
BEGIN:DAYLIGHT
TZOFFSETFROM:+0100
TZOFFSETTO:+0200
TZNAME:CEST
DTSTART:20240331T010000
END:DAYLIGHT
BEGIN:STANDARD
TZOFFSETFROM:+0200
TZOFFSETTO:+0100
TZNAME:CET
DTSTART:20241027T010000
END:STANDARD
BEGIN:DAYLIGHT
TZOFFSETFROM:+0100
TZOFFSETTO:+0200
TZNAME:CEST
DTSTART:20250330T010000
END:DAYLIGHT
BEGIN:STANDARD
TZOFFSETFROM:+0200
TZOFFSETTO:+0100
TZNAME:CET
DTSTART:20251026T010000
END:STANDARD
END:VTIMEZONE
BEGIN:VEVENT
DTSTART;TZID=Europe/Berlin:20240615T090000
DTEND;TZID=Europe/Berlin:20240615T213000
DTSTAMP:20260424T122238
CREATED:20240503T143613Z
LAST-MODIFIED:20240503T181458Z
UID:4843-1718442000-1718487000@taf.theater
SUMMARY:Wetterauer Schultheatertage 2024
DESCRIPTION:Wetterauer Schultheatertag in der Zeit vom 14.bis 16.06.2024 in der Trinkkuranlage\, werden wie alle Jahre zuvor durch das Theater alte Feuerwache angeboten. \nDieses Jahr nehmen insgesamt 9 (neun) Schulen an der Veranstaltung teil. \nDie Freunde des TAF übernehmen wieder die Versorgung von Teilnehmern und Helfern. Die Getränke werden über die neue Theke im Foyer ausgegeben. \nThekenhelfer der Freunde des  TAF e.V. melden sich bitte wie üblich über den Kalender an oder melden sich unmittelbar bei Peter Schulze \nmobil: 0173 3755689 oder per Mail  unter  P.Schulze@taf.theater
URL:https://taf.theater/termin/wetterauer-schultheatertage-2024-vom-14-bis-16-06-2024/
LOCATION:Trinkkuranlage
CATEGORIES:TAF-Veranstaltung
ORGANIZER;CN="Theater Alte Feuerwache e. V.":MAILTO:info@taf.theater
END:VEVENT
END:VCALENDAR