BEGIN:VCALENDAR
VERSION:2.0
PRODID:-//Theater Alte Feuerwache e. V. - ECPv6.15.19//NONSGML v1.0//EN
CALSCALE:GREGORIAN
METHOD:PUBLISH
X-ORIGINAL-URL:https://taf.theater
X-WR-CALDESC:Veranstaltungen für Theater Alte Feuerwache e. V.
REFRESH-INTERVAL;VALUE=DURATION:PT1H
X-Robots-Tag:noindex
X-PUBLISHED-TTL:PT1H
BEGIN:VTIMEZONE
TZID:Europe/Berlin
BEGIN:DAYLIGHT
TZOFFSETFROM:+0100
TZOFFSETTO:+0200
TZNAME:CEST
DTSTART:20210328T010000
END:DAYLIGHT
BEGIN:STANDARD
TZOFFSETFROM:+0200
TZOFFSETTO:+0100
TZNAME:CET
DTSTART:20211031T010000
END:STANDARD
BEGIN:DAYLIGHT
TZOFFSETFROM:+0100
TZOFFSETTO:+0200
TZNAME:CEST
DTSTART:20220327T010000
END:DAYLIGHT
BEGIN:STANDARD
TZOFFSETFROM:+0200
TZOFFSETTO:+0100
TZNAME:CET
DTSTART:20221030T010000
END:STANDARD
BEGIN:DAYLIGHT
TZOFFSETFROM:+0100
TZOFFSETTO:+0200
TZNAME:CEST
DTSTART:20230326T010000
END:DAYLIGHT
BEGIN:STANDARD
TZOFFSETFROM:+0200
TZOFFSETTO:+0100
TZNAME:CET
DTSTART:20231029T010000
END:STANDARD
BEGIN:DAYLIGHT
TZOFFSETFROM:+0100
TZOFFSETTO:+0200
TZNAME:CEST
DTSTART:20240331T010000
END:DAYLIGHT
BEGIN:STANDARD
TZOFFSETFROM:+0200
TZOFFSETTO:+0100
TZNAME:CET
DTSTART:20241027T010000
END:STANDARD
END:VTIMEZONE
BEGIN:VEVENT
DTSTART;TZID=Europe/Berlin:20231126T160000
DTEND;TZID=Europe/Berlin:20231126T180000
DTSTAMP:20260424T223824
CREATED:20231122T070610Z
LAST-MODIFIED:20231122T070633Z
UID:10001162-1701014400-1701021600@taf.theater
SUMMARY:Die XII Cornisten - Galakonzert - Cinemasounds
DESCRIPTION:Galakonzert – CinemaSounds \nDie Deutsche Philharmonie Merck ist die musikalische Heimat der „XII Cornisten“\, welche 2015 von Merlin Nowozamsky gegründet wurden. In ihrer außergewöhnlichen Besetzung\, die mit dem signifikanten Klang des Horns verbunden ist\, präsentieren die „XII Cornisten“ ein eindrucksvolles Programm durch die unendlichen Weiten der Filmmusik. Unter dem Motto „Cinemasounds“ erklingen in den Konzerten Soundtracks zu legendären Kinofilmen\, wie „Robin Hood“\, „Crimson Tide“\, „Avengers“ oder „Skyfall“. Das Hornensemble ermöglicht dem Publikum die charakteristischen Bilder des Soundtracks vor dem inneren Auge entstehen zu lassen. Einprägsame Hollywoodmotive\, übertragen auf einen grandiosen sinfonischen Bläsersound. \nProgramm Galakonzert:\nAvengers (Alan Silvestri)\nJurrasic Park (John Williams)\nDas Boot (Klaus Doldinger)\nPearl Harbor (Hans Zimmer/Faith Hill)\nFate of the Gods (Steven Reineke)\nRobin Hood (Michael Kamen)\nSkyfall (Paul Epworth/Adele)\nDragons (James Newton Howard)\nMoments of Morricone (Ennio Morricone) \nLeitung: Frederic Mörth\nmit Moderation
URL:https://taf.theater/termin/die-xii-cornisten-galakonzert-cinemasounds/
LOCATION:Großer Saal in der Trinkkuranlage\, Ernst-Ludwig-Ring 1\, Bad Nauheim\, Hessen\, 61231\, Deutschland
ATTACH;FMTTYPE=image/jpeg:https://taf.theater/wp-content/uploads/Hornisten.jpg
END:VEVENT
BEGIN:VEVENT
DTSTART;TZID=Europe/Berlin:20231126T110000
DTEND;TZID=Europe/Berlin:20231126T130000
DTSTAMP:20260424T223824
CREATED:20231122T070504Z
LAST-MODIFIED:20231122T070653Z
UID:10001161-1700996400-1701003600@taf.theater
SUMMARY:Die XII Cornisten - Kinderkonzert - Filmmusik
DESCRIPTION:Kinderkonzert – Filmmusik \nDie Deutsche Philharmonie Merck ist die musikalische Heimat der „XII Cornisten“\, welche 2015 von Merlin Nowozamsky gegründet wurden. In ihrer außergewöhnlichen Besetzung\, die mit dem signifikanten Klang des Horns verbunden ist\, präsentieren die „XII Cornisten“ ein eindrucksvolles Programm durch die unendlichen Weiten der Filmmusik. Unter dem Motto „Cinemasounds“ erklingen in den Konzerten Soundtracks zu legendären Kinofilmen\, wie „Robin Hood“\, „Crimson Tide“\, „Avengers“ oder „Skyfall“. Das Hornensemble ermöglicht dem Publikum die charakteristischen Bilder des Soundtracks vor dem inneren Auge entstehen zu lassen. Einprägsame Hollywoodmotive\, übertragen auf einen grandiosen sinfonischen Bläsersound. \nProgramm Kinderkonzert:\nverschiedene Auszüge aus der Welt der Filmmusik \nLeitung: Frederic Mörth\nmit Moderation
URL:https://taf.theater/termin/die-xii-cornisten-kinderkonzert-filmmusik/
LOCATION:Großer Saal in der Trinkkuranlage\, Ernst-Ludwig-Ring 1\, Bad Nauheim\, Hessen\, 61231\, Deutschland
ATTACH;FMTTYPE=image/jpeg:https://taf.theater/wp-content/uploads/Hornisten.jpg
END:VEVENT
BEGIN:VEVENT
DTSTART;TZID=Europe/Berlin:20220220T160000
DTEND;TZID=Europe/Berlin:20220220T180000
DTSTAMP:20260424T223824
CREATED:20220213T114706Z
LAST-MODIFIED:20220215T161627Z
UID:10000633-1645372800-1645380000@taf.theater
SUMMARY:Apollo und Amadeus
DESCRIPTION:Brentano Orchester Frankfurt\nKarin Hendel (Leitung)\nNami Ejiri (Klavier) \nMit einem außergewöhnlichen und beziehungsreichen Programm stellen sich die Pianistin Nami Ejiri\, das Brentano Orchester Frankfurt und die Dirigentin Karin Hendel vor. Zum Thema haben sie sich Apollo\, den Gott des Lichts\, der Reinheit und der Künste auserkoren.\nImmer wieder haben sich Musikschaffende mit dieser Figur auseinandergesetzt\, so auch der gerade einmal 11-jährige Wolfgang Amadeus Mozart in seinem Singspiel Apollo und Hyazinth. Der Musik des Salzburger Wunderkindes gegenübergestellt werden zwei musikalische Widmungen an die mythologische Gottheit\, die eine vom Russen Igor Strawinsky und die andere vom Briten Benjamin Britten.\nAls Solistin konnte die japanische Pianistin Nami Ejiri gewonnen werden\, die 1998 nach Deutschland übersiedelte\, um ihre Ausbildung bei dem legendären Klavierpädagogen Lev Natochenny in Frankfurt am Main zu vollenden. In der Mainmetropole wirkt Ejiri inzwischen selbst als Hochschuldozentin. Zahlreiche internationale Wettbewerbspreise öffneten ihr die Türen für eine weltweite Konzerttätigkeit einschließlich solistischer Auftritte mit großen Orchestern in Warschau\, Tokyo\, Mexiko City\, Lissabon u.v.a.\nDie Dirigentin Karin Hendel wirkte viele Jahre als Geigerin im hr-Sinfonieorchester\, bevor sie sich ganz der Orchesterleitung widmete. Sie arbeitete u.a. mit der „Filarmonia Brașov“\, dem „Sinfonieorchester Pazardjik“\, der „Berlin Sinfonietta“\, dem „St. Petersburg Symphony Orchestra“ und dem „Kuopio Kaupunginorkesteri“ sowie der „Helsinki Sinfonietta“ in Finnland zusammen. \nDas Brentano-Ensemble Frankfurt besteht seit dem Jahr 2011. Streicher des hr-Sinfonieorchesters bilden den Kern des Ensembles\, welches sich auf groß besetzte Streicherkammermusik (Quintett bis Oktett) spezialisiert hat.\nDas Ensemble hat sich mittlerweile ein umfangreiches Repertoire dieser Werke erarbeitet und wird für einige Projekte durch Bläser ergänzt. So entstehen interessante und spannende Programme\, die sowohl dem Publikum als auch den Musikern immer wieder neue musikalische Erlebnisse bieten. \nProgramm \nWolfgang A. Mozart: Introduktion zu Apollo und Hyazinth KV 38\nIgor Strawinsky: Apollo Musagète\nWolfgang A. Mozart: Klavierkonzert Nr. 14 Es-Dur KV 449\nBenjamin Britten: Young Apollo op. 16
URL:https://taf.theater/termin/apollo-und-amadeus/
LOCATION:Großer Saal in der Trinkkuranlage\, Ernst-Ludwig-Ring 1\, Bad Nauheim\, Hessen\, 61231\, Deutschland
CATEGORIES:Konzerte
ATTACH;FMTTYPE=image/jpeg:https://taf.theater/wp-content/uploads/event-other-0.jpeg
END:VEVENT
END:VCALENDAR